Workbook

Sheet Week SetUp
A1: Junior Week SetUp page
A2: DO NOT DELETE THIS PAGE !!!
A4: FILL IN ALL GREEN FIELDS BELOW
A5: Tournament Title (full name)
E6: 2005 v1.0
A7: Event Category | D7: Download from: | E7: www.tennisofficial.com
A8: ITF Junior Circuit
A9: Week of (Monday). Use format, 15/01/2003 (day/month/year) | C9: City, Country | D9: Group | E9: ITF Referee
A11: ITF Tournament Calendar designation
A15: Copyright © ITF Limited, trading as the International Tennis Federation, 2005
A16: All rights reserved. Reproduction of this work in whole or in part, without the prior permission of the ITF is prohibited.
A17: Inquiries and comments to: | B17: forms@itftennis.com

Sheet Boys Si Main Draw Sign-in sheet
A1: ='Week SetUp'!$A$6 -> 0 | F1: BOYS SINGLES MAIN DRAW SIGN-IN
A2: ='Week SetUp'!$A$8 -> ITF Junior Circuit
A3: Week of | C3: City, Country | F3: Group | G3: Tourn. ID | J3: ITF Referee | K3: ITF Referee's signature
A4: ='Week SetUp'!$A$10 -> 0 | C4: ='Week SetUp'!$C$10 -> 0 | F4: ='Week SetUp'!$D$10 -> 0 | G4: ='Week SetUp'!$A$12 -> 0 | J4: ='Week SetUp'!$E$10 -> 0
C5: Day | D5: Date | F5: Time | G5: Place
A6: Sign-in deadline:
A7: Line | B7: Family name | C7: First name | D7: Nat. | E7: Date of birth Day/Mth/Yr | F7: Player signature | G7: Player hotel or Contact number | H7: On Acc.List Y/N | I7: ITF18 Rank | J7: Pro- Rank | K7: Other | P7: Accept status | Q7: Seed Pos | R7: Draw chip number
A8: 1
A9: 2
A10: 3
A11: 4
A12: 5
A13: 6
A14: 7
A15: 8
A16: 9
A17: 10
A18: 11
A19: 12
... A135: 128

Sheet Boys Si Main Draw Prep
A1: ='Week SetUp'!$A$6 -> 0 | D1: BOYS SINGLES MAIN DRAW
A2: ='Week SetUp'!$A$8 -> ITF Junior Circuit | D2: PREPARATION LIST
A3: DO NO DELETE THIS PAGE IF YOU ARE USING LINK-IN'S TO THE DRAW | O3: ITF Referee's signature | T3: Over 18 | U3: =YEAR($A$5)-18 -> 1882
A4: Week of | C4: City, Country | D4: Group | G4: Tourn. ID | J4: ITF Referee | T4: Under 13 | U4: =YEAR($A$5)-13 -> 1887
A5: ='Week SetUp'!$A$10 -> 0 | C5: ='Week SetUp'!$C$10 -> 0 | D5: ='Week SetUp'!$D$10 -> 0 | G5: ='Week SetUp'!$A$12 -> 0 | J5: ='Week SetUp'!$E$10 -> 0 | R5: =COUNTA(R7:R134) -> 0
A6: Line | B6: Family name | C6: First name | D6: Nat. | E6: Date of Birth yy/mm/dd(US) | F6: On Accept. list Yes | G6: Signed-in Yes | H6: ITF 18 Ranking | I6: Pro- Ranking | J6: Other ordering | M6: Seed Sort | O6: Accept status | P6: Seed Ranking | Q6: AccSort | R6: Seed Position
A7: 1 | M7: =IF(R7="",999,R7) -> 999 | Q7: =IF(O7="DA",1,IF(O7="WC",2,IF(O7="SE",3,IF(O7="Q",4,IF(O7="LL",5,999))))) -> 999
A8: 2 | M8: =IF(R8="",999,R8) -> 999 | Q8: =IF(O8="DA",1,IF(O8="WC",2,IF(O8="SE",3,IF(O8="Q",4,IF(O8="LL",5,999))))) -> 999
A9: 3 | M9: =IF(R9="",999,R9) -> 999 | Q9: =IF(O9="DA",1,IF(O9="WC",2,IF(O9="SE",3,IF(O9="Q",4,IF(O9="LL",5,999))))) -> 999
A10: 4 | M10: =IF(R10="",999,R10) -> 999 | Q10: =IF(O10="DA",1,IF(O10="WC",2,IF(O10="SE",3,IF(O10="Q",4,IF(O10="LL",5,999))))) -> 999
A11: 5 | M11: =IF(R11="",999,R11) -> 999 | Q11: =IF(O11="DA",1,IF(O11="WC",2,IF(O11="SE",3,IF(O11="Q",4,IF(O11="LL",5,999))))) -> 999
A12: 6 | M12: =IF(R12="",999,R12) -> 999 | Q12: =IF(O12="DA",1,IF(O12="WC",2,IF(O12="SE",3,IF(O12="Q",4,IF(O12="LL",5,999))))) -> 999
A13: 7 | M13: =IF(R13="",999,R13) -> 999 | Q13: =IF(O13="DA",1,IF(O13="WC",2,IF(O13="SE",3,IF(O13="Q",4,IF(O13="LL",5,999))))) -> 999
A14: 8 | M14: =IF(R14="",999,R14) -> 999 | Q14: =IF(O14="DA",1,IF(O14="WC",2,IF(O14="SE",3,IF(O14="Q",4,IF(O14="LL",5,999))))) -> 999
A15: 9 | M15: =IF(R15="",999,R15) -> 999 | Q15: =IF(O15="DA",1,IF(O15="WC",2,IF(O15="SE",3,IF(O15="Q",4,IF(O15="LL",5,999))))) -> 999
A16: 10 | M16: =IF(R16="",999,R16) -> 999 | Q16: =IF(O16="DA",1,IF(O16="WC",2,IF(O16="SE",3,IF(O16="Q",4,IF(O16="LL",5,999))))) -> 999
A17: 11 | M17: =IF(R17="",999,R17) -> 999 | Q17: =IF(O17="DA",1,IF(O17="WC",2,IF(O17="SE",3,IF(O17="Q",4,IF(O17="LL",5,999))))) -> 999
A18: 12 | M18: =IF(R18="",999,R18) -> 999 | Q18: =IF(O18="DA",1,IF(O18="WC",2,IF(O18="SE",3,IF(O18="Q",4,IF(O18="LL",5,999))))) -> 999
... A134: 128 | M134: =IF(R134="",999,R134) -> 999 | Q134: =IF(O134="DA",1,IF(O134="WC",2,IF(O134="SE",3,IF(O134="Q",4,IF(O134="LL",5,999))))) -> 999

Sheet Boys Si Main 16
A1: ='Week SetUp'!$A$6 -> 0 | J1: GIRLS SINGLES
A2: ='Week SetUp'!$A$8 -> ITF Junior Circuit | J2: MAIN DRAW (16)
A3: Week of | F3: City, Country | J3: Group | L3: Tourn. ID | Q3: ITF Referee
A4: ='Week SetUp'!$A$10 -> 0 | F4: ='Week SetUp'!$C$10 -> 0 | J4: ='Week SetUp'!$D$10 -> 0 | L4: ='Week SetUp'!$A$12 -> 0 | Q4: ='Week SetUp'!$E$10 -> 0
B5: St. | C5: Rank | D5: Seed | E5: Family Name | F5: First name | H5: Nationality | J5: 2nd Round | L5: Semifinals | N5: Final | P5: Winner
A7: 1 | B7: ΠΑΠΑΝΙΚΟΛΑΟΥ ΑΝΤΩΝΙΑ | C7: =IF($D7="","",VLOOKUP($D7,'Boys Si Main Draw Prep'!$A$7:$P$22,16)) | E7: =UPPER(IF($D7="","",VLOOKUP($D7,'Boys Si Main Draw Prep'!$A$7:$P$22,2))) | F7: =IF($D7="","",VLOOKUP($D7,'Boys Si Main Draw Prep'!$A$7:$P$22,3)) | H7: =IF($D7="","",VLOOKUP($D7,'Boys Si Main Draw Prep'!$A$7:$P$22,4)) | T7: =#REF! -> #REF!
H8: Umpire | J8: ΠΑΠΑΝΙΚΟΛΑΟΥ ΑΝΤΩΝΙΑ | T8: =#REF! -> #REF!
A9: 2 | B9: ΒΥΕ | C9: =IF($D9="","",VLOOKUP($D9,'Boys Si Main Draw Prep'!$A$7:$P$22,16)) | E9: =UPPER(IF($D9="","",VLOOKUP($D9,'Boys Si Main Draw Prep'!$A$7:$P$22,2))) | F9: =IF($D9="","",VLOOKUP($D9,'Boys Si Main Draw Prep'!$A$7:$P$22,3)) | H9: =IF($D9="","",VLOOKUP($D9,'Boys Si Main Draw Prep'!$A$7:$P$22,4)) | T9: =#REF! -> #REF!
J10: Umpire | L10: =UPPER(IF(OR(K10="a",K10="as"),J8,IF(OR(K10="b",K10="bs"),J12,))) | T10: =#REF! -> #REF!
A11: 3 | B11: ΒΕΡΕΜΗ ΒΑΛΕΡΙΑ | C11: =IF($D11="","",VLOOKUP($D11,'Boys Si Main Draw Prep'!$A$7:$P$22,16)) | E11: =UPPER(IF($D11="","",VLOOKUP($D11,'Boys Si Main Draw Prep'!$A$7:$P$22,2))) | F11: =IF($D11="","",VLOOKUP($D11,'Boys Si Main Draw Prep'!$A$7:$P$22,3)) | H11: =IF($D11="","",VLOOKUP($D11,'Boys Si Main Draw Prep'!$A$7:$P$22,4)) | T11: =#REF! -> #REF!
H12: Umpire | J12: =UPPER(IF(OR(I12="a",I12="as"),E11,IF(OR(I12="b",I12="bs"),E13,))) | T12: =#REF! -> #REF!
A13: 4 | B13: ΨΥΡΡΟΠΟΥΛΟΥ ΜΑΡΙΑ | C13: =IF($D13="","",VLOOKUP($D13,'Boys Si Main Draw Prep'!$A$7:$P$22,16)) | E13: =UPPER(IF($D13="","",VLOOKUP($D13,'Boys Si Main Draw Prep'!$A$7:$P$22,2))) | F13: =IF($D13="","",VLOOKUP($D13,'Boys Si Main Draw Prep'!$A$7:$P$22,3)) | H13: =IF($D13="","",VLOOKUP($D13,'Boys Si Main Draw Prep'!$A$7:$P$22,4)) | T13: =#REF! -> #REF!
L14: Umpire | N14: =UPPER(IF(OR(M14="a",M14="as"),L10,IF(OR(M14="b",M14="bs"),L18,))) | T14: =#REF! -> #REF!
A15: 5 | B15: ΔΡΑΚΟΠΟΥΛΟΥ ΑΝΑΣΤΑΣΙΑ | C15: =IF($D15="","",VLOOKUP($D15,'Boys Si Main Draw Prep'!$A$7:$P$22,16)) | E15: =UPPER(IF($D15="","",VLOOKUP($D15,'Boys Si Main Draw Prep'!$A$7:$P$22,2))) | F15: =IF($D15="","",VLOOKUP($D15,'Boys Si Main Draw Prep'!$A$7:$P$22,3)) | H15: =IF($D15="","",VLOOKUP($D15,'Boys Si Main Draw Prep'!$A$7:$P$22,4)) | T15: =#REF! -> #REF!
H16: Umpire | J16: ΔΡΑΚΟΠΟΥΛΟΥ ΑΝΑΣΤΑΣΙΑ | T16: =#REF! -> #REF!
A17: 6 | B17: ΒΥΕ | C17: =IF($D17="","",VLOOKUP($D17,'Boys Si Main Draw Prep'!$A$7:$P$22,16)) | E17: =UPPER(IF($D17="","",VLOOKUP($D17,'Boys Si Main Draw Prep'!$A$7:$P$22,2))) | F17: =IF($D17="","",VLOOKUP($D17,'Boys Si Main Draw Prep'!$A$7:$P$22,3)) | H17: =IF($D17="","",VLOOKUP($D17,'Boys Si Main Draw Prep'!$A$7:$P$22,4))
J18: Umpire | L18: =UPPER(IF(OR(K18="a",K18="as"),J16,IF(OR(K18="b",K18="bs"),J20,)))
A19: 7 | B19: ΒΥΕ | C19: =IF($D19="","",VLOOKUP($D19,'Boys Si Main Draw Prep'!$A$7:$P$22,16)) | E19: =UPPER(IF($D19="","",VLOOKUP($D19,'Boys Si Main Draw Prep'!$A$7:$P$22,2))) | F19: =IF($D19="","",VLOOKUP($D19,'Boys Si Main Draw Prep'!$A$7:$P$22,3)) | H19: =IF($D19="","",VLOOKUP($D19,'Boys Si Main Draw Prep'!$A$7:$P$22,4))
H20: Umpire | J20: ΚΑΡΑΚΟΥΡΤΗ ΑΓΓΕΛΙΚΗ
A21: 8 | B21: ΚΑΡΑΚΟΥΡΤΗ ΑΓΓΕΛΙΚΗ | C21: =IF($D21="","",VLOOKUP($D21,'Boys Si Main Draw Prep'!$A$7:$P$22,16)) | E21: =UPPER(IF($D21="","",VLOOKUP($D21,'Boys Si Main Draw Prep'!$A$7:$P$22,2))) | F21: =IF($D21="","",VLOOKUP($D21,'Boys Si Main Draw Prep'!$A$7:$P$22,3)) | H21: =IF($D21="","",VLOOKUP($D21,'Boys Si Main Draw Prep'!$A$7:$P$22,4))
N22: Umpire | P22: =UPPER(IF(OR(O22="a",O22="as"),N14,IF(OR(O22="b",O22="bs"),N30,)))
A23: 9 | B23: ΑΡΣΕΝΟΠΟΥΛΟΥ ΕΥΑΓΓΕΛΙΑ | C23: =IF($D23="","",VLOOKUP($D23,'Boys Si Main Draw Prep'!$A$7:$P$22,16)) | E23: =UPPER(IF($D23="","",VLOOKUP($D23,'Boys Si Main Draw Prep'!$A$7:$P$22,2))) | F23: =IF($D23="","",VLOOKUP($D23,'Boys Si Main Draw Prep'!$A$7:$P$22,3)) | H23: =IF($D23="","",VLOOKUP($D23,'Boys Si Main Draw Prep'!$A$7:$P$22,4))
H24: Umpire | J24: ΑΡΣΕΝΟΠΟΥΛΟΥ ΕΥΑΓΓΕΛΙΑ
A25: 10 | B25: ΒΥΕ | C25: =IF($D25="","",VLOOKUP($D25,'Boys Si Main Draw Prep'!$A$7:$P$22,16)) | E25: =UPPER(IF($D25="","",VLOOKUP($D25,'Boys Si Main Draw Prep'!$A$7:$P$22,2))) | F25: =IF($D25="","",VLOOKUP($D25,'Boys Si Main Draw Prep'!$A$7:$P$22,3)) | H25: =IF($D25="","",VLOOKUP($D25,'Boys Si Main Draw Prep'!$A$7:$P$22,4))
J26: Umpire | L26: =UPPER(IF(OR(K26="a",K26="as"),J24,IF(OR(K26="b",K26="bs"),J28,)))
A27: 11 | B27: ΒΥΕ | C27: =IF($D27="","",VLOOKUP($D27,'Boys Si Main Draw Prep'!$A$7:$P$22,16)) | E27: =UPPER(IF($D27="","",VLOOKUP($D27,'Boys Si Main Draw Prep'!$A$7:$P$22,2))) | F27: =IF($D27="","",VLOOKUP($D27,'Boys Si Main Draw Prep'!$A$7:$P$22,3)) | H27: =IF($D27="","",VLOOKUP($D27,'Boys Si Main Draw Prep'!$A$7:$P$22,4))
H28: Umpire | J28: ΚΟΥΣΟΥΛΑ ΝΑΓΙΑ
A29: 12 | B29: ΚΟΥΣΟΥΛΑ ΝΑΓΙΑ | C29: =IF($D29="","",VLOOKUP($D29,'Boys Si Main Draw Prep'!$A$7:$P$22,16)) | E29: =UPPER(IF($D29="","",VLOOKUP($D29,'Boys Si Main Draw Prep'!$A$7:$P$22,2))) | F29: =IF($D29="","",VLOOKUP($D29,'Boys Si Main Draw Prep'!$A$7:$P$22,3)) | H29: =IF($D29="","",VLOOKUP($D29,'Boys Si Main Draw Prep'!$A$7:$P$22,4))
L30: Umpire | N30: =UPPER(IF(OR(M30="a",M30="as"),L26,IF(OR(M30="b",M30="bs"),L34,)))
A31: 13 | B31: ΚΑΡΛΗ ΣΟΦΙΑ | C31: =IF($D31="","",VLOOKUP($D31,'Boys Si Main Draw Prep'!$A$7:$P$22,16)) | E31: =UPPER(IF($D31="","",VLOOKUP($D31,'Boys Si Main Draw Prep'!$A$7:$P$22,2))) | F31: =IF($D31="","",VLOOKUP($D31,'Boys Si Main Draw Prep'!$A$7:$P$22,3)) | H31: =IF($D31="","",VLOOKUP($D31,'Boys Si Main Draw Prep'!$A$7:$P$22,4))
H32: Umpire | J32: ΚΑΡΛΗ ΣΟΦΙΑ
A33: 14 | B33: ΒΥΕ | C33: =IF($D33="","",VLOOKUP($D33,'Boys Si Main Draw Prep'!$A$7:$P$22,16)) | E33: =UPPER(IF($D33="","",VLOOKUP($D33,'Boys Si Main Draw Prep'!$A$7:$P$22,2))) | F33: =IF($D33="","",VLOOKUP($D33,'Boys Si Main Draw Prep'!$A$7:$P$22,3)) | H33: =IF($D33="","",VLOOKUP($D33,'Boys Si Main Draw Prep'!$A$7:$P$22,4))
J34: Umpire | L34: =UPPER(IF(OR(K34="a",K34="as"),J32,IF(OR(K34="b",K34="bs"),J36,)))
A35: 15 | B35: ΒΥΕ | C35: =IF($D35="","",VLOOKUP($D35,'Boys Si Main Draw Prep'!$A$7:$P$22,16)) | E35: =UPPER(IF($D35="","",VLOOKUP($D35,'Boys Si Main Draw Prep'!$A$7:$P$22,2))) | F35: =IF($D35="","",VLOOKUP($D35,'Boys Si Main Draw Prep'!$A$7:$P$22,3)) | H35: =IF($D35="","",VLOOKUP($D35,'Boys Si Main Draw Prep'!$A$7:$P$22,4))
H36: Umpire | J36: ΡΑΝΤΗ ΠΕΤΡΙΝΑ
A37: 16 | B37: ΡΑΝΤΗ ΠΕΤΡΙΝΑ | C37: =IF($D37="","",VLOOKUP($D37,'Boys Si Main Draw Prep'!$A$7:$P$22,16)) | E37: =UPPER(IF($D37="","",VLOOKUP($D37,'Boys Si Main Draw Prep'!$A$7:$P$22,2))) | F37: =IF($D37="","",VLOOKUP($D37,'Boys Si Main Draw Prep'!$A$7:$P$22,3)) | H37: =IF($D37="","",VLOOKUP($D37,'Boys Si Main Draw Prep'!$A$7:$P$22,4))
A71: Acc. Ranking | D71: # | E71: Seeded players | I71: # | J71: Lucky Losers | L71: Replacing | N71: Draw date/time:
A72: Rkg Date | D72: 1 | E72: =IF(D72>$Q$79,,UPPER(VLOOKUP(D72,'Boys Si Main Draw Prep'!$A$7:$R$134,2))) -> 0 | I72: 1 | N72: Last Accepted player
A73: Top DA | D73: 2 | E73: =IF(D73>$Q$79,,UPPER(VLOOKUP(D73,'Boys Si Main Draw Prep'!$A$7:$R$134,2))) -> 0 | I73: 2
A74: Last DA | D74: 3 | E74: =IF(D74>$Q$79,,UPPER(VLOOKUP(D74,'Boys Si Main Draw Prep'!$A$7:$R$134,2))) -> 0 | I74: 3 | N74: Player representatives
...

Sheet Boys Si Main 24&32
A1: ='Week SetUp'!$A$6 -> 0 | J1: BOYS SINGLES
A2: ='Week SetUp'!$A$8 -> ITF Junior Circuit | J2: MAIN DRAW (24&32)
A3: Week of | F3: City, Country | J3: Group | L3: Tourn. ID | Q3: ITF Referee
A4: ='Week SetUp'!$A$10 -> 0 | F4: ='Week SetUp'!$C$10 -> 0 | J4: ='Week SetUp'!$D$10 -> 0 | L4: ='Week SetUp'!$A$12 -> 0 | Q4: ='Week SetUp'!$E$10 -> 0
B5: St. | C5: Rank | D5: Seed | E5: Family Name | F5: First name | H5: Nationality | J5: 2nd Round | L5: Quarterfinals | N5: Semifinals | P5: Final
A7: 1 | B7: =IF($D7="","",VLOOKUP($D7,'Boys Si Main Draw Prep'!$A$7:$P$38,15)) | C7: =IF($D7="","",VLOOKUP($D7,'Boys Si Main Draw Prep'!$A$7:$P$38,16)) | E7: =UPPER(IF($D7="","",VLOOKUP($D7,'Boys Si Main Draw Prep'!$A$7:$P$38,2))) | F7: =IF($D7="","",VLOOKUP($D7,'Boys Si Main Draw Prep'!$A$7:$P$38,3)) | H7: =IF($D7="","",VLOOKUP($D7,'Boys Si Main Draw Prep'!$A$7:$P$38,4)) | T7: =#REF! -> #REF!
H8: Umpire | J8: =UPPER(IF(OR(I8="a",I8="as"),E7,IF(OR(I8="b",I8="bs"),E9,))) | T8: =#REF! -> #REF!
A9: 2 | B9: =IF($D9="","",VLOOKUP($D9,'Boys Si Main Draw Prep'!$A$7:$P$38,15)) | C9: =IF($D9="","",VLOOKUP($D9,'Boys Si Main Draw Prep'!$A$7:$P$38,16)) | E9: =UPPER(IF($D9="","",VLOOKUP($D9,'Boys Si Main Draw Prep'!$A$7:$P$38,2))) | F9: =IF($D9="","",VLOOKUP($D9,'Boys Si Main Draw Prep'!$A$7:$P$38,3)) | H9: =IF($D9="","",VLOOKUP($D9,'Boys Si Main Draw Prep'!$A$7:$P$38,4)) | T9: =#REF! -> #REF!
J10: Umpire | L10: =UPPER(IF(OR(K10="a",K10="as"),J8,IF(OR(K10="b",K10="bs"),J12,))) | T10: =#REF! -> #REF!
A11: 3 | B11: =IF($D11="","",VLOOKUP($D11,'Boys Si Main Draw Prep'!$A$7:$P$38,15)) | C11: =IF($D11="","",VLOOKUP($D11,'Boys Si Main Draw Prep'!$A$7:$P$38,16)) | E11: =UPPER(IF($D11="","",VLOOKUP($D11,'Boys Si Main Draw Prep'!$A$7:$P$38,2))) | F11: =IF($D11="","",VLOOKUP($D11,'Boys Si Main Draw Prep'!$A$7:$P$38,3)) | H11: =IF($D11="","",VLOOKUP($D11,'Boys Si Main Draw Prep'!$A$7:$P$38,4)) | T11: =#REF! -> #REF!
H12: Umpire | J12: =UPPER(IF(OR(I12="a",I12="as"),E11,IF(OR(I12="b",I12="bs"),E13,))) | T12: =#REF! -> #REF!
A13: 4 | B13: =IF($D13="","",VLOOKUP($D13,'Boys Si Main Draw Prep'!$A$7:$P$38,15)) | C13: =IF($D13="","",VLOOKUP($D13,'Boys Si Main Draw Prep'!$A$7:$P$38,16)) | E13: =UPPER(IF($D13="","",VLOOKUP($D13,'Boys Si Main Draw Prep'!$A$7:$P$38,2))) | F13: =IF($D13="","",VLOOKUP($D13,'Boys Si Main Draw Prep'!$A$7:$P$38,3)) | H13: =IF($D13="","",VLOOKUP($D13,'Boys Si Main Draw Prep'!$A$7:$P$38,4)) | T13: =#REF! -> #REF!
L14: Umpire | N14: =UPPER(IF(OR(M14="a",M14="as"),L10,IF(OR(M14="b",M14="bs"),L18,))) | T14: =#REF! -> #REF!
A15: 5 | B15: =IF($D15="","",VLOOKUP($D15,'Boys Si Main Draw Prep'!$A$7:$P$38,15)) | C15: =IF($D15="","",VLOOKUP($D15,'Boys Si Main Draw Prep'!$A$7:$P$38,16)) | E15: =UPPER(IF($D15="","",VLOOKUP($D15,'Boys Si Main Draw Prep'!$A$7:$P$38,2))) | F15: =IF($D15="","",VLOOKUP($D15,'Boys Si Main Draw Prep'!$A$7:$P$38,3)) | H15: =IF($D15="","",VLOOKUP($D15,'Boys Si Main Draw Prep'!$A$7:$P$38,4)) | T15: =#REF! -> #REF!
H16: Umpire | J16: =UPPER(IF(OR(I16="a",I16="as"),E15,IF(OR(I16="b",I16="bs"),E17,))) | T16: =#REF! -> #REF!
A17: 6 | B17: =IF($D17="","",VLOOKUP($D17,'Boys Si Main Draw Prep'!$A$7:$P$38,15)) | C17: =IF($D17="","",VLOOKUP($D17,'Boys Si Main Draw Prep'!$A$7:$P$38,16)) | E17: =UPPER(IF($D17="","",VLOOKUP($D17,'Boys Si Main Draw Prep'!$A$7:$P$38,2))) | F17: =IF($D17="","",VLOOKUP($D17,'Boys Si Main Draw Prep'!$A$7:$P$38,3)) | H17: =IF($D17="","",VLOOKUP($D17,'Boys Si Main Draw Prep'!$A$7:$P$38,4))
J18: Umpire | L18: =UPPER(IF(OR(K18="a",K18="as"),J16,IF(OR(K18="b",K18="bs"),J20,)))
A19: 7 | B19: =IF($D19="","",VLOOKUP($D19,'Boys Si Main Draw Prep'!$A$7:$P$38,15)) | C19: =IF($D19="","",VLOOKUP($D19,'Boys Si Main Draw Prep'!$A$7:$P$38,16)) | E19: =UPPER(IF($D19="","",VLOOKUP($D19,'Boys Si Main Draw Prep'!$A$7:$P$38,2))) | F19: =IF($D19="","",VLOOKUP($D19,'Boys Si Main Draw Prep'!$A$7:$P$38,3)) | H19: =IF($D19="","",VLOOKUP($D19,'Boys Si Main Draw Prep'!$A$7:$P$38,4))
H20: Umpire | J20: =UPPER(IF(OR(I20="a",I20="as"),E19,IF(OR(I20="b",I20="bs"),E21,)))
A21: 8 | B21: =IF($D21="","",VLOOKUP($D21,'Boys Si Main Draw Prep'!$A$7:$P$38,15)) | C21: =IF($D21="","",VLOOKUP($D21,'Boys Si Main Draw Prep'!$A$7:$P$38,16)) | E21: =UPPER(IF($D21="","",VLOOKUP($D21,'Boys Si Main Draw Prep'!$A$7:$P$38,2))) | F21: =IF($D21="","",VLOOKUP($D21,'Boys Si Main Draw Prep'!$A$7:$P$38,3)) | H21: =IF($D21="","",VLOOKUP($D21,'Boys Si Main Draw Prep'!$A$7:$P$38,4))
N22: Umpire | P22: =UPPER(IF(OR(O22="a",O22="as"),N14,IF(OR(O22="b",O22="bs"),N30,)))
A23: 9 | B23: =IF($D23="","",VLOOKUP($D23,'Boys Si Main Draw Prep'!$A$7:$P$38,15)) | C23: =IF($D23="","",VLOOKUP($D23,'Boys Si Main Draw Prep'!$A$7:$P$38,16)) | E23: =UPPER(IF($D23="","",VLOOKUP($D23,'Boys Si Main Draw Prep'!$A$7:$P$38,2))) | F23: =IF($D23="","",VLOOKUP($D23,'Boys Si Main Draw Prep'!$A$7:$P$38,3)) | H23: =IF($D23="","",VLOOKUP($D23,'Boys Si Main Draw Prep'!$A$7:$P$38,4))
H24: Umpire | J24: =UPPER(IF(OR(I24="a",I24="as"),E23,IF(OR(I24="b",I24="bs"),E25,)))
A25: 10 | B25: =IF($D25="","",VLOOKUP($D25,'Boys Si Main Draw Prep'!$A$7:$P$38,15)) | C25: =IF($D25="","",VLOOKUP($D25,'Boys Si Main Draw Prep'!$A$7:$P$38,16)) | E25: =UPPER(IF($D25="","",VLOOKUP($D25,'Boys Si Main Draw Prep'!$A$7:$P$38,2))) | F25: =IF($D25="","",VLOOKUP($D25,'Boys Si Main Draw Prep'!$A$7:$P$38,3)) | H25: =IF($D25="","",VLOOKUP($D25,'Boys Si Main Draw Prep'!$A$7:$P$38,4))
J26: Umpire | L26: =UPPER(IF(OR(K26="a",K26="as"),J24,IF(OR(K26="b",K26="bs"),J28,)))
A27: 11 | B27: =IF($D27="","",VLOOKUP($D27,'Boys Si Main Draw Prep'!$A$7:$P$38,15)) | C27: =IF($D27="","",VLOOKUP($D27,'Boys Si Main Draw Prep'!$A$7:$P$38,16)) | E27: =UPPER(IF($D27="","",VLOOKUP($D27,'Boys Si Main Draw Prep'!$A$7:$P$38,2))) | F27: =IF($D27="","",VLOOKUP($D27,'Boys Si Main Draw Prep'!$A$7:$P$38,3)) | H27: =IF($D27="","",VLOOKUP($D27,'Boys Si Main Draw Prep'!$A$7:$P$38,4))
H28: Umpire | J28: =UPPER(IF(OR(I28="a",I28="as"),E27,IF(OR(I28="b",I28="bs"),E29,)))
A29: 12 | B29: =IF($D29="","",VLOOKUP($D29,'Boys Si Main Draw Prep'!$A$7:$P$38,15)) | C29: =IF($D29="","",VLOOKUP($D29,'Boys Si Main Draw Prep'!$A$7:$P$38,16)) | E29: =UPPER(IF($D29="","",VLOOKUP($D29,'Boys Si Main Draw Prep'!$A$7:$P$38,2))) | F29: =IF($D29="","",VLOOKUP($D29,'Boys Si Main Draw Prep'!$A$7:$P$38,3)) | H29: =IF($D29="","",VLOOKUP($D29,'Boys Si Main Draw Prep'!$A$7:$P$38,4))
L30: Umpire | N30: =UPPER(IF(OR(M30="a",M30="as"),L26,IF(OR(M30="b",M30="bs"),L34,)))
A31: 13 | B31: =IF($D31="","",VLOOKUP($D31,'Boys Si Main Draw Prep'!$A$7:$P$38,15)) | C31: =IF($D31="","",VLOOKUP($D31,'Boys Si Main Draw Prep'!$A$7:$P$38,16)) | E31: =UPPER(IF($D31="","",VLOOKUP($D31,'Boys Si Main Draw Prep'!$A$7:$P$38,2))) | F31: =IF($D31="","",VLOOKUP($D31,'Boys Si Main Draw Prep'!$A$7:$P$38,3)) | H31: =IF($D31="","",VLOOKUP($D31,'Boys Si Main Draw Prep'!$A$7:$P$38,4))
H32: Umpire | J32: =UPPER(IF(OR(I32="a",I32="as"),E31,IF(OR(I32="b",I32="bs"),E33,)))
A33: 14 | B33: =IF($D33="","",VLOOKUP($D33,'Boys Si Main Draw Prep'!$A$7:$P$38,15)) | C33: =IF($D33="","",VLOOKUP($D33,'Boys Si Main Draw Prep'!$A$7:$P$38,16)) | E33: =UPPER(IF($D33="","",VLOOKUP($D33,'Boys Si Main Draw Prep'!$A$7:$P$38,2))) | F33: =IF($D33="","",VLOOKUP($D33,'Boys Si Main Draw Prep'!$A$7:$P$38,3)) | H33: =IF($D33="","",VLOOKUP($D33,'Boys Si Main Draw Prep'!$A$7:$P$38,4))
J34: Umpire | L34: =UPPER(IF(OR(K34="a",K34="as"),J32,IF(OR(K34="b",K34="bs"),J36,)))
A35: 15 | B35: =IF($D35="","",VLOOKUP($D35,'Boys Si Main Draw Prep'!$A$7:$P$38,15)) | C35: =IF($D35="","",VLOOKUP($D35,'Boys Si Main Draw Prep'!$A$7:$P$38,16)) | E35: =UPPER(IF($D35="","",VLOOKUP($D35,'Boys Si Main Draw Prep'!$A$7:$P$38,2))) | F35: =IF($D35="","",VLOOKUP($D35,'Boys Si Main Draw Prep'!$A$7:$P$38,3)) | H35: =IF($D35="","",VLOOKUP($D35,'Boys Si Main Draw Prep'!$A$7:$P$38,4))
H36: Umpire | J36: =UPPER(IF(OR(I36="a",I36="as"),E35,IF(OR(I36="b",I36="bs"),E37,)))
A37: 16 | B37: =IF($D37="","",VLOOKUP($D37,'Boys Si Main Draw Prep'!$A$7:$P$38,15)) | C37: =IF($D37="","",VLOOKUP($D37,'Boys Si Main Draw Prep'!$A$7:$P$38,16)) | E37: =UPPER(IF($D37="","",VLOOKUP($D37,'Boys Si Main Draw Prep'!$A$7:$P$38,2))) | F37: =IF($D37="","",VLOOKUP($D37,'Boys Si Main Draw Prep'!$A$7:$P$38,3)) | H37: =IF($D37="","",VLOOKUP($D37,'Boys Si Main Draw Prep'!$A$7:$P$38,4))
N38: Winner: | P38: =UPPER(IF(OR(O39="a",O39="as"),P22,IF(OR(O39="b",O39="bs"),P54,)))
A39: 17 | B39: =IF($D39="","",VLOOKUP($D39,'Boys Si Main Draw Prep'!$A$7:$P$38,15)) | C39: =IF($D39="","",VLOOKUP($D39,'Boys Si Main Draw Prep'!$A$7:$P$38,16)) | E39: =UPPER(IF($D39="","",VLOOKUP($D39,'Boys Si Main Draw Prep'!$A$7:$P$38,2))) | F39: =IF($D39="","",VLOOKUP($D39,'Boys Si Main Draw Prep'!$A$7:$P$38,3)) | H39: =IF($D39="","",VLOOKUP($D39,'Boys Si Main Draw Prep'!$A$7:$P$38,4)) | N39: Umpire
H40: Umpire | J40: =UPPER(IF(OR(I40="a",I40="as"),E39,IF(OR(I40="b",I40="bs"),E41,)))
A41: 18 | B41: =IF($D41="","",VLOOKUP($D41,'Boys Si Main Draw Prep'!$A$7:$P$38,15)) | C41: =IF($D41="","",VLOOKUP($D41,'Boys Si Main Draw Prep'!$A$7:$P$38,16)) | E41: =UPPER(IF($D41="","",VLOOKUP($D41,'Boys Si Main Draw Prep'!$A$7:$P$38,2))) | F41: =IF($D41="","",VLOOKUP($D41,'Boys Si Main Draw Prep'!$A$7:$P$38,3)) | H41: =IF($D41="","",VLOOKUP($D41,'Boys Si Main Draw Prep'!$A$7:$P$38,4))
...

Sheet Boys Si Main 48&64
A1: ='Week SetUp'!$A$6 -> 0 | J1: BOYS SINGLES
A2: ='Week SetUp'!$A$8 -> ITF Junior Circuit | J2: MAIN DRAW (48&64)
A3: Week of | F3: City, Country | J3: Group | L3: Tourn. ID | Q3: ITF Referee
A4: ='Week SetUp'!$A$10 -> 0 | F4: ='Week SetUp'!$C$10 -> 0 | J4: ='Week SetUp'!$D$10 -> 0 | L4: ='Week SetUp'!$A$12 -> 0 | Q4: ='Week SetUp'!$E$10 -> 0
B5: St. | C5: Rank | D5: Seed | E5: Family Name | F5: First name | H5: Nationality | J5: 2nd Round | L5: 3rd Round | N5: Quarterfinals | P5: Semifinals
A7: 1 | B7: =IF($D7="","",VLOOKUP($D7,'Boys Si Main Draw Prep'!$A$7:$P$70,15)) | C7: =IF($D7="","",VLOOKUP($D7,'Boys Si Main Draw Prep'!$A$7:$P$70,16)) | E7: =UPPER(IF($D7="","",VLOOKUP($D7,'Boys Si Main Draw Prep'!$A$7:$P$70,2))) | F7: =IF($D7="","",VLOOKUP($D7,'Boys Si Main Draw Prep'!$A$7:$P$70,3)) | H7: =IF($D7="","",VLOOKUP($D7,'Boys Si Main Draw Prep'!$A$7:$P$70,4)) | J7: =UPPER(IF(OR(I8="a",I8="as"),E7,IF(OR(I8="b",I8="bs"),E8,))) | T7: =#REF! -> #REF!
A8: 2 | B8: =IF($D8="","",VLOOKUP($D8,'Boys Si Main Draw Prep'!$A$7:$P$70,15)) | C8: =IF($D8="","",VLOOKUP($D8,'Boys Si Main Draw Prep'!$A$7:$P$70,16)) | E8: =UPPER(IF($D8="","",VLOOKUP($D8,'Boys Si Main Draw Prep'!$A$7:$P$70,2))) | F8: =IF($D8="","",VLOOKUP($D8,'Boys Si Main Draw Prep'!$A$7:$P$70,3)) | H8: =IF($D8="","",VLOOKUP($D8,'Boys Si Main Draw Prep'!$A$7:$P$70,4)) | L8: =UPPER(IF(OR(K8="a",K8="as"),J7,IF(OR(K8="b",K8="bs"),J9,))) | T8: =#REF! -> #REF!
A9: 3 | B9: =IF($D9="","",VLOOKUP($D9,'Boys Si Main Draw Prep'!$A$7:$P$70,15)) | C9: =IF($D9="","",VLOOKUP($D9,'Boys Si Main Draw Prep'!$A$7:$P$70,16)) | E9: =UPPER(IF($D9="","",VLOOKUP($D9,'Boys Si Main Draw Prep'!$A$7:$P$70,2))) | F9: =IF($D9="","",VLOOKUP($D9,'Boys Si Main Draw Prep'!$A$7:$P$70,3)) | H9: =IF($D9="","",VLOOKUP($D9,'Boys Si Main Draw Prep'!$A$7:$P$70,4)) | J9: =UPPER(IF(OR(I10="a",I10="as"),E9,IF(OR(I10="b",I10="bs"),E10,))) | T9: =#REF! -> #REF!
A10: 4 | B10: =IF($D10="","",VLOOKUP($D10,'Boys Si Main Draw Prep'!$A$7:$P$70,15)) | C10: =IF($D10="","",VLOOKUP($D10,'Boys Si Main Draw Prep'!$A$7:$P$70,16)) | E10: =UPPER(IF($D10="","",VLOOKUP($D10,'Boys Si Main Draw Prep'!$A$7:$P$70,2))) | F10: =IF($D10="","",VLOOKUP($D10,'Boys Si Main Draw Prep'!$A$7:$P$70,3)) | H10: =IF($D10="","",VLOOKUP($D10,'Boys Si Main Draw Prep'!$A$7:$P$70,4)) | L10: Umpire | N10: =UPPER(IF(OR(M10="a",M10="as"),L8,IF(OR(M10="b",M10="bs"),L12,))) | T10: =#REF! -> #REF!
A11: 5 | B11: =IF($D11="","",VLOOKUP($D11,'Boys Si Main Draw Prep'!$A$7:$P$70,15)) | C11: =IF($D11="","",VLOOKUP($D11,'Boys Si Main Draw Prep'!$A$7:$P$70,16)) | E11: =UPPER(IF($D11="","",VLOOKUP($D11,'Boys Si Main Draw Prep'!$A$7:$P$70,2))) | F11: =IF($D11="","",VLOOKUP($D11,'Boys Si Main Draw Prep'!$A$7:$P$70,3)) | H11: =IF($D11="","",VLOOKUP($D11,'Boys Si Main Draw Prep'!$A$7:$P$70,4)) | J11: =UPPER(IF(OR(I12="a",I12="as"),E11,IF(OR(I12="b",I12="bs"),E12,))) | T11: =#REF! -> #REF!
A12: 6 | B12: =IF($D12="","",VLOOKUP($D12,'Boys Si Main Draw Prep'!$A$7:$P$70,15)) | C12: =IF($D12="","",VLOOKUP($D12,'Boys Si Main Draw Prep'!$A$7:$P$70,16)) | E12: =UPPER(IF($D12="","",VLOOKUP($D12,'Boys Si Main Draw Prep'!$A$7:$P$70,2))) | F12: =IF($D12="","",VLOOKUP($D12,'Boys Si Main Draw Prep'!$A$7:$P$70,3)) | H12: =IF($D12="","",VLOOKUP($D12,'Boys Si Main Draw Prep'!$A$7:$P$70,4)) | L12: =UPPER(IF(OR(K12="a",K12="as"),J11,IF(OR(K12="b",K12="bs"),J13,))) | T12: =#REF! -> #REF!
A13: 7 | B13: =IF($D13="","",VLOOKUP($D13,'Boys Si Main Draw Prep'!$A$7:$P$70,15)) | C13: =IF($D13="","",VLOOKUP($D13,'Boys Si Main Draw Prep'!$A$7:$P$70,16)) | E13: =UPPER(IF($D13="","",VLOOKUP($D13,'Boys Si Main Draw Prep'!$A$7:$P$70,2))) | F13: =IF($D13="","",VLOOKUP($D13,'Boys Si Main Draw Prep'!$A$7:$P$70,3)) | H13: =IF($D13="","",VLOOKUP($D13,'Boys Si Main Draw Prep'!$A$7:$P$70,4)) | J13: =UPPER(IF(OR(I14="a",I14="as"),E13,IF(OR(I14="b",I14="bs"),E14,))) | T13: =#REF! -> #REF!
A14: 8 | B14: =IF($D14="","",VLOOKUP($D14,'Boys Si Main Draw Prep'!$A$7:$P$70,15)) | C14: =IF($D14="","",VLOOKUP($D14,'Boys Si Main Draw Prep'!$A$7:$P$70,16)) | E14: =UPPER(IF($D14="","",VLOOKUP($D14,'Boys Si Main Draw Prep'!$A$7:$P$70,2))) | F14: =IF($D14="","",VLOOKUP($D14,'Boys Si Main Draw Prep'!$A$7:$P$70,3)) | H14: =IF($D14="","",VLOOKUP($D14,'Boys Si Main Draw Prep'!$A$7:$P$70,4)) | N14: Umpire | P14: =UPPER(IF(OR(O14="a",O14="as"),N10,IF(OR(O14="b",O14="bs"),N18,))) | T14: =#REF! -> #REF!
A15: 9 | B15: =IF($D15="","",VLOOKUP($D15,'Boys Si Main Draw Prep'!$A$7:$P$70,15)) | C15: =IF($D15="","",VLOOKUP($D15,'Boys Si Main Draw Prep'!$A$7:$P$70,16)) | E15: =UPPER(IF($D15="","",VLOOKUP($D15,'Boys Si Main Draw Prep'!$A$7:$P$70,2))) | F15: =IF($D15="","",VLOOKUP($D15,'Boys Si Main Draw Prep'!$A$7:$P$70,3)) | H15: =IF($D15="","",VLOOKUP($D15,'Boys Si Main Draw Prep'!$A$7:$P$70,4)) | J15: =UPPER(IF(OR(I16="a",I16="as"),E15,IF(OR(I16="b",I16="bs"),E16,))) | T15: =#REF! -> #REF!
A16: 10 | B16: =IF($D16="","",VLOOKUP($D16,'Boys Si Main Draw Prep'!$A$7:$P$70,15)) | C16: =IF($D16="","",VLOOKUP($D16,'Boys Si Main Draw Prep'!$A$7:$P$70,16)) | E16: =UPPER(IF($D16="","",VLOOKUP($D16,'Boys Si Main Draw Prep'!$A$7:$P$70,2))) | F16: =IF($D16="","",VLOOKUP($D16,'Boys Si Main Draw Prep'!$A$7:$P$70,3)) | H16: =IF($D16="","",VLOOKUP($D16,'Boys Si Main Draw Prep'!$A$7:$P$70,4)) | L16: =UPPER(IF(OR(K16="a",K16="as"),J15,IF(OR(K16="b",K16="bs"),J17,))) | T16: =#REF! -> #REF!
A17: 11 | B17: =IF($D17="","",VLOOKUP($D17,'Boys Si Main Draw Prep'!$A$7:$P$70,15)) | C17: =IF($D17="","",VLOOKUP($D17,'Boys Si Main Draw Prep'!$A$7:$P$70,16)) | E17: =UPPER(IF($D17="","",VLOOKUP($D17,'Boys Si Main Draw Prep'!$A$7:$P$70,2))) | F17: =IF($D17="","",VLOOKUP($D17,'Boys Si Main Draw Prep'!$A$7:$P$70,3)) | H17: =IF($D17="","",VLOOKUP($D17,'Boys Si Main Draw Prep'!$A$7:$P$70,4)) | J17: =UPPER(IF(OR(I18="a",I18="as"),E17,IF(OR(I18="b",I18="bs"),E18,)))
A18: 12 | B18: =IF($D18="","",VLOOKUP($D18,'Boys Si Main Draw Prep'!$A$7:$P$70,15)) | C18: =IF($D18="","",VLOOKUP($D18,'Boys Si Main Draw Prep'!$A$7:$P$70,16)) | E18: =UPPER(IF($D18="","",VLOOKUP($D18,'Boys Si Main Draw Prep'!$A$7:$P$70,2))) | F18: =IF($D18="","",VLOOKUP($D18,'Boys Si Main Draw Prep'!$A$7:$P$70,3)) | H18: =IF($D18="","",VLOOKUP($D18,'Boys Si Main Draw Prep'!$A$7:$P$70,4)) | L18: Umpire | N18: =UPPER(IF(OR(M18="a",M18="as"),L16,IF(OR(M18="b",M18="bs"),L20,)))
A19: 13 | B19: =IF($D19="","",VLOOKUP($D19,'Boys Si Main Draw Prep'!$A$7:$P$70,15)) | C19: =IF($D19="","",VLOOKUP($D19,'Boys Si Main Draw Prep'!$A$7:$P$70,16)) | E19: =UPPER(IF($D19="","",VLOOKUP($D19,'Boys Si Main Draw Prep'!$A$7:$P$70,2))) | F19: =IF($D19="","",VLOOKUP($D19,'Boys Si Main Draw Prep'!$A$7:$P$70,3)) | H19: =IF($D19="","",VLOOKUP($D19,'Boys Si Main Draw Prep'!$A$7:$P$70,4)) | J19: =UPPER(IF(OR(I20="a",I20="as"),E19,IF(OR(I20="b",I20="bs"),E20,)))
A20: 14 | B20: =IF($D20="","",VLOOKUP($D20,'Boys Si Main Draw Prep'!$A$7:$P$70,15)) | C20: =IF($D20="","",VLOOKUP($D20,'Boys Si Main Draw Prep'!$A$7:$P$70,16)) | E20: =UPPER(IF($D20="","",VLOOKUP($D20,'Boys Si Main Draw Prep'!$A$7:$P$70,2))) | F20: =IF($D20="","",VLOOKUP($D20,'Boys Si Main Draw Prep'!$A$7:$P$70,3)) | H20: =IF($D20="","",VLOOKUP($D20,'Boys Si Main Draw Prep'!$A$7:$P$70,4)) | L20: =UPPER(IF(OR(K20="a",K20="as"),J19,IF(OR(K20="b",K20="bs"),J21,)))
A21: 15 | B21: =IF($D21="","",VLOOKUP($D21,'Boys Si Main Draw Prep'!$A$7:$P$70,15)) | C21: =IF($D21="","",VLOOKUP($D21,'Boys Si Main Draw Prep'!$A$7:$P$70,16)) | E21: =UPPER(IF($D21="","",VLOOKUP($D21,'Boys Si Main Draw Prep'!$A$7:$P$70,2))) | F21: =IF($D21="","",VLOOKUP($D21,'Boys Si Main Draw Prep'!$A$7:$P$70,3)) | H21: =IF($D21="","",VLOOKUP($D21,'Boys Si Main Draw Prep'!$A$7:$P$70,4)) | J21: =UPPER(IF(OR(I22="a",I22="as"),E21,IF(OR(I22="b",I22="bs"),E22,)))
A22: 16 | B22: =IF($D22="","",VLOOKUP($D22,'Boys Si Main Draw Prep'!$A$7:$P$70,15)) | C22: =IF($D22="","",VLOOKUP($D22,'Boys Si Main Draw Prep'!$A$7:$P$70,16)) | E22: =UPPER(IF($D22="","",VLOOKUP($D22,'Boys Si Main Draw Prep'!$A$7:$P$70,2))) | F22: =IF($D22="","",VLOOKUP($D22,'Boys Si Main Draw Prep'!$A$7:$P$70,3)) | H22: =IF($D22="","",VLOOKUP($D22,'Boys Si Main Draw Prep'!$A$7:$P$70,4)) | N22: Finalist 1: | P22: =UPPER(IF(OR(O23="a",O23="as"),P14,IF(OR(O23="b",O23="bs"),P30,)))
A23: 17 | B23: =IF($D23="","",VLOOKUP($D23,'Boys Si Main Draw Prep'!$A$7:$P$70,15)) | C23: =IF($D23="","",VLOOKUP($D23,'Boys Si Main Draw Prep'!$A$7:$P$70,16)) | E23: =UPPER(IF($D23="","",VLOOKUP($D23,'Boys Si Main Draw Prep'!$A$7:$P$70,2))) | F23: =IF($D23="","",VLOOKUP($D23,'Boys Si Main Draw Prep'!$A$7:$P$70,3)) | H23: =IF($D23="","",VLOOKUP($D23,'Boys Si Main Draw Prep'!$A$7:$P$70,4)) | J23: =UPPER(IF(OR(I24="a",I24="as"),E23,IF(OR(I24="b",I24="bs"),E24,))) | N23: Umpire
A24: 18 | B24: =IF($D24="","",VLOOKUP($D24,'Boys Si Main Draw Prep'!$A$7:$P$70,15)) | C24: =IF($D24="","",VLOOKUP($D24,'Boys Si Main Draw Prep'!$A$7:$P$70,16)) | E24: =UPPER(IF($D24="","",VLOOKUP($D24,'Boys Si Main Draw Prep'!$A$7:$P$70,2))) | F24: =IF($D24="","",VLOOKUP($D24,'Boys Si Main Draw Prep'!$A$7:$P$70,3)) | H24: =IF($D24="","",VLOOKUP($D24,'Boys Si Main Draw Prep'!$A$7:$P$70,4)) | L24: =UPPER(IF(OR(K24="a",K24="as"),J23,IF(OR(K24="b",K24="bs"),J25,)))
A25: 19 | B25: =IF($D25="","",VLOOKUP($D25,'Boys Si Main Draw Prep'!$A$7:$P$70,15)) | C25: =IF($D25="","",VLOOKUP($D25,'Boys Si Main Draw Prep'!$A$7:$P$70,16)) | E25: =UPPER(IF($D25="","",VLOOKUP($D25,'Boys Si Main Draw Prep'!$A$7:$P$70,2))) | F25: =IF($D25="","",VLOOKUP($D25,'Boys Si Main Draw Prep'!$A$7:$P$70,3)) | H25: =IF($D25="","",VLOOKUP($D25,'Boys Si Main Draw Prep'!$A$7:$P$70,4)) | J25: =UPPER(IF(OR(I26="a",I26="as"),E25,IF(OR(I26="b",I26="bs"),E26,)))
A26: 20 | B26: =IF($D26="","",VLOOKUP($D26,'Boys Si Main Draw Prep'!$A$7:$P$70,15)) | C26: =IF($D26="","",VLOOKUP($D26,'Boys Si Main Draw Prep'!$A$7:$P$70,16)) | E26: =UPPER(IF($D26="","",VLOOKUP($D26,'Boys Si Main Draw Prep'!$A$7:$P$70,2))) | F26: =IF($D26="","",VLOOKUP($D26,'Boys Si Main Draw Prep'!$A$7:$P$70,3)) | H26: =IF($D26="","",VLOOKUP($D26,'Boys Si Main Draw Prep'!$A$7:$P$70,4)) | L26: Umpire | N26: =UPPER(IF(OR(M26="a",M26="as"),L24,IF(OR(M26="b",M26="bs"),L28,)))
A27: 21 | B27: =IF($D27="","",VLOOKUP($D27,'Boys Si Main Draw Prep'!$A$7:$P$70,15)) | C27: =IF($D27="","",VLOOKUP($D27,'Boys Si Main Draw Prep'!$A$7:$P$70,16)) | E27: =UPPER(IF($D27="","",VLOOKUP($D27,'Boys Si Main Draw Prep'!$A$7:$P$70,2))) | F27: =IF($D27="","",VLOOKUP($D27,'Boys Si Main Draw Prep'!$A$7:$P$70,3)) | H27: =IF($D27="","",VLOOKUP($D27,'Boys Si Main Draw Prep'!$A$7:$P$70,4)) | J27: =UPPER(IF(OR(I28="a",I28="as"),E27,IF(OR(I28="b",I28="bs"),E28,)))
A28: 22 | B28: =IF($D28="","",VLOOKUP($D28,'Boys Si Main Draw Prep'!$A$7:$P$70,15)) | C28: =IF($D28="","",VLOOKUP($D28,'Boys Si Main Draw Prep'!$A$7:$P$70,16)) | E28: =UPPER(IF($D28="","",VLOOKUP($D28,'Boys Si Main Draw Prep'!$A$7:$P$70,2))) | F28: =IF($D28="","",VLOOKUP($D28,'Boys Si Main Draw Prep'!$A$7:$P$70,3)) | H28: =IF($D28="","",VLOOKUP($D28,'Boys Si Main Draw Prep'!$A$7:$P$70,4)) | L28: =UPPER(IF(OR(K28="a",K28="as"),J27,IF(OR(K28="b",K28="bs"),J29,)))
A29: 23 | B29: =IF($D29="","",VLOOKUP($D29,'Boys Si Main Draw Prep'!$A$7:$P$70,15)) | C29: =IF($D29="","",VLOOKUP($D29,'Boys Si Main Draw Prep'!$A$7:$P$70,16)) | E29: =UPPER(IF($D29="","",VLOOKUP($D29,'Boys Si Main Draw Prep'!$A$7:$P$70,2))) | F29: =IF($D29="","",VLOOKUP($D29,'Boys Si Main Draw Prep'!$A$7:$P$70,3)) | H29: =IF($D29="","",VLOOKUP($D29,'Boys Si Main Draw Prep'!$A$7:$P$70,4)) | J29: =UPPER(IF(OR(I30="a",I30="as"),E29,IF(OR(I30="b",I30="bs"),E30,)))
A30: 24 | B30: =IF($D30="","",VLOOKUP($D30,'Boys Si Main Draw Prep'!$A$7:$P$70,15)) | C30: =IF($D30="","",VLOOKUP($D30,'Boys Si Main Draw Prep'!$A$7:$P$70,16)) | E30: =UPPER(IF($D30="","",VLOOKUP($D30,'Boys Si Main Draw Prep'!$A$7:$P$70,2))) | F30: =IF($D30="","",VLOOKUP($D30,'Boys Si Main Draw Prep'!$A$7:$P$70,3)) | H30: =IF($D30="","",VLOOKUP($D30,'Boys Si Main Draw Prep'!$A$7:$P$70,4)) | N30: Umpire | P30: =UPPER(IF(OR(O30="a",O30="as"),N26,IF(OR(O30="b",O30="bs"),N34,)))
A31: 25 | B31: =IF($D31="","",VLOOKUP($D31,'Boys Si Main Draw Prep'!$A$7:$P$70,15)) | C31: =IF($D31="","",VLOOKUP($D31,'Boys Si Main Draw Prep'!$A$7:$P$70,16)) | E31: =UPPER(IF($D31="","",VLOOKUP($D31,'Boys Si Main Draw Prep'!$A$7:$P$70,2))) | F31: =IF($D31="","",VLOOKUP($D31,'Boys Si Main Draw Prep'!$A$7:$P$70,3)) | H31: =IF($D31="","",VLOOKUP($D31,'Boys Si Main Draw Prep'!$A$7:$P$70,4)) | J31: =UPPER(IF(OR(I32="a",I32="as"),E31,IF(OR(I32="b",I32="bs"),E32,)))
A32: 26 | B32: =IF($D32="","",VLOOKUP($D32,'Boys Si Main Draw Prep'!$A$7:$P$70,15)) | C32: =IF($D32="","",VLOOKUP($D32,'Boys Si Main Draw Prep'!$A$7:$P$70,16)) | E32: =UPPER(IF($D32="","",VLOOKUP($D32,'Boys Si Main Draw Prep'!$A$7:$P$70,2))) | F32: =IF($D32="","",VLOOKUP($D32,'Boys Si Main Draw Prep'!$A$7:$P$70,3)) | H32: =IF($D32="","",VLOOKUP($D32,'Boys Si Main Draw Prep'!$A$7:$P$70,4)) | L32: =UPPER(IF(OR(K32="a",K32="as"),J31,IF(OR(K32="b",K32="bs"),J33,)))
A33: 27 | B33: =IF($D33="","",VLOOKUP($D33,'Boys Si Main Draw Prep'!$A$7:$P$70,15)) | C33: =IF($D33="","",VLOOKUP($D33,'Boys Si Main Draw Prep'!$A$7:$P$70,16)) | E33: =UPPER(IF($D33="","",VLOOKUP($D33,'Boys Si Main Draw Prep'!$A$7:$P$70,2))) | F33: =IF($D33="","",VLOOKUP($D33,'Boys Si Main Draw Prep'!$A$7:$P$70,3)) | H33: =IF($D33="","",VLOOKUP($D33,'Boys Si Main Draw Prep'!$A$7:$P$70,4)) | J33: =UPPER(IF(OR(I34="a",I34="as"),E33,IF(OR(I34="b",I34="bs"),E34,)))
A34: 28 | B34: =IF($D34="","",VLOOKUP($D34,'Boys Si Main Draw Prep'!$A$7:$P$70,15)) | C34: =IF($D34="","",VLOOKUP($D34,'Boys Si Main Draw Prep'!$A$7:$P$70,16)) | E34: =UPPER(IF($D34="","",VLOOKUP($D34,'Boys Si Main Draw Prep'!$A$7:$P$70,2))) | F34: =IF($D34="","",VLOOKUP($D34,'Boys Si Main Draw Prep'!$A$7:$P$70,3)) | H34: =IF($D34="","",VLOOKUP($D34,'Boys Si Main Draw Prep'!$A$7:$P$70,4)) | L34: Umpire | N34: =UPPER(IF(OR(M34="a",M34="as"),L32,IF(OR(M34="b",M34="bs"),L36,)))
A35: 29 | B35: =IF($D35="","",VLOOKUP($D35,'Boys Si Main Draw Prep'!$A$7:$P$70,15)) | C35: =IF($D35="","",VLOOKUP($D35,'Boys Si Main Draw Prep'!$A$7:$P$70,16)) | E35: =UPPER(IF($D35="","",VLOOKUP($D35,'Boys Si Main Draw Prep'!$A$7:$P$70,2))) | F35: =IF($D35="","",VLOOKUP($D35,'Boys Si Main Draw Prep'!$A$7:$P$70,3)) | H35: =IF($D35="","",VLOOKUP($D35,'Boys Si Main Draw Prep'!$A$7:$P$70,4)) | J35: =UPPER(IF(OR(I36="a",I36="as"),E35,IF(OR(I36="b",I36="bs"),E36,)))
A36: 30 | B36: =IF($D36="","",VLOOKUP($D36,'Boys Si Main Draw Prep'!$A$7:$P$70,15)) | C36: =IF($D36="","",VLOOKUP($D36,'Boys Si Main Draw Prep'!$A$7:$P$70,16)) | E36: =UPPER(IF($D36="","",VLOOKUP($D36,'Boys Si Main Draw Prep'!$A$7:$P$70,2))) | F36: =IF($D36="","",VLOOKUP($D36,'Boys Si Main Draw Prep'!$A$7:$P$70,3)) | H36: =IF($D36="","",VLOOKUP($D36,'Boys Si Main Draw Prep'!$A$7:$P$70,4)) | L36: =UPPER(IF(OR(K36="a",K36="as"),J35,IF(OR(K36="b",K36="bs"),J37,))) | N36: Final | P36: Winner
A37: 31 | B37: =IF($D37="","",VLOOKUP($D37,'Boys Si Main Draw Prep'!$A$7:$P$70,15)) | C37: =IF($D37="","",VLOOKUP($D37,'Boys Si Main Draw Prep'!$A$7:$P$70,16)) | E37: =UPPER(IF($D37="","",VLOOKUP($D37,'Boys Si Main Draw Prep'!$A$7:$P$70,2))) | F37: =IF($D37="","",VLOOKUP($D37,'Boys Si Main Draw Prep'!$A$7:$P$70,3)) | H37: =IF($D37="","",VLOOKUP($D37,'Boys Si Main Draw Prep'!$A$7:$P$70,4)) | J37: =UPPER(IF(OR(I38="a",I38="as"),E37,IF(OR(I38="b",I38="bs"),E38,))) | N37: =UPPER(IF(OR(O23="a",O23="as"),P14,IF(OR(O23="b",O23="bs"),P30,)))
A38: 32 | B38: =IF($D38="","",VLOOKUP($D38,'Boys Si Main Draw Prep'!$A$7:$P$70,15)) | C38: =IF($D38="","",VLOOKUP($D38,'Boys Si Main Draw Prep'!$A$7:$P$70,16)) | E38: =UPPER(IF($D38="","",VLOOKUP($D38,'Boys Si Main Draw Prep'!$A$7:$P$70,2))) | F38: =IF($D38="","",VLOOKUP($D38,'Boys Si Main Draw Prep'!$A$7:$P$70,3)) | H38: =IF($D38="","",VLOOKUP($D38,'Boys Si Main Draw Prep'!$A$7:$P$70,4)) | N38: Umpire | P38: =UPPER(IF(OR(O38="a",O38="as"),N37,IF(OR(O38="b",O38="bs"),N39,)))
A39: 33 | B39: =IF($D39="","",VLOOKUP($D39,'Boys Si Main Draw Prep'!$A$7:$P$70,15)) | C39: =IF($D39="","",VLOOKUP($D39,'Boys Si Main Draw Prep'!$A$7:$P$70,16)) | E39: =UPPER(IF($D39="","",VLOOKUP($D39,'Boys Si Main Draw Prep'!$A$7:$P$70,2))) | F39: =IF($D39="","",VLOOKUP($D39,'Boys Si Main Draw Prep'!$A$7:$P$70,3)) | H39: =IF($D39="","",VLOOKUP($D39,'Boys Si Main Draw Prep'!$A$7:$P$70,4)) | J39: =UPPER(IF(OR(I40="a",I40="as"),E39,IF(OR(I40="b",I40="bs"),E40,))) | N39: =UPPER(IF(OR(O55="a",O55="as"),P46,IF(OR(O55="b",O55="bs"),P62,)))
A40: 34 | B40: =IF($D40="","",VLOOKUP($D40,'Boys Si Main Draw Prep'!$A$7:$P$70,15)) | C40: =IF($D40="","",VLOOKUP($D40,'Boys Si Main Draw Prep'!$A$7:$P$70,16)) | E40: =UPPER(IF($D40="","",VLOOKUP($D40,'Boys Si Main Draw Prep'!$A$7:$P$70,2))) | F40: =IF($D40="","",VLOOKUP($D40,'Boys Si Main Draw Prep'!$A$7:$P$70,3)) | H40: =IF($D40="","",VLOOKUP($D40,'Boys Si Main Draw Prep'!$A$7:$P$70,4)) | L40: =UPPER(IF(OR(K40="a",K40="as"),J39,IF(OR(K40="b",K40="bs"),J41,)))
A41: 35 | B41: =IF($D41="","",VLOOKUP($D41,'Boys Si Main Draw Prep'!$A$7:$P$70,15)) | C41: =IF($D41="","",VLOOKUP($D41,'Boys Si Main Draw Prep'!$A$7:$P$70,16)) | E41: =UPPER(IF($D41="","",VLOOKUP($D41,'Boys Si Main Draw Prep'!$A$7:$P$70,2))) | F41: =IF($D41="","",VLOOKUP($D41,'Boys Si Main Draw Prep'!$A$7:$P$70,3)) | H41: =IF($D41="","",VLOOKUP($D41,'Boys Si Main Draw Prep'!$A$7:$P$70,4)) | J41: =UPPER(IF(OR(I42="a",I42="as"),E41,IF(OR(I42="b",I42="bs"),E42,)))
...

Sheet Boys Si Main 96&128
A1: ='Week SetUp'!$A$6 -> 0 | J1: BOYS SINGLES
A2: ='Week SetUp'!$A$8 -> ITF Junior Circuit | J2: MAIN DRAW (96&128)
A3: Week of | F3: City, Country | J3: Group | L3: Tourn. ID | Q3: ITF Referee
A4: ='Week SetUp'!$A$10 -> 0 | F4: ='Week SetUp'!$C$10 -> 0 | J4: ='Week SetUp'!$D$10 -> 0 | L4: ='Week SetUp'!$A$12 -> 0 | Q4: ='Week SetUp'!$E$10 -> 0
B5: St. | C5: Rank | D5: Seed | E5: Family Name | F5: First name | H5: Nationality | J5: 2nd Round | L5: 3rd Round | N5: 4th Round | P5: Quarterfinalists
A7: 1 | B7: =IF($D7="","",VLOOKUP($D7,'Boys Si Main Draw Prep'!$A$7:$P$134,15)) | C7: =IF($D7="","",VLOOKUP($D7,'Boys Si Main Draw Prep'!$A$7:$P$134,16)) | E7: =UPPER(IF($D7="","",VLOOKUP($D7,'Boys Si Main Draw Prep'!$A$7:$P$134,2))) | F7: =IF($D7="","",VLOOKUP($D7,'Boys Si Main Draw Prep'!$A$7:$P$134,3)) | H7: =IF($D7="","",VLOOKUP($D7,'Boys Si Main Draw Prep'!$A$7:$P$134,4)) | J7: =UPPER(IF(OR(I8="a",I8="as"),E7,IF(OR(I8="b",I8="bs"),E8,))) | Q7: Page 1(3) | T7: =#REF! -> #REF!
A8: 2 | B8: =IF($D8="","",VLOOKUP($D8,'Boys Si Main Draw Prep'!$A$7:$P$134,15)) | C8: =IF($D8="","",VLOOKUP($D8,'Boys Si Main Draw Prep'!$A$7:$P$134,16)) | E8: =UPPER(IF($D8="","",VLOOKUP($D8,'Boys Si Main Draw Prep'!$A$7:$P$134,2))) | F8: =IF($D8="","",VLOOKUP($D8,'Boys Si Main Draw Prep'!$A$7:$P$134,3)) | H8: =IF($D8="","",VLOOKUP($D8,'Boys Si Main Draw Prep'!$A$7:$P$134,4)) | L8: =UPPER(IF(OR(K8="a",K8="as"),J7,IF(OR(K8="b",K8="bs"),J9,))) | T8: =#REF! -> #REF!
A9: 3 | B9: =IF($D9="","",VLOOKUP($D9,'Boys Si Main Draw Prep'!$A$7:$P$134,15)) | C9: =IF($D9="","",VLOOKUP($D9,'Boys Si Main Draw Prep'!$A$7:$P$134,16)) | E9: =UPPER(IF($D9="","",VLOOKUP($D9,'Boys Si Main Draw Prep'!$A$7:$P$134,2))) | F9: =IF($D9="","",VLOOKUP($D9,'Boys Si Main Draw Prep'!$A$7:$P$134,3)) | H9: =IF($D9="","",VLOOKUP($D9,'Boys Si Main Draw Prep'!$A$7:$P$134,4)) | J9: =UPPER(IF(OR(I10="a",I10="as"),E9,IF(OR(I10="b",I10="bs"),E10,))) | T9: =#REF! -> #REF!
A10: 4 | B10: =IF($D10="","",VLOOKUP($D10,'Boys Si Main Draw Prep'!$A$7:$P$134,15)) | C10: =IF($D10="","",VLOOKUP($D10,'Boys Si Main Draw Prep'!$A$7:$P$134,16)) | E10: =UPPER(IF($D10="","",VLOOKUP($D10,'Boys Si Main Draw Prep'!$A$7:$P$134,2))) | F10: =IF($D10="","",VLOOKUP($D10,'Boys Si Main Draw Prep'!$A$7:$P$134,3)) | H10: =IF($D10="","",VLOOKUP($D10,'Boys Si Main Draw Prep'!$A$7:$P$134,4)) | L10: Umpire | N10: =UPPER(IF(OR(M10="a",M10="as"),L8,IF(OR(M10="b",M10="bs"),L12,))) | T10: =#REF! -> #REF!
A11: 5 | B11: =IF($D11="","",VLOOKUP($D11,'Boys Si Main Draw Prep'!$A$7:$P$134,15)) | C11: =IF($D11="","",VLOOKUP($D11,'Boys Si Main Draw Prep'!$A$7:$P$134,16)) | E11: =UPPER(IF($D11="","",VLOOKUP($D11,'Boys Si Main Draw Prep'!$A$7:$P$134,2))) | F11: =IF($D11="","",VLOOKUP($D11,'Boys Si Main Draw Prep'!$A$7:$P$134,3)) | H11: =IF($D11="","",VLOOKUP($D11,'Boys Si Main Draw Prep'!$A$7:$P$134,4)) | J11: =UPPER(IF(OR(I12="a",I12="as"),E11,IF(OR(I12="b",I12="bs"),E12,))) | T11: =#REF! -> #REF!
A12: 6 | B12: =IF($D12="","",VLOOKUP($D12,'Boys Si Main Draw Prep'!$A$7:$P$134,15)) | C12: =IF($D12="","",VLOOKUP($D12,'Boys Si Main Draw Prep'!$A$7:$P$134,16)) | E12: =UPPER(IF($D12="","",VLOOKUP($D12,'Boys Si Main Draw Prep'!$A$7:$P$134,2))) | F12: =IF($D12="","",VLOOKUP($D12,'Boys Si Main Draw Prep'!$A$7:$P$134,3)) | H12: =IF($D12="","",VLOOKUP($D12,'Boys Si Main Draw Prep'!$A$7:$P$134,4)) | L12: =UPPER(IF(OR(K12="a",K12="as"),J11,IF(OR(K12="b",K12="bs"),J13,))) | T12: =#REF! -> #REF!
A13: 7 | B13: =IF($D13="","",VLOOKUP($D13,'Boys Si Main Draw Prep'!$A$7:$P$134,15)) | C13: =IF($D13="","",VLOOKUP($D13,'Boys Si Main Draw Prep'!$A$7:$P$134,16)) | E13: =UPPER(IF($D13="","",VLOOKUP($D13,'Boys Si Main Draw Prep'!$A$7:$P$134,2))) | F13: =IF($D13="","",VLOOKUP($D13,'Boys Si Main Draw Prep'!$A$7:$P$134,3)) | H13: =IF($D13="","",VLOOKUP($D13,'Boys Si Main Draw Prep'!$A$7:$P$134,4)) | J13: =UPPER(IF(OR(I14="a",I14="as"),E13,IF(OR(I14="b",I14="bs"),E14,))) | T13: =#REF! -> #REF!
A14: 8 | B14: =IF($D14="","",VLOOKUP($D14,'Boys Si Main Draw Prep'!$A$7:$P$134,15)) | C14: =IF($D14="","",VLOOKUP($D14,'Boys Si Main Draw Prep'!$A$7:$P$134,16)) | E14: =UPPER(IF($D14="","",VLOOKUP($D14,'Boys Si Main Draw Prep'!$A$7:$P$134,2))) | F14: =IF($D14="","",VLOOKUP($D14,'Boys Si Main Draw Prep'!$A$7:$P$134,3)) | H14: =IF($D14="","",VLOOKUP($D14,'Boys Si Main Draw Prep'!$A$7:$P$134,4)) | N14: Umpire | P14: =UPPER(IF(OR(O14="a",O14="as"),N10,IF(OR(O14="b",O14="bs"),N18,))) | T14: =#REF! -> #REF!
A15: 9 | B15: =IF($D15="","",VLOOKUP($D15,'Boys Si Main Draw Prep'!$A$7:$P$134,15)) | C15: =IF($D15="","",VLOOKUP($D15,'Boys Si Main Draw Prep'!$A$7:$P$134,16)) | E15: =UPPER(IF($D15="","",VLOOKUP($D15,'Boys Si Main Draw Prep'!$A$7:$P$134,2))) | F15: =IF($D15="","",VLOOKUP($D15,'Boys Si Main Draw Prep'!$A$7:$P$134,3)) | H15: =IF($D15="","",VLOOKUP($D15,'Boys Si Main Draw Prep'!$A$7:$P$134,4)) | J15: =UPPER(IF(OR(I16="a",I16="as"),E15,IF(OR(I16="b",I16="bs"),E16,))) | T15: =#REF! -> #REF!
A16: 10 | B16: =IF($D16="","",VLOOKUP($D16,'Boys Si Main Draw Prep'!$A$7:$P$134,15)) | C16: =IF($D16="","",VLOOKUP($D16,'Boys Si Main Draw Prep'!$A$7:$P$134,16)) | E16: =UPPER(IF($D16="","",VLOOKUP($D16,'Boys Si Main Draw Prep'!$A$7:$P$134,2))) | F16: =IF($D16="","",VLOOKUP($D16,'Boys Si Main Draw Prep'!$A$7:$P$134,3)) | H16: =IF($D16="","",VLOOKUP($D16,'Boys Si Main Draw Prep'!$A$7:$P$134,4)) | L16: =UPPER(IF(OR(K16="a",K16="as"),J15,IF(OR(K16="b",K16="bs"),J17,))) | T16: =#REF! -> #REF!
A17: 11 | B17: =IF($D17="","",VLOOKUP($D17,'Boys Si Main Draw Prep'!$A$7:$P$134,15)) | C17: =IF($D17="","",VLOOKUP($D17,'Boys Si Main Draw Prep'!$A$7:$P$134,16)) | E17: =UPPER(IF($D17="","",VLOOKUP($D17,'Boys Si Main Draw Prep'!$A$7:$P$134,2))) | F17: =IF($D17="","",VLOOKUP($D17,'Boys Si Main Draw Prep'!$A$7:$P$134,3)) | H17: =IF($D17="","",VLOOKUP($D17,'Boys Si Main Draw Prep'!$A$7:$P$134,4)) | J17: =UPPER(IF(OR(I18="a",I18="as"),E17,IF(OR(I18="b",I18="bs"),E18,)))
A18: 12 | B18: =IF($D18="","",VLOOKUP($D18,'Boys Si Main Draw Prep'!$A$7:$P$134,15)) | C18: =IF($D18="","",VLOOKUP($D18,'Boys Si Main Draw Prep'!$A$7:$P$134,16)) | E18: =UPPER(IF($D18="","",VLOOKUP($D18,'Boys Si Main Draw Prep'!$A$7:$P$134,2))) | F18: =IF($D18="","",VLOOKUP($D18,'Boys Si Main Draw Prep'!$A$7:$P$134,3)) | H18: =IF($D18="","",VLOOKUP($D18,'Boys Si Main Draw Prep'!$A$7:$P$134,4)) | L18: Umpire | N18: =UPPER(IF(OR(M18="a",M18="as"),L16,IF(OR(M18="b",M18="bs"),L20,)))
A19: 13 | B19: =IF($D19="","",VLOOKUP($D19,'Boys Si Main Draw Prep'!$A$7:$P$134,15)) | C19: =IF($D19="","",VLOOKUP($D19,'Boys Si Main Draw Prep'!$A$7:$P$134,16)) | E19: =UPPER(IF($D19="","",VLOOKUP($D19,'Boys Si Main Draw Prep'!$A$7:$P$134,2))) | F19: =IF($D19="","",VLOOKUP($D19,'Boys Si Main Draw Prep'!$A$7:$P$134,3)) | H19: =IF($D19="","",VLOOKUP($D19,'Boys Si Main Draw Prep'!$A$7:$P$134,4)) | J19: =UPPER(IF(OR(I20="a",I20="as"),E19,IF(OR(I20="b",I20="bs"),E20,)))
A20: 14 | B20: =IF($D20="","",VLOOKUP($D20,'Boys Si Main Draw Prep'!$A$7:$P$134,15)) | C20: =IF($D20="","",VLOOKUP($D20,'Boys Si Main Draw Prep'!$A$7:$P$134,16)) | E20: =UPPER(IF($D20="","",VLOOKUP($D20,'Boys Si Main Draw Prep'!$A$7:$P$134,2))) | F20: =IF($D20="","",VLOOKUP($D20,'Boys Si Main Draw Prep'!$A$7:$P$134,3)) | H20: =IF($D20="","",VLOOKUP($D20,'Boys Si Main Draw Prep'!$A$7:$P$134,4)) | L20: =UPPER(IF(OR(K20="a",K20="as"),J19,IF(OR(K20="b",K20="bs"),J21,)))
A21: 15 | B21: =IF($D21="","",VLOOKUP($D21,'Boys Si Main Draw Prep'!$A$7:$P$134,15)) | C21: =IF($D21="","",VLOOKUP($D21,'Boys Si Main Draw Prep'!$A$7:$P$134,16)) | E21: =UPPER(IF($D21="","",VLOOKUP($D21,'Boys Si Main Draw Prep'!$A$7:$P$134,2))) | F21: =IF($D21="","",VLOOKUP($D21,'Boys Si Main Draw Prep'!$A$7:$P$134,3)) | H21: =IF($D21="","",VLOOKUP($D21,'Boys Si Main Draw Prep'!$A$7:$P$134,4)) | J21: =UPPER(IF(OR(I22="a",I22="as"),E21,IF(OR(I22="b",I22="bs"),E22,)))
A22: 16 | B22: =IF($D22="","",VLOOKUP($D22,'Boys Si Main Draw Prep'!$A$7:$P$134,15)) | C22: =IF($D22="","",VLOOKUP($D22,'Boys Si Main Draw Prep'!$A$7:$P$134,16)) | E22: =UPPER(IF($D22="","",VLOOKUP($D22,'Boys Si Main Draw Prep'!$A$7:$P$134,2))) | F22: =IF($D22="","",VLOOKUP($D22,'Boys Si Main Draw Prep'!$A$7:$P$134,3)) | H22: =IF($D22="","",VLOOKUP($D22,'Boys Si Main Draw Prep'!$A$7:$P$134,4))
A23: 17 | B23: =IF($D23="","",VLOOKUP($D23,'Boys Si Main Draw Prep'!$A$7:$P$134,15)) | C23: =IF($D23="","",VLOOKUP($D23,'Boys Si Main Draw Prep'!$A$7:$P$134,16)) | E23: =UPPER(IF($D23="","",VLOOKUP($D23,'Boys Si Main Draw Prep'!$A$7:$P$134,2))) | F23: =IF($D23="","",VLOOKUP($D23,'Boys Si Main Draw Prep'!$A$7:$P$134,3)) | H23: =IF($D23="","",VLOOKUP($D23,'Boys Si Main Draw Prep'!$A$7:$P$134,4)) | J23: =UPPER(IF(OR(I24="a",I24="as"),E23,IF(OR(I24="b",I24="bs"),E24,)))
A24: 18 | B24: =IF($D24="","",VLOOKUP($D24,'Boys Si Main Draw Prep'!$A$7:$P$134,15)) | C24: =IF($D24="","",VLOOKUP($D24,'Boys Si Main Draw Prep'!$A$7:$P$134,16)) | E24: =UPPER(IF($D24="","",VLOOKUP($D24,'Boys Si Main Draw Prep'!$A$7:$P$134,2))) | F24: =IF($D24="","",VLOOKUP($D24,'Boys Si Main Draw Prep'!$A$7:$P$134,3)) | H24: =IF($D24="","",VLOOKUP($D24,'Boys Si Main Draw Prep'!$A$7:$P$134,4)) | L24: =UPPER(IF(OR(K24="a",K24="as"),J23,IF(OR(K24="b",K24="bs"),J25,)))
A25: 19 | B25: =IF($D25="","",VLOOKUP($D25,'Boys Si Main Draw Prep'!$A$7:$P$134,15)) | C25: =IF($D25="","",VLOOKUP($D25,'Boys Si Main Draw Prep'!$A$7:$P$134,16)) | E25: =UPPER(IF($D25="","",VLOOKUP($D25,'Boys Si Main Draw Prep'!$A$7:$P$134,2))) | F25: =IF($D25="","",VLOOKUP($D25,'Boys Si Main Draw Prep'!$A$7:$P$134,3)) | H25: =IF($D25="","",VLOOKUP($D25,'Boys Si Main Draw Prep'!$A$7:$P$134,4)) | J25: =UPPER(IF(OR(I26="a",I26="as"),E25,IF(OR(I26="b",I26="bs"),E26,)))
A26: 20 | B26: =IF($D26="","",VLOOKUP($D26,'Boys Si Main Draw Prep'!$A$7:$P$134,15)) | C26: =IF($D26="","",VLOOKUP($D26,'Boys Si Main Draw Prep'!$A$7:$P$134,16)) | E26: =UPPER(IF($D26="","",VLOOKUP($D26,'Boys Si Main Draw Prep'!$A$7:$P$134,2))) | F26: =IF($D26="","",VLOOKUP($D26,'Boys Si Main Draw Prep'!$A$7:$P$134,3)) | H26: =IF($D26="","",VLOOKUP($D26,'Boys Si Main Draw Prep'!$A$7:$P$134,4)) | L26: Umpire | N26: =UPPER(IF(OR(M26="a",M26="as"),L24,IF(OR(M26="b",M26="bs"),L28,)))
A27: 21 | B27: =IF($D27="","",VLOOKUP($D27,'Boys Si Main Draw Prep'!$A$7:$P$134,15)) | C27: =IF($D27="","",VLOOKUP($D27,'Boys Si Main Draw Prep'!$A$7:$P$134,16)) | E27: =UPPER(IF($D27="","",VLOOKUP($D27,'Boys Si Main Draw Prep'!$A$7:$P$134,2))) | F27: =IF($D27="","",VLOOKUP($D27,'Boys Si Main Draw Prep'!$A$7:$P$134,3)) | H27: =IF($D27="","",VLOOKUP($D27,'Boys Si Main Draw Prep'!$A$7:$P$134,4)) | J27: =UPPER(IF(OR(I28="a",I28="as"),E27,IF(OR(I28="b",I28="bs"),E28,)))
A28: 22 | B28: =IF($D28="","",VLOOKUP($D28,'Boys Si Main Draw Prep'!$A$7:$P$134,15)) | C28: =IF($D28="","",VLOOKUP($D28,'Boys Si Main Draw Prep'!$A$7:$P$134,16)) | E28: =UPPER(IF($D28="","",VLOOKUP($D28,'Boys Si Main Draw Prep'!$A$7:$P$134,2))) | F28: =IF($D28="","",VLOOKUP($D28,'Boys Si Main Draw Prep'!$A$7:$P$134,3)) | H28: =IF($D28="","",VLOOKUP($D28,'Boys Si Main Draw Prep'!$A$7:$P$134,4)) | L28: =UPPER(IF(OR(K28="a",K28="as"),J27,IF(OR(K28="b",K28="bs"),J29,)))
A29: 23 | B29: =IF($D29="","",VLOOKUP($D29,'Boys Si Main Draw Prep'!$A$7:$P$134,15)) | C29: =IF($D29="","",VLOOKUP($D29,'Boys Si Main Draw Prep'!$A$7:$P$134,16)) | E29: =UPPER(IF($D29="","",VLOOKUP($D29,'Boys Si Main Draw Prep'!$A$7:$P$134,2))) | F29: =IF($D29="","",VLOOKUP($D29,'Boys Si Main Draw Prep'!$A$7:$P$134,3)) | H29: =IF($D29="","",VLOOKUP($D29,'Boys Si Main Draw Prep'!$A$7:$P$134,4)) | J29: =UPPER(IF(OR(I30="a",I30="as"),E29,IF(OR(I30="b",I30="bs"),E30,)))
A30: 24 | B30: =IF($D30="","",VLOOKUP($D30,'Boys Si Main Draw Prep'!$A$7:$P$134,15)) | C30: =IF($D30="","",VLOOKUP($D30,'Boys Si Main Draw Prep'!$A$7:$P$134,16)) | E30: =UPPER(IF($D30="","",VLOOKUP($D30,'Boys Si Main Draw Prep'!$A$7:$P$134,2))) | F30: =IF($D30="","",VLOOKUP($D30,'Boys Si Main Draw Prep'!$A$7:$P$134,3)) | H30: =IF($D30="","",VLOOKUP($D30,'Boys Si Main Draw Prep'!$A$7:$P$134,4)) | N30: Umpire | P30: =UPPER(IF(OR(O30="a",O30="as"),N26,IF(OR(O30="b",O30="bs"),N34,)))
A31: 25 | B31: =IF($D31="","",VLOOKUP($D31,'Boys Si Main Draw Prep'!$A$7:$P$134,15)) | C31: =IF($D31="","",VLOOKUP($D31,'Boys Si Main Draw Prep'!$A$7:$P$134,16)) | E31: =UPPER(IF($D31="","",VLOOKUP($D31,'Boys Si Main Draw Prep'!$A$7:$P$134,2))) | F31: =IF($D31="","",VLOOKUP($D31,'Boys Si Main Draw Prep'!$A$7:$P$134,3)) | H31: =IF($D31="","",VLOOKUP($D31,'Boys Si Main Draw Prep'!$A$7:$P$134,4)) | J31: =UPPER(IF(OR(I32="a",I32="as"),E31,IF(OR(I32="b",I32="bs"),E32,)))
A32: 26 | B32: =IF($D32="","",VLOOKUP($D32,'Boys Si Main Draw Prep'!$A$7:$P$134,15)) | C32: =IF($D32="","",VLOOKUP($D32,'Boys Si Main Draw Prep'!$A$7:$P$134,16)) | E32: =UPPER(IF($D32="","",VLOOKUP($D32,'Boys Si Main Draw Prep'!$A$7:$P$134,2))) | F32: =IF($D32="","",VLOOKUP($D32,'Boys Si Main Draw Prep'!$A$7:$P$134,3)) | H32: =IF($D32="","",VLOOKUP($D32,'Boys Si Main Draw Prep'!$A$7:$P$134,4)) | L32: =UPPER(IF(OR(K32="a",K32="as"),J31,IF(OR(K32="b",K32="bs"),J33,)))
A33: 27 | B33: =IF($D33="","",VLOOKUP($D33,'Boys Si Main Draw Prep'!$A$7:$P$134,15)) | C33: =IF($D33="","",VLOOKUP($D33,'Boys Si Main Draw Prep'!$A$7:$P$134,16)) | E33: =UPPER(IF($D33="","",VLOOKUP($D33,'Boys Si Main Draw Prep'!$A$7:$P$134,2))) | F33: =IF($D33="","",VLOOKUP($D33,'Boys Si Main Draw Prep'!$A$7:$P$134,3)) | H33: =IF($D33="","",VLOOKUP($D33,'Boys Si Main Draw Prep'!$A$7:$P$134,4)) | J33: =UPPER(IF(OR(I34="a",I34="as"),E33,IF(OR(I34="b",I34="bs"),E34,)))
A34: 28 | B34: =IF($D34="","",VLOOKUP($D34,'Boys Si Main Draw Prep'!$A$7:$P$134,15)) | C34: =IF($D34="","",VLOOKUP($D34,'Boys Si Main Draw Prep'!$A$7:$P$134,16)) | E34: =UPPER(IF($D34="","",VLOOKUP($D34,'Boys Si Main Draw Prep'!$A$7:$P$134,2))) | F34: =IF($D34="","",VLOOKUP($D34,'Boys Si Main Draw Prep'!$A$7:$P$134,3)) | H34: =IF($D34="","",VLOOKUP($D34,'Boys Si Main Draw Prep'!$A$7:$P$134,4)) | L34: Umpire | N34: =UPPER(IF(OR(M34="a",M34="as"),L32,IF(OR(M34="b",M34="bs"),L36,)))
A35: 29 | B35: =IF($D35="","",VLOOKUP($D35,'Boys Si Main Draw Prep'!$A$7:$P$134,15)) | C35: =IF($D35="","",VLOOKUP($D35,'Boys Si Main Draw Prep'!$A$7:$P$134,16)) | E35: =UPPER(IF($D35="","",VLOOKUP($D35,'Boys Si Main Draw Prep'!$A$7:$P$134,2))) | F35: =IF($D35="","",VLOOKUP($D35,'Boys Si Main Draw Prep'!$A$7:$P$134,3)) | H35: =IF($D35="","",VLOOKUP($D35,'Boys Si Main Draw Prep'!$A$7:$P$134,4)) | J35: =UPPER(IF(OR(I36="a",I36="as"),E35,IF(OR(I36="b",I36="bs"),E36,)))
A36: 30 | B36: =IF($D36="","",VLOOKUP($D36,'Boys Si Main Draw Prep'!$A$7:$P$134,15)) | C36: =IF($D36="","",VLOOKUP($D36,'Boys Si Main Draw Prep'!$A$7:$P$134,16)) | E36: =UPPER(IF($D36="","",VLOOKUP($D36,'Boys Si Main Draw Prep'!$A$7:$P$134,2))) | F36: =IF($D36="","",VLOOKUP($D36,'Boys Si Main Draw Prep'!$A$7:$P$134,3)) | H36: =IF($D36="","",VLOOKUP($D36,'Boys Si Main Draw Prep'!$A$7:$P$134,4)) | L36: =UPPER(IF(OR(K36="a",K36="as"),J35,IF(OR(K36="b",K36="bs"),J37,)))
A37: 31 | B37: =IF($D37="","",VLOOKUP($D37,'Boys Si Main Draw Prep'!$A$7:$P$134,15)) | C37: =IF($D37="","",VLOOKUP($D37,'Boys Si Main Draw Prep'!$A$7:$P$134,16)) | E37: =UPPER(IF($D37="","",VLOOKUP($D37,'Boys Si Main Draw Prep'!$A$7:$P$134,2))) | F37: =IF($D37="","",VLOOKUP($D37,'Boys Si Main Draw Prep'!$A$7:$P$134,3)) | H37: =IF($D37="","",VLOOKUP($D37,'Boys Si Main Draw Prep'!$A$7:$P$134,4)) | J37: =UPPER(IF(OR(I38="a",I38="as"),E37,IF(OR(I38="b",I38="bs"),E38,)))
A38: 32 | B38: =IF($D38="","",VLOOKUP($D38,'Boys Si Main Draw Prep'!$A$7:$P$134,15)) | C38: =IF($D38="","",VLOOKUP($D38,'Boys Si Main Draw Prep'!$A$7:$P$134,16)) | E38: =UPPER(IF($D38="","",VLOOKUP($D38,'Boys Si Main Draw Prep'!$A$7:$P$134,2))) | F38: =IF($D38="","",VLOOKUP($D38,'Boys Si Main Draw Prep'!$A$7:$P$134,3)) | H38: =IF($D38="","",VLOOKUP($D38,'Boys Si Main Draw Prep'!$A$7:$P$134,4))
A39: 33 | B39: =IF($D39="","",VLOOKUP($D39,'Boys Si Main Draw Prep'!$A$7:$P$134,15)) | C39: =IF($D39="","",VLOOKUP($D39,'Boys Si Main Draw Prep'!$A$7:$P$134,16)) | E39: =UPPER(IF($D39="","",VLOOKUP($D39,'Boys Si Main Draw Prep'!$A$7:$P$134,2))) | F39: =IF($D39="","",VLOOKUP($D39,'Boys Si Main Draw Prep'!$A$7:$P$134,3)) | H39: =IF($D39="","",VLOOKUP($D39,'Boys Si Main Draw Prep'!$A$7:$P$134,4)) | J39: =UPPER(IF(OR(I40="a",I40="as"),E39,IF(OR(I40="b",I40="bs"),E40,)))
A40: 34 | B40: =IF($D40="","",VLOOKUP($D40,'Boys Si Main Draw Prep'!$A$7:$P$134,15)) | C40: =IF($D40="","",VLOOKUP($D40,'Boys Si Main Draw Prep'!$A$7:$P$134,16)) | E40: =UPPER(IF($D40="","",VLOOKUP($D40,'Boys Si Main Draw Prep'!$A$7:$P$134,2))) | F40: =IF($D40="","",VLOOKUP($D40,'Boys Si Main Draw Prep'!$A$7:$P$134,3)) | H40: =IF($D40="","",VLOOKUP($D40,'Boys Si Main Draw Prep'!$A$7:$P$134,4)) | L40: =UPPER(IF(OR(K40="a",K40="as"),J39,IF(OR(K40="b",K40="bs"),J41,)))
A41: 35 | B41: =IF($D41="","",VLOOKUP($D41,'Boys Si Main Draw Prep'!$A$7:$P$134,15)) | C41: =IF($D41="","",VLOOKUP($D41,'Boys Si Main Draw Prep'!$A$7:$P$134,16)) | E41: =UPPER(IF($D41="","",VLOOKUP($D41,'Boys Si Main Draw Prep'!$A$7:$P$134,2))) | F41: =IF($D41="","",VLOOKUP($D41,'Boys Si Main Draw Prep'!$A$7:$P$134,3)) | H41: =IF($D41="","",VLOOKUP($D41,'Boys Si Main Draw Prep'!$A$7:$P$134,4)) | J41: =UPPER(IF(OR(I42="a",I42="as"),E41,IF(OR(I42="b",I42="bs"),E42,)))
...

Sheet Girls Si MainDraw Sign-in sheet
A1: ='Week SetUp'!$A$6 -> 0 | F1: GIRLS SINGLES MAIN DRAW SIGN-IN
A2: ='Week SetUp'!$A$8 -> ITF Junior Circuit
A3: Week of | C3: City, Country | F3: Group | G3: Tourn. ID | J3: ITF Referee | K3: ITF Referee's signature
A4: ='Week SetUp'!$A$10 -> 0 | C4: ='Week SetUp'!$C$10 -> 0 | F4: ='Week SetUp'!$D$10 -> 0 | G4: ='Week SetUp'!$A$12 -> 0 | J4: ='Week SetUp'!$E$10 -> 0
C5: Day | D5: Date | F5: Time | G5: Place
A6: Sign-in deadline:
A7: Line | B7: Family name | C7: First name | D7: Nat. | E7: Date of birth Day/Mth/Yr | F7: Player signature | G7: Player hotel or Contact number | H7: On Acc.List Y/N | I7: ITF18 Rank | J7: Pro- Rank | K7: Other | P7: Accept status | Q7: Seed Pos | R7: Draw chip number
A8: 1
A9: 2
A10: 3
A11: 4
A12: 5
A13: 6
A14: 7
A15: 8
A16: 9
A17: 10
A18: 11
A19: 12
... A135: 128

Sheet Girls Si Main Draw Prep
A1: ='Week SetUp'!$A$6 -> 0 | D1: GIRLS SINGLES MAIN DRAW
A2: ='Week SetUp'!$A$8 -> ITF Junior Circuit | D2: PREPARATION LIST
A3: DO NO DELETE THIS PAGE IF YOU ARE USING LINK-IN'S TO THE DRAW | O3: ITF Referee's signature | T3: Over 18 | U3: =YEAR($A$5)-18 -> 1882
A4: Week of | C4: City, Country | D4: Group | G4: Tourn. ID | J4: ITF Referee | T4: Under 13 | U4: =YEAR($A$5)-13 -> 1887
A5: ='Week SetUp'!$A$10 -> 0 | C5: ='Week SetUp'!$C$10 -> 0 | D5: ='Week SetUp'!$D$10 -> 0 | G5: ='Week SetUp'!$A$12 -> 0 | J5: ='Week SetUp'!$E$10 -> 0 | R5: =COUNTA(R7:R134) -> 0
A6: Line | B6: Family name | C6: First name | D6: Nat. | E6: Date of Birth dd mmm yy | F6: On Accept. List Yes | G6: Signed-in Yes | H6: ITF 18 Ranking | I6: Pro- Ranking | J6: Other ordering | L6: Criterium Sort | M6: Seed Sort | O6: Accept status | P6: Seed Ranking | Q6: AccSort | R6: Seed Position
A7: 1 | M7: =IF(R7="",999,R7) -> 999 | Q7: =IF(O7="DA",1,IF(O7="WC",2,IF(O7="SE",3,IF(O7="Q",4,IF(O7="LL",5,999))))) -> 999
A8: 2 | M8: =IF(R8="",999,R8) -> 999 | Q8: =IF(O8="DA",1,IF(O8="WC",2,IF(O8="SE",3,IF(O8="Q",4,IF(O8="LL",5,999))))) -> 999
A9: 3 | M9: =IF(R9="",999,R9) -> 999 | Q9: =IF(O9="DA",1,IF(O9="WC",2,IF(O9="SE",3,IF(O9="Q",4,IF(O9="LL",5,999))))) -> 999
A10: 4 | M10: =IF(R10="",999,R10) -> 999 | Q10: =IF(O10="DA",1,IF(O10="WC",2,IF(O10="SE",3,IF(O10="Q",4,IF(O10="LL",5,999))))) -> 999
A11: 5 | M11: =IF(R11="",999,R11) -> 999 | Q11: =IF(O11="DA",1,IF(O11="WC",2,IF(O11="SE",3,IF(O11="Q",4,IF(O11="LL",5,999))))) -> 999
A12: 6 | M12: =IF(R12="",999,R12) -> 999 | Q12: =IF(O12="DA",1,IF(O12="WC",2,IF(O12="SE",3,IF(O12="Q",4,IF(O12="LL",5,999))))) -> 999
A13: 7 | M13: =IF(R13="",999,R13) -> 999 | Q13: =IF(O13="DA",1,IF(O13="WC",2,IF(O13="SE",3,IF(O13="Q",4,IF(O13="LL",5,999))))) -> 999
A14: 8 | M14: =IF(R14="",999,R14) -> 999 | Q14: =IF(O14="DA",1,IF(O14="WC",2,IF(O14="SE",3,IF(O14="Q",4,IF(O14="LL",5,999))))) -> 999
A15: 9 | M15: =IF(R15="",999,R15) -> 999 | Q15: =IF(O15="DA",1,IF(O15="WC",2,IF(O15="SE",3,IF(O15="Q",4,IF(O15="LL",5,999))))) -> 999
A16: 10 | M16: =IF(R16="",999,R16) -> 999 | Q16: =IF(O16="DA",1,IF(O16="WC",2,IF(O16="SE",3,IF(O16="Q",4,IF(O16="LL",5,999))))) -> 999
A17: 11 | M17: =IF(R17="",999,R17) -> 999 | Q17: =IF(O17="DA",1,IF(O17="WC",2,IF(O17="SE",3,IF(O17="Q",4,IF(O17="LL",5,999))))) -> 999
A18: 12 | M18: =IF(R18="",999,R18) -> 999 | Q18: =IF(O18="DA",1,IF(O18="WC",2,IF(O18="SE",3,IF(O18="Q",4,IF(O18="LL",5,999))))) -> 999
... A134: 128 | M134: =IF(R134="",999,R134) -> 999 | Q134: =IF(O134="DA",1,IF(O134="WC",2,IF(O134="SE",3,IF(O134="Q",4,IF(O134="LL",5,999))))) -> 999

Sheet Girls Si Main 16
A1: ='Week SetUp'!$A$6 -> 0 | J1: GIRLS SINGLES
A2: ='Week SetUp'!$A$8 -> ITF Junior Circuit | J2: MAIN DRAW (16)
A3: Week of | F3: City, Country | J3: Group | L3: Tourn. ID | Q3: ITF Referee
A4: ='Week SetUp'!$A$10 -> 0 | F4: ='Week SetUp'!$C$10 -> 0 | J4: ='Week SetUp'!$D$10 -> 0 | L4: ='Week SetUp'!$A$12 -> 0 | Q4: ='Week SetUp'!$E$10 -> 0
B5: St. | C5: Rank | D5: Seed | E5: Family Name | F5: First name | H5: Nationality | J5: 2nd Round | L5: Semifinals | N5: Final | P5: Winner
A7: 1 | B7: =IF($D7="","",VLOOKUP($D7,'Girls Si Main Draw Prep'!$A$7:$P$22,15)) | C7: =IF($D7="","",VLOOKUP($D7,'Girls Si Main Draw Prep'!$A$7:$P$22,16)) | E7: =UPPER(IF($D7="","",VLOOKUP($D7,'Girls Si Main Draw Prep'!$A$7:$P$22,2))) | F7: =IF($D7="","",VLOOKUP($D7,'Girls Si Main Draw Prep'!$A$7:$P$22,3)) | H7: =IF($D7="","",VLOOKUP($D7,'Girls Si Main Draw Prep'!$A$7:$P$22,4)) | T7: =#REF! -> #REF!
H8: Umpire | J8: =UPPER(IF(OR(I8="a",I8="as"),E7,IF(OR(I8="b",I8="bs"),E9,))) | T8: =#REF! -> #REF!
