Workbook

Sheet Week SetUp
A1: Junior Week SetUp page
A2: DO NOT DELETE THIS PAGE !!!
A4: FILL IN ALL GREEN FIELDS BELOW
A5: Tournament Title (full name)
E6: 2005 v1.0
A7: Event Category | D7: Download from: | E7: www.tennisofficial.com
A8: ITF Junior Circuit
A9: Week of (Monday). Use format, 15/01/2003 (day/month/year) | C9: City, Country | D9: Group | E9: ITF Referee
A11: ITF Tournament Calendar designation
A15: Copyright © ITF Limited, trading as the International Tennis Federation, 2005
A16: All rights reserved. Reproduction of this work in whole or in part, without the prior permission of the ITF is prohibited.
A17: Inquiries and comments to: | B17: forms@itftennis.com

Sheet Boys Si Main Draw Sign-in sheet
A1: ='Week SetUp'!$A$6 -> 0 | F1: BOYS SINGLES MAIN DRAW SIGN-IN
A2: ='Week SetUp'!$A$8 -> ITF Junior Circuit
A3: Week of | C3: City, Country | F3: Group | G3: Tourn. ID | J3: ITF Referee | K3: ITF Referee's signature
A4: ='Week SetUp'!$A$10 -> 0 | C4: ='Week SetUp'!$C$10 -> 0 | F4: ='Week SetUp'!$D$10 -> 0 | G4: ='Week SetUp'!$A$12 -> 0 | J4: ='Week SetUp'!$E$10 -> 0
C5: Day | D5: Date | F5: Time | G5: Place
A6: Sign-in deadline:
A7: Line | B7: Family name | C7: First name | D7: Nat. | E7: Date of birth Day/Mth/Yr | F7: Player signature | G7: Player hotel or Contact number | H7: On Acc.List Y/N | I7: ITF18 Rank | J7: Pro- Rank | K7: Other | P7: Accept status | Q7: Seed Pos | R7: Draw chip number
A8: 1
A9: 2
A10: 3
A11: 4
A12: 5
A13: 6
A14: 7
A15: 8
A16: 9
A17: 10
A18: 11
A19: 12
... A135: 128

Sheet Boys Si Main Draw Prep
A1: ='Week SetUp'!$A$6 -> 0 | D1: BOYS SINGLES MAIN DRAW
A2: ='Week SetUp'!$A$8 -> ITF Junior Circuit | D2: PREPARATION LIST
A3: DO NO DELETE THIS PAGE IF YOU ARE USING LINK-IN'S TO THE DRAW | O3: ITF Referee's signature | T3: Over 18 | U3: =YEAR($A$5)-18 -> 1882
A4: Week of | C4: City, Country | D4: Group | G4: Tourn. ID | J4: ITF Referee | T4: Under 13 | U4: =YEAR($A$5)-13 -> 1887
A5: ='Week SetUp'!$A$10 -> 0 | C5: ='Week SetUp'!$C$10 -> 0 | D5: ='Week SetUp'!$D$10 -> 0 | G5: ='Week SetUp'!$A$12 -> 0 | J5: ='Week SetUp'!$E$10 -> 0 | R5: =COUNTA(R7:R134) -> 0
A6: Line | B6: Family name | C6: First name | D6: Nat. | E6: Date of Birth yy/mm/dd(US) | F6: On Accept. list Yes | G6: Signed-in Yes | H6: ITF 18 Ranking | I6: Pro- Ranking | J6: Other ordering | M6: Seed Sort | O6: Accept status | P6: Seed Ranking | Q6: AccSort | R6: Seed Position
A7: 1 | M7: =IF(R7="",999,R7) -> 999 | Q7: =IF(O7="DA",1,IF(O7="WC",2,IF(O7="SE",3,IF(O7="Q",4,IF(O7="LL",5,999))))) -> 999
A8: 2 | M8: =IF(R8="",999,R8) -> 999 | Q8: =IF(O8="DA",1,IF(O8="WC",2,IF(O8="SE",3,IF(O8="Q",4,IF(O8="LL",5,999))))) -> 999
A9: 3 | M9: =IF(R9="",999,R9) -> 999 | Q9: =IF(O9="DA",1,IF(O9="WC",2,IF(O9="SE",3,IF(O9="Q",4,IF(O9="LL",5,999))))) -> 999
A10: 4 | M10: =IF(R10="",999,R10) -> 999 | Q10: =IF(O10="DA",1,IF(O10="WC",2,IF(O10="SE",3,IF(O10="Q",4,IF(O10="LL",5,999))))) -> 999
A11: 5 | M11: =IF(R11="",999,R11) -> 999 | Q11: =IF(O11="DA",1,IF(O11="WC",2,IF(O11="SE",3,IF(O11="Q",4,IF(O11="LL",5,999))))) -> 999
A12: 6 | M12: =IF(R12="",999,R12) -> 999 | Q12: =IF(O12="DA",1,IF(O12="WC",2,IF(O12="SE",3,IF(O12="Q",4,IF(O12="LL",5,999))))) -> 999
A13: 7 | M13: =IF(R13="",999,R13) -> 999 | Q13: =IF(O13="DA",1,IF(O13="WC",2,IF(O13="SE",3,IF(O13="Q",4,IF(O13="LL",5,999))))) -> 999
A14: 8 | M14: =IF(R14="",999,R14) -> 999 | Q14: =IF(O14="DA",1,IF(O14="WC",2,IF(O14="SE",3,IF(O14="Q",4,IF(O14="LL",5,999))))) -> 999
A15: 9 | M15: =IF(R15="",999,R15) -> 999 | Q15: =IF(O15="DA",1,IF(O15="WC",2,IF(O15="SE",3,IF(O15="Q",4,IF(O15="LL",5,999))))) -> 999
A16: 10 | M16: =IF(R16="",999,R16) -> 999 | Q16: =IF(O16="DA",1,IF(O16="WC",2,IF(O16="SE",3,IF(O16="Q",4,IF(O16="LL",5,999))))) -> 999
A17: 11 | M17: =IF(R17="",999,R17) -> 999 | Q17: =IF(O17="DA",1,IF(O17="WC",2,IF(O17="SE",3,IF(O17="Q",4,IF(O17="LL",5,999))))) -> 999
A18: 12 | M18: =IF(R18="",999,R18) -> 999 | Q18: =IF(O18="DA",1,IF(O18="WC",2,IF(O18="SE",3,IF(O18="Q",4,IF(O18="LL",5,999))))) -> 999
... A134: 128 | M134: =IF(R134="",999,R134) -> 999 | Q134: =IF(O134="DA",1,IF(O134="WC",2,IF(O134="SE",3,IF(O134="Q",4,IF(O134="LL",5,999))))) -> 999

Sheet Boys Si Main 16
A1: ='Week SetUp'!$A$6 -> 0 | J1: GIRLS SINGLES
A2: ='Week SetUp'!$A$8 -> ITF Junior Circuit | J2: MAIN DRAW (16)
A3: Week of | F3: City, Country | J3: Group | L3: Tourn. ID | Q3: ITF Referee
A4: ='Week SetUp'!$A$10 -> 0 | F4: ='Week SetUp'!$C$10 -> 0 | J4: ='Week SetUp'!$D$10 -> 0 | L4: ='Week SetUp'!$A$12 -> 0 | Q4: ='Week SetUp'!$E$10 -> 0
B5: St. | C5: Rank | D5: Seed | E5: Family Name | F5: First name | H5: Nationality | J5: 2nd Round | L5: Semifinals | N5: Final | P5: Winner
A7: 1 | B7: ΠΑΠΑΝΙΚΟΛΑΟΥ ΑΝΤΩΝΙΑ | C7: =IF($D7="","",VLOOKUP($D7,'Boys Si Main Draw Prep'!$A$7:$P$22,16)) | E7: =UPPER(IF($D7="","",VLOOKUP($D7,'Boys Si Main Draw Prep'!$A$7:$P$22,2))) | F7: =IF($D7="","",VLOOKUP($D7,'Boys Si Main Draw Prep'!$A$7:$P$22,3)) | H7: =IF($D7="","",VLOOKUP($D7,'Boys Si Main Draw Prep'!$A$7:$P$22,4)) | T7: =#REF! -> #REF!
H8: Umpire | J8: ΠΑΠΑΝΙΚΟΛΑΟΥ ΑΝΤΩΝΙΑ | T8: =#REF! -> #REF!
A9: 2 | B9: ΒΥΕ | C9: =IF($D9="","",VLOOKUP($D9,'Boys Si Main Draw Prep'!$A$7:$P$22,16)) | E9: =UPPER(IF($D9="","",VLOOKUP($D9,'Boys Si Main Draw Prep'!$A$7:$P$22,2))) | F9: =IF($D9="","",VLOOKUP($D9,'Boys Si Main Draw Prep'!$A$7:$P$22,3)) | H9: =IF($D9="","",VLOOKUP($D9,'Boys Si Main Draw Prep'!$A$7:$P$22,4)) | T9: =#REF! -> #REF!
J10: Umpire | L10: =UPPER(IF(OR(K10="a",K10="as"),J8,IF(OR(K10="b",K10="bs"),J12,))) | T10: =#REF! -> #REF!
A11: 3 | B11: ΒΕΡΕΜΗ ΒΑΛΕΡΙΑ | C11: =IF($D11="","",VLOOKUP($D11,'Boys Si Main Draw Prep'!$A$7:$P$22,16)) | E11: =UPPER(IF($D11="","",VLOOKUP($D11,'Boys Si Main Draw Prep'!$A$7:$P$22,2))) | F11: =IF($D11="","",VLOOKUP($D11,'Boys Si Main Draw Prep'!$A$7:$P$22,3)) | H11: =IF($D11="","",VLOOKUP($D11,'Boys Si Main Draw Prep'!$A$7:$P$22,4)) | T11: =#REF! -> #REF!
H12: Umpire | J12: =UPPER(IF(OR(I12="a",I12="as"),E11,IF(OR(I12="b",I12="bs"),E13,))) | T12: =#REF! -> #REF!
A13: 4 | B13: ΨΥΡΡΟΠΟΥΛΟΥ ΜΑΡΙΑ | C13: =IF($D13="","",VLOOKUP($D13,'Boys Si Main Draw Prep'!$A$7:$P$22,16)) | E13: =UPPER(IF($D13="","",VLOOKUP($D13,'Boys Si Main Draw Prep'!$A$7:$P$22,2))) | F13: =IF($D13="","",VLOOKUP($D13,'Boys Si Main Draw Prep'!$A$7:$P$22,3)) | H13: =IF($D13="","",VLOOKUP($D13,'Boys Si Main Draw Prep'!$A$7:$P$22,4)) | T13: =#REF! -> #REF!
L14: Umpire | N14: =UPPER(IF(OR(M14="a",M14="as"),L10,IF(OR(M14="b",M14="bs"),L18,))) | T14: =#REF! -> #REF!
A15: 5 | B15: ΔΡΑΚΟΠΟΥΛΟΥ ΑΝΑΣΤΑΣΙΑ | C15: =IF($D15="","",VLOOKUP($D15,'Boys Si Main Draw Prep'!$A$7:$P$22,16)) | E15: =UPPER(IF($D15="","",VLOOKUP($D15,'Boys Si Main Draw Prep'!$A$7:$P$22,2))) | F15: =IF($D15="","",VLOOKUP($D15,'Boys Si Main Draw Prep'!$A$7:$P$22,3)) | H15: =IF($D15="","",VLOOKUP($D15,'Boys Si Main Draw Prep'!$A$7:$P$22,4)) | T15: =#REF! -> #REF!
H16: Umpire | J16: ΔΡΑΚΟΠΟΥΛΟΥ ΑΝΑΣΤΑΣΙΑ | T16: =#REF! -> #REF!
A17: 6 | B17: ΒΥΕ | C17: =IF($D17="","",VLOOKUP($D17,'Boys Si Main Draw Prep'!$A$7:$P$22,16)) | E17: =UPPER(IF($D17="","",VLOOKUP($D17,'Boys Si Main Draw Prep'!$A$7:$P$22,2))) | F17: =IF($D17="","",VLOOKUP($D17,'Boys Si Main Draw Prep'!$A$7:$P$22,3)) | H17: =IF($D17="","",VLOOKUP($D17,'Boys Si Main Draw Prep'!$A$7:$P$22,4))
J18: Umpire | L18: =UPPER(IF(OR(K18="a",K18="as"),J16,IF(OR(K18="b",K18="bs"),J20,)))
A19: 7 | B19: ΒΥΕ | C19: =IF($D19="","",VLOOKUP($D19,'Boys Si Main Draw Prep'!$A$7:$P$22,16)) | E19: =UPPER(IF($D19="","",VLOOKUP($D19,'Boys Si Main Draw Prep'!$A$7:$P$22,2))) | F19: =IF($D19="","",VLOOKUP($D19,'Boys Si Main Draw Prep'!$A$7:$P$22,3)) | H19: =IF($D19="","",VLOOKUP($D19,'Boys Si Main Draw Prep'!$A$7:$P$22,4))
H20: Umpire | J20: ΚΑΡΑΚΟΥΡΤΗ ΑΓΓΕΛΙΚΗ
A21: 8 | B21: ΚΑΡΑΚΟΥΡΤΗ ΑΓΓΕΛΙΚΗ | C21: =IF($D21="","",VLOOKUP($D21,'Boys Si Main Draw Prep'!$A$7:$P$22,16)) | E21: =UPPER(IF($D21="","",VLOOKUP($D21,'Boys Si Main Draw Prep'!$A$7:$P$22,2))) | F21: =IF($D21="","",VLOOKUP($D21,'Boys Si Main Draw Prep'!$A$7:$P$22,3)) | H21: =IF($D21="","",VLOOKUP($D21,'Boys Si Main Draw Prep'!$A$7:$P$22,4))
N22: Umpire | P22: =UPPER(IF(OR(O22="a",O22="as"),N14,IF(OR(O22="b",O22="bs"),N30,)))
A23: 9 | B23: ΑΡΣΕΝΟΠΟΥΛΟΥ ΕΥΑΓΓΕΛΙΑ | C23: =IF($D23="","",VLOOKUP($D23,'Boys Si Main Draw Prep'!$A$7:$P$22,16)) | E23: =UPPER(IF($D23="","",VLOOKUP($D23,'Boys Si Main Draw Prep'!$A$7:$P$22,2))) | F23: =IF($D23="","",VLOOKUP($D23,'Boys Si Main Draw Prep'!$A$7:$P$22,3)) | H23: =IF($D23="","",VLOOKUP($D23,'Boys Si Main Draw Prep'!$A$7:$P$22,4))
H24: Umpire | J24: ΑΡΣΕΝΟΠΟΥΛΟΥ ΕΥΑΓΓΕΛΙΑ
A25: 10 | B25: ΒΥΕ | C25: =IF($D25="","",VLOOKUP($D25,'Boys Si Main Draw Prep'!$A$7:$P$22,16)) | E25: =UPPER(IF($D25="","",VLOOKUP($D25,'Boys Si Main Draw Prep'!$A$7:$P$22,2))) | F25: =IF($D25="","",VLOOKUP($D25,'Boys Si Main Draw Prep'!$A$7:$P$22,3)) | H25: =IF($D25="","",VLOOKUP($D25,'Boys Si Main Draw Prep'!$A$7:$P$22,4))
J26: Umpire | L26: =UPPER(IF(OR(K26="a",K26="as"),J24,IF(OR(K26="b",K26="bs"),J28,)))
A27: 11 | B27: ΒΥΕ | C27: =IF($D27="","",VLOOKUP($D27,'Boys Si Main Draw Prep'!$A$7:$P$22,16)) | E27: =UPPER(IF($D27="","",VLOOKUP($D27,'Boys Si Main Draw Prep'!$A$7:$P$22,2))) | F27: =IF($D27="","",VLOOKUP($D27,'Boys Si Main Draw Prep'!$A$7:$P$22,3)) | H27: =IF($D27="","",VLOOKUP($D27,'Boys Si Main Draw Prep'!$A$7:$P$22,4))
H28: Umpire | J28: ΚΟΥΣΟΥΛΑ ΝΑΓΙΑ
A29: 12 | B29: ΚΟΥΣΟΥΛΑ ΝΑΓΙΑ | C29: =IF($D29="","",VLOOKUP($D29,'Boys Si Main Draw Prep'!$A$7:$P$22,16)) | E29: =UPPER(IF($D29="","",VLOOKUP($D29,'Boys Si Main Draw Prep'!$A$7:$P$22,2))) | F29: =IF($D29="","",VLOOKUP($D29,'Boys Si Main Draw Prep'!$A$7:$P$22,3)) | H29: =IF($D29="","",VLOOKUP($D29,'Boys Si Main Draw Prep'!$A$7:$P$22,4))
L30: Umpire | N30: =UPPER(IF(OR(M30="a",M30="as"),L26,IF(OR(M30="b",M30="bs"),L34,)))
A31: 13 | B31: ΚΑΡΛΗ ΣΟΦΙΑ | C31: =IF($D31="","",VLOOKUP($D31,'Boys Si Main Draw Prep'!$A$7:$P$22,16)) | E31: =UPPER(IF($D31="","",VLOOKUP($D31,'Boys Si Main Draw Prep'!$A$7:$P$22,2))) | F31: =IF($D31="","",VLOOKUP($D31,'Boys Si Main Draw Prep'!$A$7:$P$22,3)) | H31: =IF($D31="","",VLOOKUP($D31,'Boys Si Main Draw Prep'!$A$7:$P$22,4))
H32: Umpire | J32: ΚΑΡΛΗ ΣΟΦΙΑ
A33: 14 | B33: ΒΥΕ | C33: =IF($D33="","",VLOOKUP($D33,'Boys Si Main Draw Prep'!$A$7:$P$22,16)) | E33: =UPPER(IF($D33="","",VLOOKUP($D33,'Boys Si Main Draw Prep'!$A$7:$P$22,2))) | F33: =IF($D33="","",VLOOKUP($D33,'Boys Si Main Draw Prep'!$A$7:$P$22,3)) | H33: =IF($D33="","",VLOOKUP($D33,'Boys Si Main Draw Prep'!$A$7:$P$22,4))
J34: Umpire | L34: =UPPER(IF(OR(K34="a",K34="as"),J32,IF(OR(K34="b",K34="bs"),J36,)))
A35: 15 | B35: ΒΥΕ | C35: =IF($D35="","",VLOOKUP($D35,'Boys Si Main Draw Prep'!$A$7:$P$22,16)) | E35: =UPPER(IF($D35="","",VLOOKUP($D35,'Boys Si Main Draw Prep'!$A$7:$P$22,2))) | F35: =IF($D35="","",VLOOKUP($D35,'Boys Si Main Draw Prep'!$A$7:$P$22,3)) | H35: =IF($D35="","",VLOOKUP($D35,'Boys Si Main Draw Prep'!$A$7:$P$22,4))
H36: Umpire | J36: ΡΑΝΤΗ ΠΕΤΡΙΝΑ
A37: 16 | B37: ΡΑΝΤΗ ΠΕΤΡΙΝΑ | C37: =IF($D37="","",VLOOKUP($D37,'Boys Si Main Draw Prep'!$A$7:$P$22,16)) | E37: =UPPER(IF($D37="","",VLOOKUP($D37,'Boys Si Main Draw Prep'!$A$7:$P$22,2))) | F37: =IF($D37="","",VLOOKUP($D37,'Boys Si Main Draw Prep'!$A$7:$P$22,3)) | H37: =IF($D37="","",VLOOKUP($D37,'Boys Si Main Draw Prep'!$A$7:$P$22,4))
A71: Acc. Ranking | D71: # | E71: Seeded players | I71: # | J71: Lucky Losers | L71: Replacing | N71: Draw date/time:
A72: Rkg Date | D72: 1 | E72: =IF(D72>$Q$79,,UPPER(VLOOKUP(D72,'Boys Si Main Draw Prep'!$A$7:$R$134,2))) -> 0 | I72: 1 | N72: Last Accepted player
A73: Top DA | D73: 2 | E73: =IF(D73>$Q$79,,UPPER(VLOOKUP(D73,'Boys Si Main Draw Prep'!$A$7:$R$134,2))) -> 0 | I73: 2
A74: Last DA | D74: 3 | E74: =IF(D74>$Q$79,,UPPER(VLOOKUP(D74,'Boys Si Main Draw Prep'!$A$7:$R$134,2))) -> 0 | I74: 3 | N74: Player representatives
D75: 4 | E75: =IF(D75>$Q$79,,UPPER(VLOOKUP(D75,'Boys Si Main Draw Prep'!$A$7:$R$134,2))) -> 0 | I75: 4
A76: Seed ranking | I76: 5
A77: Rkg Date | I77: 6 | N77: ITF Referee's signature
A78: Top seed | I78: 7
A79: Last seed | I79: 8 | N79: =Q4 -> 0 | Q79: =MIN(4,'Boys Si Main Draw Prep'!R5) -> 0

Sheet Boys Si Main 24&32
A1: ='Week SetUp'!$A$6 -> 0 | J1: BOYS SINGLES
A2: ='Week SetUp'!$A$8 -> ITF Junior Circuit | J2: MAIN DRAW (24&32)
A3: Week of | F3: City, Country | J3: Group | L3: Tourn. ID | Q3: ITF Referee
A4: ='Week SetUp'!$A$10 -> 0 | F4: ='Week SetUp'!$C$10 -> 0 | J4: ='Week SetUp'!$D$10 -> 0 | L4: ='Week SetUp'!$A$12 -> 0 | Q4: ='Week SetUp'!$E$10 -> 0
B5: St. | C5: Rank | D5: Seed | E5: Family Name | F5: First name | H5: Nationality | J5: 2nd Round | L5: Quarterfinals | N5: Semifinals | P5: Final
A7: 1 | B7: =IF($D7="","",VLOOKUP($D7,'Boys Si Main Draw Prep'!$A$7:$P$38,15)) | C7: =IF($D7="","",VLOOKUP($D7,'Boys Si Main Draw Prep'!$A$7:$P$38,16)) | E7: =UPPER(IF($D7="","",VLOOKUP($D7,'Boys Si Main Draw Prep'!$A$7:$P$38,2))) | F7: =IF($D7="","",VLOOKUP($D7,'Boys Si Main Draw Prep'!$A$7:$P$38,3)) | H7: =IF($D7="","",VLOOKUP($D7,'Boys Si Main Draw Prep'!$A$7:$P$38,4)) | T7: =#REF! -> #REF!
H8: Umpire | J8: =UPPER(IF(OR(I8="a",I8="as"),E7,IF(OR(I8="b",I8="bs"),E9,))) | T8: =#REF! -> #REF!
A9: 2 | B9: =IF($D9="","",VLOOKUP($D9,'Boys Si Main Draw Prep'!$A$7:$P$38,15)) | C9: =IF($D9="","",VLOOKUP($D9,'Boys Si Main Draw Prep'!$A$7:$P$38,16)) | E9: =UPPER(IF($D9="","",VLOOKUP($D9,'Boys Si Main Draw Prep'!$A$7:$P$38,2))) | F9: =IF($D9="","",VLOOKUP($D9,'Boys Si Main Draw Prep'!$A$7:$P$38,3)) | H9: =IF($D9="","",VLOOKUP($D9,'Boys Si Main Draw Prep'!$A$7:$P$38,4)) | T9: =#REF! -> #REF!
J10: Umpire | L10: =UPPER(IF(OR(K10="a",K10="as"),J8,IF(OR(K10="b",K10="bs"),J12,))) | T10: =#REF! -> #REF!
A11: 3 | B11: =IF($D11="","",VLOOKUP($D11,'Boys Si Main Draw Prep'!$A$7:$P$38,15)) | C11: =IF($D11="","",VLOOKUP($D11,'Boys Si Main Draw Prep'!$A$7:$P$38,16)) | E11: =UPPER(IF($D11="","",VLOOKUP($D11,'Boys Si Main Draw Prep'!$A$7:$P$38,2))) | F11: =IF($D11="","",VLOOKUP($D11,'Boys Si Main Draw Prep'!$A$7:$P$38,3)) | H11: =IF($D11="","",VLOOKUP($D11,'Boys Si Main Draw Prep'!$A$7:$P$38,4)) | T11: =#REF! -> #REF!
H12: Umpire | J12: =UPPER(IF(OR(I12="a",I12="as"),E11,IF(OR(I12="b",I12="bs"),E13,))) | T12: =#REF! -> #REF!
A13: 4 | B13: =IF($D13="","",VLOOKUP($D13,'Boys Si Main Draw Prep'!$A$7:$P$38,15)) | C13: =IF($D13="","",VLOOKUP($D13,'Boys Si Main Draw Prep'!$A$7:$P$38,16)) | E13: =UPPER(IF($D13="","",VLOOKUP($D13,'Boys Si Main Draw Prep'!$A$7:$P$38,2))) | F13: =IF($D13="","",VLOOKUP($D13,'Boys Si Main Draw Prep'!$A$7:$P$38,3)) | H13: =IF($D13="","",VLOOKUP($D13,'Boys Si Main Draw Prep'!$A$7:$P$38,4)) | T13: =#REF! -> #REF!
L14: Umpire | N14: =UPPER(IF(OR(M14="a",M14="as"),L10,IF(OR(M14="b",M14="bs"),L18,))) | T14: =#REF! -> #REF!
A15: 5 | B15: =IF($D15="","",VLOOKUP($D15,'Boys Si Main Draw Prep'!$A$7:$P$38,15)) | C15: =IF($D15="","",VLOOKUP($D15,'Boys Si Main Draw Prep'!$A$7:$P$38,16)) | E15: =UPPER(IF($D15="","",VLOOKUP($D15,'Boys Si Main Draw Prep'!$A$7:$P$38,2))) | F15: =IF($D15="","",VLOOKUP($D15,'Boys Si Main Draw Prep'!$A$7:$P$38,3)) | H15: =IF($D15="","",VLOOKUP($D15,'Boys Si Main Draw Prep'!$A$7:$P$38,4)) | T15: =#REF! -> #REF!
H16: Umpire | J16: =UPPER(IF(OR(I16="a",I16="as"),E15,IF(OR(I16="b",I16="bs"),E17,))) | T16: =#REF! -> #REF!
A17: 6 | B17: =IF($D17="","",VLOOKUP($D17,'Boys Si Main Draw Prep'!$A$7:$P$38,15)) | C17: =IF($D17="","",VLOOKUP($D17,'Boys Si Main Draw Prep'!$A$7:$P$38,16)) | E17: =UPPER(IF($D17="","",VLOOKUP($D17,'Boys Si Main Draw Prep'!$A$7:$P$38,2))) | F17: =IF($D17="","",VLOOKUP($D17,'Boys Si Main Draw Prep'!$A$7:$P$38,3)) | H17: =IF($D17="","",VLOOKUP($D17,'Boys Si Main Draw Prep'!$A$7:$P$38,4))
J18: Umpire | L18: =UPPER(IF(OR(K18="a",K18="as"),J16,IF(OR(K18="b",K18="bs"),J20,)))
A19: 7 | B19: =IF($D19="","",VLOOKUP($D19,'Boys Si Main Draw Prep'!$A$7:$P$38,15)) | C19: =IF($D19="","",VLOOKUP($D19,'Boys Si Main Draw Prep'!$A$7:$P$38,16)) | E19: =UPPER(IF($D19="","",VLOOKUP($D19,'Boys Si Main Draw Prep'!$A$7:$P$38,2))) | F19: =IF($D19="","",VLOOKUP($D19,'Boys Si Main Draw Prep'!$A$7:$P$38,3)) | H19: =IF($D19="","",VLOOKUP($D19,'Boys Si Main Draw Prep'!$A$7:$P$38,4))
H20: Umpire | J20: =UPPER(IF(OR(I20="a",I20="as"),E19,IF(OR(I20="b",I20="bs"),E21,)))
A21: 8 | B21: =IF($D21="","",VLOOKUP($D21,'Boys Si Main Draw Prep'!$A$7:$P$38,15)) | C21: =IF($D21="","",VLOOKUP($D21,'Boys Si Main Draw Prep'!$A$7:$P$38,16)) | E21: =UPPER(IF($D21="","",VLOOKUP($D21,'Boys Si Main Draw Prep'!$A$7:$P$38,2))) | F21: =IF($D21="","",VLOOKUP($D21,'Boys Si Main Draw Prep'!$A$7:$P$38,3)) | H21: =IF($D21="","",VLOOKUP($D21,'Boys Si Main Draw Prep'!$A$7:$P$38,4))
N22: Umpire | P22: =UPPER(IF(OR(O22="a",O22="as"),N14,IF(OR(O22="b",O22="bs"),N30,)))
A23: 9 | B23: =IF($D23="","",VLOOKUP($D23,'Boys Si Main Draw Prep'!$A$7:$P$38,15)) | C23: =IF($D23="","",VLOOKUP($D23,'Boys Si Main Draw Prep'!$A$7:$P$38,16)) | E23: =UPPER(IF($D23="","",VLOOKUP($D23,'Boys Si Main Draw Prep'!$A$7:$P$38,2))) | F23: =IF($D23="","",VLOOKUP($D23,'Boys Si Main Draw Prep'!$A$7:$P$38,3)) | H23: =IF($D23="","",VLOOKUP($D23,'Boys Si Main Draw Prep'!$A$7:$P$38,4))
H24: Umpire | J24: =UPPER(IF(OR(I24="a",I24="as"),E23,IF(OR(I24="b",I24="bs"),E25,)))
A25: 10 | B25: =IF($D25="","",VLOOKUP($D25,'Boys Si Main Draw Prep'!$A$7:$P$38,15)) | C25: =IF($D25="","",VLOOKUP($D25,'Boys Si Main Draw Prep'!$A$7:$P$38,16)) | E25: =UPPER(IF($D25="","",VLOOKUP($D25,'Boys Si Main Draw Prep'!$A$7:$P$38,2))) | F25: =IF($D25="","",VLOOKUP($D25,'Boys Si Main Draw Prep'!$A$7:$P$38,3)) | H25: =IF($D25="","",VLOOKUP($D25,'Boys Si Main Draw Prep'!$A$7:$P$38,4))
J26: Umpire | L26: =UPPER(IF(OR(K26="a",K26="as"),J24,IF(OR(K26="b",K26="bs"),J28,)))
A27: 11 | B27: =IF($D27="","",VLOOKUP($D27,'Boys Si Main Draw Prep'!$A$7:$P$38,15)) | C27: =IF($D27="","",VLOOKUP($D27,'Boys Si Main Draw Prep'!$A$7:$P$38,16)) | E27: =UPPER(IF($D27="","",VLOOKUP($D27,'Boys Si Main Draw Prep'!$A$7:$P$38,2))) | F27: =IF($D27="","",VLOOKUP($D27,'Boys Si Main Draw Prep'!$A$7:$P$38,3)) | H27: =IF($D27="","",VLOOKUP($D27,'Boys Si Main Draw Prep'!$A$7:$P$38,4))
H28: Umpire | J28: =UPPER(IF(OR(I28="a",I28="as"),E27,IF(OR(I28="b",I28="bs"),E29,)))
A29: 12 | B29: =IF($D29="","",VLOOKUP($D29,'Boys Si Main Draw Prep'!$A$7:$P$38,15)) | C29: =IF($D29="","",VLOOKUP($D29,'Boys Si Main Draw Prep'!$A$7:$P$38,16)) | E29: =UPPER(IF($D29="","",VLOOKUP($D29,'Boys Si Main Draw Prep'!$A$7:$P$38,2))) | F29: =IF($D29="","",VLOOKUP($D29,'Boys Si Main Draw Prep'!$A$7:$P$38,3)) | H29: =IF($D29="","",VLOOKUP($D29,'Boys Si Main Draw Prep'!$A$7:$P$38,4))
L30: Umpire | N30: =UPPER(IF(OR(M30="a",M30="as"),L26,IF(OR(M30="b",M30="bs"),L34,)))
A31: 13 | B31: =IF($D31="","",VLOOKUP($D31,'Boys Si Main Draw Prep'!$A$7:$P$38,15)) | C31: =IF($D31="","",VLOOKUP($D31,'Boys Si Main Draw Prep'!$A$7:$P$38,16)) | E31: =UPPER(IF($D31="","",VLOOKUP($D31,'Boys Si Main Draw Prep'!$A$7:$P$38,2))) | F31: =IF($D31="","",VLOOKUP($D31,'Boys Si Main Draw Prep'!$A$7:$P$38,3)) | H31: =IF($D31="","",VLOOKUP($D31,'Boys Si Main Draw Prep'!$A$7:$P$38,4))
H32: Umpire | J32: =UPPER(IF(OR(I32="a",I32="as"),E31,IF(OR(I32="b",I32="bs"),E33,)))
A33: 14 | B33: =IF($D33="","",VLOOKUP($D33,'Boys Si Main Draw Prep'!$A$7:$P$38,15)) | C33: =IF($D33="","",VLOOKUP($D33,'Boys Si Main Draw Prep'!$A$7:$P$38,16)) | E33: =UPPER(IF($D33="","",VLOOKUP($D33,'Boys Si Main Draw Prep'!$A$7:$P$38,2))) | F33: =IF($D33="","",VLOOKUP($D33,'Boys Si Main Draw Prep'!$A$7:$P$38,3)) | H33: =IF($D33="","",VLOOKUP($D33,'Boys Si Main Draw Prep'!$A$7:$P$38,4))
J34: Umpire | L34: =UPPER(IF(OR(K34="a",K34="as"),J32,IF(OR(K34="b",K34="bs"),J36,)))
A35: 15 | B35: =IF($D35="","",VLOOKUP($D35,'Boys Si Main Draw Prep'!$A$7:$P$38,15)) | C35: =IF($D35="","",VLOOKUP($D35,'Boys Si Main Draw Prep'!$A$7:$P$38,16)) | E35: =UPPER(IF($D35="","",VLOOKUP($D35,'Boys Si Main Draw Prep'!$A$7:$P$38,2))) | F35: =IF($D35="","",VLOOKUP($D35,'Boys Si Main Draw Prep'!$A$7:$P$38,3)) | H35: =IF($D35="","",VLOOKUP($D35,'Boys Si Main Draw Prep'!$A$7:$P$38,4))
H36: Umpire | J36: =UPPER(IF(OR(I36="a",I36="as"),E35,IF(OR(I36="b",I36="bs"),E37,)))
A37: 16 | B37: =IF($D37="","",VLOOKUP($D37,'Boys Si Main Draw Prep'!$A$7:$P$38,15)) | C37: =IF($D37="","",VLOOKUP($D37,'Boys Si Main Draw Prep'!$A$7:$P$38,16)) | E37: =UPPER(IF($D37="","",VLOOKUP($D37,'Boys Si Main Draw Prep'!$A$7:$P$38,2))) | F37: =IF($D37="","",VLOOKUP($D37,'Boys Si Main Draw Prep'!$A$7:$P$38,3)) | H37: =IF($D37="","",VLOOKUP($D37,'Boys Si Main Draw Prep'!$A$7:$P$38,4))
N38: Winner: | P38: =UPPER(IF(OR(O39="a",O39="as"),P22,IF(OR(O39="b",O39="bs"),P54,)))
A39: 17 | B39: =IF($D39="","",VLOOKUP($D39,'Boys Si Main Draw Prep'!$A$7:$P$38,15)) | C39: =IF($D39="","",VLOOKUP($D39,'Boys Si Main Draw Prep'!$A$7:$P$38,16)) | E39: =UPPER(IF($D39="","",VLOOKUP($D39,'Boys Si Main Draw Prep'!$A$7:$P$38,2))) | F39: =IF($D39="","",VLOOKUP($D39,'Boys Si Main Draw Prep'!$A$7:$P$38,3)) | H39: =IF($D39="","",VLOOKUP($D39,'Boys Si Main Draw Prep'!$A$7:$P$38,4)) | N39: Umpire
H40: Umpire | J40: =UPPER(IF(OR(I40="a",I40="as"),E39,IF(OR(I40="b",I40="bs"),E41,)))
A41: 18 | B41: =IF($D41="","",VLOOKUP($D41,'Boys Si Main Draw Prep'!$A$7:$P$38,15)) | C41: =IF($D41="","",VLOOKUP($D41,'Boys Si Main Draw Prep'!$A$7:$P$38,16)) | E41: =UPPER(IF($D41="","",VLOOKUP($D41,'Boys Si Main Draw Prep'!$A$7:$P$38,2))) | F41: =IF($D41="","",VLOOKUP($D41,'Boys Si Main Draw Prep'!$A$7:$P$38,3)) | H41: =IF($D41="","",VLOOKUP($D41,'Boys Si Main Draw Prep'!$A$7:$P$38,4))
J42: Umpire | L42: =UPPER(IF(OR(K42="a",K42="as"),J40,IF(OR(K42="b",K42="bs"),J44,)))
A43: 19 | B43: =IF($D43="","",VLOOKUP($D43,'Boys Si Main Draw Prep'!$A$7:$P$38,15)) | C43: =IF($D43="","",VLOOKUP($D43,'Boys Si Main Draw Prep'!$A$7:$P$38,16)) | E43: =UPPER(IF($D43="","",VLOOKUP($D43,'Boys Si Main Draw Prep'!$A$7:$P$38,2))) | F43: =IF($D43="","",VLOOKUP($D43,'Boys Si Main Draw Prep'!$A$7:$P$38,3)) | H43: =IF($D43="","",VLOOKUP($D43,'Boys Si Main Draw Prep'!$A$7:$P$38,4))
H44: Umpire | J44: =UPPER(IF(OR(I44="a",I44="as"),E43,IF(OR(I44="b",I44="bs"),E45,)))
A45: 20 | B45: =IF($D45="","",VLOOKUP($D45,'Boys Si Main Draw Prep'!$A$7:$P$38,15)) | C45: =IF($D45="","",VLOOKUP($D45,'Boys Si Main Draw Prep'!$A$7:$P$38,16)) | E45: =UPPER(IF($D45="","",VLOOKUP($D45,'Boys Si Main Draw Prep'!$A$7:$P$38,2))) | F45: =IF($D45="","",VLOOKUP($D45,'Boys Si Main Draw Prep'!$A$7:$P$38,3)) | H45: =IF($D45="","",VLOOKUP($D45,'Boys Si Main Draw Prep'!$A$7:$P$38,4))
L46: Umpire | N46: =UPPER(IF(OR(M46="a",M46="as"),L42,IF(OR(M46="b",M46="bs"),L50,)))
A47: 21 | B47: =IF($D47="","",VLOOKUP($D47,'Boys Si Main Draw Prep'!$A$7:$P$38,15)) | C47: =IF($D47="","",VLOOKUP($D47,'Boys Si Main Draw Prep'!$A$7:$P$38,16)) | E47: =UPPER(IF($D47="","",VLOOKUP($D47,'Boys Si Main Draw Prep'!$A$7:$P$38,2))) | F47: =IF($D47="","",VLOOKUP($D47,'Boys Si Main Draw Prep'!$A$7:$P$38,3)) | H47: =IF($D47="","",VLOOKUP($D47,'Boys Si Main Draw Prep'!$A$7:$P$38,4))
H48: Umpire | J48: =UPPER(IF(OR(I48="a",I48="as"),E47,IF(OR(I48="b",I48="bs"),E49,)))
A49: 22 | B49: =IF($D49="","",VLOOKUP($D49,'Boys Si Main Draw Prep'!$A$7:$P$38,15)) | C49: =IF($D49="","",VLOOKUP($D49,'Boys Si Main Draw Prep'!$A$7:$P$38,16)) | E49: =UPPER(IF($D49="","",VLOOKUP($D49,'Boys Si Main Draw Prep'!$A$7:$P$38,2))) | F49: =IF($D49="","",VLOOKUP($D49,'Boys Si Main Draw Prep'!$A$7:$P$38,3)) | H49: =IF($D49="","",VLOOKUP($D49,'Boys Si Main Draw Prep'!$A$7:$P$38,4))
J50: Umpire | L50: =UPPER(IF(OR(K50="a",K50="as"),J48,IF(OR(K50="b",K50="bs"),J52,)))
A51: 23 | B51: =IF($D51="","",VLOOKUP($D51,'Boys Si Main Draw Prep'!$A$7:$P$38,15)) | C51: =IF($D51="","",VLOOKUP($D51,'Boys Si Main Draw Prep'!$A$7:$P$38,16)) | E51: =UPPER(IF($D51="","",VLOOKUP($D51,'Boys Si Main Draw Prep'!$A$7:$P$38,2))) | F51: =IF($D51="","",VLOOKUP($D51,'Boys Si Main Draw Prep'!$A$7:$P$38,3)) | H51: =IF($D51="","",VLOOKUP($D51,'Boys Si Main Draw Prep'!$A$7:$P$38,4))
H52: Umpire | J52: =UPPER(IF(OR(I52="a",I52="as"),E51,IF(OR(I52="b",I52="bs"),E53,)))
A53: 24 | B53: =IF($D53="","",VLOOKUP($D53,'Boys Si Main Draw Prep'!$A$7:$P$38,15)) | C53: =IF($D53="","",VLOOKUP($D53,'Boys Si Main Draw Prep'!$A$7:$P$38,16)) | E53: =UPPER(IF($D53="","",VLOOKUP($D53,'Boys Si Main Draw Prep'!$A$7:$P$38,2))) | F53: =IF($D53="","",VLOOKUP($D53,'Boys Si Main Draw Prep'!$A$7:$P$38,3)) | H53: =IF($D53="","",VLOOKUP($D53,'Boys Si Main Draw Prep'!$A$7:$P$38,4))
N54: Umpire | P54: =UPPER(IF(OR(O54="a",O54="as"),N46,IF(OR(O54="b",O54="bs"),N62,)))
A55: 25 | B55: =IF($D55="","",VLOOKUP($D55,'Boys Si Main Draw Prep'!$A$7:$P$38,15)) | C55: =IF($D55="","",VLOOKUP($D55,'Boys Si Main Draw Prep'!$A$7:$P$38,16)) | E55: =UPPER(IF($D55="","",VLOOKUP($D55,'Boys Si Main Draw Prep'!$A$7:$P$38,2))) | F55: =IF($D55="","",VLOOKUP($D55,'Boys Si Main Draw Prep'!$A$7:$P$38,3)) | H55: =IF($D55="","",VLOOKUP($D55,'Boys Si Main Draw Prep'!$A$7:$P$38,4))
H56: Umpire | J56: =UPPER(IF(OR(I56="a",I56="as"),E55,IF(OR(I56="b",I56="bs"),E57,)))
A57: 26 | B57: =IF($D57="","",VLOOKUP($D57,'Boys Si Main Draw Prep'!$A$7:$P$38,15)) | C57: =IF($D57="","",VLOOKUP($D57,'Boys Si Main Draw Prep'!$A$7:$P$38,16)) | E57: =UPPER(IF($D57="","",VLOOKUP($D57,'Boys Si Main Draw Prep'!$A$7:$P$38,2))) | F57: =IF($D57="","",VLOOKUP($D57,'Boys Si Main Draw Prep'!$A$7:$P$38,3)) | H57: =IF($D57="","",VLOOKUP($D57,'Boys Si Main Draw Prep'!$A$7:$P$38,4))
J58: Umpire | L58: =UPPER(IF(OR(K58="a",K58="as"),J56,IF(OR(K58="b",K58="bs"),J60,)))
A59: 27 | B59: =IF($D59="","",VLOOKUP($D59,'Boys Si Main Draw Prep'!$A$7:$P$38,15)) | C59: =IF($D59="","",VLOOKUP($D59,'Boys Si Main Draw Prep'!$A$7:$P$38,16)) | E59: =UPPER(IF($D59="","",VLOOKUP($D59,'Boys Si Main Draw Prep'!$A$7:$P$38,2))) | F59: =IF($D59="","",VLOOKUP($D59,'Boys Si Main Draw Prep'!$A$7:$P$38,3)) | H59: =IF($D59="","",VLOOKUP($D59,'Boys Si Main Draw Prep'!$A$7:$P$38,4))
H60: Umpire | J60: =UPPER(IF(OR(I60="a",I60="as"),E59,IF(OR(I60="b",I60="bs"),E61,)))
A61: 28 | B61: =IF($D61="","",VLOOKUP($D61,'Boys Si Main Draw Prep'!$A$7:$P$38,15)) | C61: =IF($D61="","",VLOOKUP($D61,'Boys Si Main Draw Prep'!$A$7:$P$38,16)) | E61: =UPPER(IF($D61="","",VLOOKUP($D61,'Boys Si Main Draw Prep'!$A$7:$P$38,2))) | F61: =IF($D61="","",VLOOKUP($D61,'Boys Si Main Draw Prep'!$A$7:$P$38,3)) | H61: =IF($D61="","",VLOOKUP($D61,'Boys Si Main Draw Prep'!$A$7:$P$38,4))
L62: Umpire | N62: =UPPER(IF(OR(M62="a",M62="as"),L58,IF(OR(M62="b",M62="bs"),L66,)))
A63: 29 | B63: =IF($D63="","",VLOOKUP($D63,'Boys Si Main Draw Prep'!$A$7:$P$38,15)) | C63: =IF($D63="","",VLOOKUP($D63,'Boys Si Main Draw Prep'!$A$7:$P$38,16)) | E63: =UPPER(IF($D63="","",VLOOKUP($D63,'Boys Si Main Draw Prep'!$A$7:$P$38,2))) | F63: =IF($D63="","",VLOOKUP($D63,'Boys Si Main Draw Prep'!$A$7:$P$38,3)) | H63: =IF($D63="","",VLOOKUP($D63,'Boys Si Main Draw Prep'!$A$7:$P$38,4))
H64: Umpire | J64: =UPPER(IF(OR(I64="a",I64="as"),E63,IF(OR(I64="b",I64="bs"),E65,)))
A65: 30 | B65: =IF($D65="","",VLOOKUP($D65,'Boys Si Main Draw Prep'!$A$7:$P$38,15)) | C65: =IF($D65="","",VLOOKUP($D65,'Boys Si Main Draw Prep'!$A$7:$P$38,16)) | E65: =UPPER(IF($D65="","",VLOOKUP($D65,'Boys Si Main Draw Prep'!$A$7:$P$38,2))) | F65: =IF($D65="","",VLOOKUP($D65,'Boys Si Main Draw Prep'!$A$7:$P$38,3)) | H65: =IF($D65="","",VLOOKUP($D65,'Boys Si Main Draw Prep'!$A$7:$P$38,4))
J66: Umpire | L66: =UPPER(IF(OR(K66="a",K66="as"),J64,IF(OR(K66="b",K66="bs"),J68,)))
A67: 31 | B67: =IF($D67="","",VLOOKUP($D67,'Boys Si Main Draw Prep'!$A$7:$P$38,15)) | C67: =IF($D67="","",VLOOKUP($D67,'Boys Si Main Draw Prep'!$A$7:$P$38,16)) | E67: =UPPER(IF($D67="","",VLOOKUP($D67,'Boys Si Main Draw Prep'!$A$7:$P$38,2))) | F67: =IF($D67="","",VLOOKUP($D67,'Boys Si Main Draw Prep'!$A$7:$P$38,3)) | H67: =IF($D67="","",VLOOKUP($D67,'Boys Si Main Draw Prep'!$A$7:$P$38,4))
H68: Umpire | J68: =UPPER(IF(OR(I68="a",I68="as"),E67,IF(OR(I68="b",I68="bs"),E69,)))
A69: 32 | B69: =IF($D69="","",VLOOKUP($D69,'Boys Si Main Draw Prep'!$A$7:$P$38,15)) | C69: =IF($D69="","",VLOOKUP($D69,'Boys Si Main Draw Prep'!$A$7:$P$38,16)) | E69: =UPPER(IF($D69="","",VLOOKUP($D69,'Boys Si Main Draw Prep'!$A$7:$P$38,2))) | F69: =IF($D69="","",VLOOKUP($D69,'Boys Si Main Draw Prep'!$A$7:$P$38,3)) | H69: =IF($D69="","",VLOOKUP($D69,'Boys Si Main Draw Prep'!$A$7:$P$38,4))
A71: Acc. Ranking | D71: # | E71: Seeded players | I71: # | J71: Lucky Losers | L71: Replacing | N71: Draw date/time:
A72: Rkg Date | D72: 1 | E72: =IF(D72>$Q$79,,UPPER(VLOOKUP(D72,'Boys Si Main Draw Prep'!$A$7:$R$134,2))) -> 0 | I72: 1 | N72: Last Accepted player
A73: Top DA | D73: 2 | E73: =IF(D73>$Q$79,,UPPER(VLOOKUP(D73,'Boys Si Main Draw Prep'!$A$7:$R$134,2))) -> 0 | I73: 2
A74: Last DA | D74: 3 | E74: =IF(D74>$Q$79,,UPPER(VLOOKUP(D74,'Boys Si Main Draw Prep'!$A$7:$R$134,2))) -> 0 | I74: 3 | N74: Player representatives
D75: 4 | E75: =IF(D75>$Q$79,,UPPER(VLOOKUP(D75,'Boys Si Main Draw Prep'!$A$7:$R$134,2))) -> 0 | I75: 4
A76: Seed ranking | D76: 5 | E76: =IF(D76>$Q$79,,UPPER(VLOOKUP(D76,'Boys Si Main Draw Prep'!$A$7:$R$134,2))) -> 0 | I76: 5
A77: Rkg Date | D77: 6 | E77: =IF(D77>$Q$79,,UPPER(VLOOKUP(D77,'Boys Si Main Draw Prep'!$A$7:$R$134,2))) -> 0 | I77: 6 | N77: ITF Referee's signature
A78: Top seed | D78: 7 | E78: =IF(D78>$Q$79,,UPPER(VLOOKUP(D78,'Boys Si Main Draw Prep'!$A$7:$R$134,2))) -> 0 | I78: 7
A79: Last seed | D79: 8 | E79: =IF(D79>$Q$79,,UPPER(VLOOKUP(D79,'Boys Si Main Draw Prep'!$A$7:$R$134,2))) -> 0 | I79: 8 | N79: =Q4 -> 0 | Q79: =MIN(8,'Boys Si Main Draw Prep'!R5) -> 0

Sheet Boys Si Main 48&64
A1: ='Week SetUp'!$A$6 -> 0 | J1: BOYS SINGLES
A2: ='Week SetUp'!$A$8 -> ITF Junior Circuit | J2: MAIN DRAW (48&64)
A3: Week of | F3: City, Country | J3: Group | L3: Tourn. ID | Q3: ITF Referee
A4: ='Week SetUp'!$A$10 -> 0 | F4: ='Week SetUp'!$C$10 -> 0 | J4: ='Week SetUp'!$D$10 -> 0 | L4: ='Week SetUp'!$A$12 -> 0 | Q4: ='Week SetUp'!$E$10 -> 0
B5: St. | C5: Rank | D5: Seed | E5: Family Name | F5: First name | H5: Nationality | J5: 2nd Round | L5: 3rd Round | N5: Quarterfinals | P5: Semifinals
A7: 1 | B7: =IF($D7="","",VLOOKUP($D7,'Boys Si Main Draw Prep'!$A$7:$P$70,15)) | C7: =IF($D7="","",VLOOKUP($D7,'Boys Si Main Draw Prep'!$A$7:$P$70,16)) | E7: =UPPER(IF($D7="","",VLOOKUP($D7,'Boys Si Main Draw Prep'!$A$7:$P$70,2))) | F7: =IF($D7="","",VLOOKUP($D7,'Boys Si Main Draw Prep'!$A$7:$P$70,3)) | H7: =IF($D7="","",VLOOKUP($D7,'Boys Si Main Draw Prep'!$A$7:$P$70,4)) | J7: =UPPER(IF(OR(I8="a",I8="as"),E7,IF(OR(I8="b",I8="bs"),E8,))) | T7: =#REF! -> #REF!
A8: 2 | B8: =IF($D8="","",VLOOKUP($D8,'Boys Si Main Draw Prep'!$A$7:$P$70,15)) | C8: =IF($D8="","",VLOOKUP($D8,'Boys Si Main Draw Prep'!$A$7:$P$70,16)) | E8: =UPPER(IF($D8="","",VLOOKUP($D8,'Boys Si Main Draw Prep'!$A$7:$P$70,2))) | F8: =IF($D8="","",VLOOKUP($D8,'Boys Si Main Draw Prep'!$A$7:$P$70,3)) | H8: =IF($D8="","",VLOOKUP($D8,'Boys Si Main Draw Prep'!$A$7:$P$70,4)) | L8: =UPPER(IF(OR(K8="a",K8="as"),J7,IF(OR(K8="b",K8="bs"),J9,))) | T8: =#REF! -> #REF!
A9: 3 | B9: =IF($D9="","",VLOOKUP($D9,'Boys Si Main Draw Prep'!$A$7:$P$70,15)) | C9: =IF($D9="","",VLOOKUP($D9,'Boys Si Main Draw Prep'!$A$7:$P$70,16)) | E9: =UPPER(IF($D9="","",VLOOKUP($D9,'Boys Si Main Draw Prep'!$A$7:$P$70,2))) | F9: =IF($D9="","",VLOOKUP($D9,'Boys Si Main Draw Prep'!$A$7:$P$70,3)) | H9: =IF($D9="","",VLOOKUP($D9,'Boys Si Main Draw Prep'!$A$7:$P$70,4)) | J9: =UPPER(IF(OR(I10="a",I10="as"),E9,IF(OR(I10="b",I10="bs"),E10,))) | T9: =#REF! -> #REF!
A10: 4 | B10: =IF($D10="","",VLOOKUP($D10,'Boys Si Main Draw Prep'!$A$7:$P$70,15)) | C10: =IF($D10="","",VLOOKUP($D10,'Boys Si Main Draw Prep'!$A$7:$P$70,16)) | E10: =UPPER(IF($D10="","",VLOOKUP($D10,'Boys Si Main Draw Prep'!$A$7:$P$70,2))) | F10: =IF($D10="","",VLOOKUP($D10,'Boys Si Main Draw Prep'!$A$7:$P$70,3)) | H10: =IF($D10="","",VLOOKUP($D10,'Boys Si Main Draw Prep'!$A$7:$P$70,4)) | L10: Umpire | N10: =UPPER(IF(OR(M10="a",M10="as"),L8,IF(OR(M10="b",M10="bs"),L12,))) | T10: =#REF! -> #REF!
A11: 5 | B11: =IF($D11="","",VLOOKUP($D11,'Boys Si Main Draw Prep'!$A$7:$P$70,15)) | C11: =IF($D11="","",VLOOKUP($D11,'Boys Si Main Draw Prep'!$A$7:$P$70,16)) | E11: =UPPER(IF($D11="","",VLOOKUP($D11,'Boys Si Main Draw Prep'!$A$7:$P$70,2))) | F11: =IF($D11="","",VLOOKUP($D11,'Boys Si Main Draw Prep'!$A$7:$P$70,3)) | H11: =IF($D11="","",VLOOKUP($D11,'Boys Si Main Draw Prep'!$A$7:$P$70,4)) | J11: =UPPER(IF(OR(I12="a",I12="as"),E11,IF(OR(I12="b",I12="bs"),E12,))) | T11: =#REF! -> #REF!
A12: 6 | B12: =IF($D12="","",VLOOKUP($D12,'Boys Si Main Draw Prep'!$A$7:$P$70,15)) | C12: =IF($D12="","",VLOOKUP($D12,'Boys Si Main Draw Prep'!$A$7:$P$70,16)) | E12: =UPPER(IF($D12="","",VLOOKUP($D12,'Boys Si Main Draw Prep'!$A$7:$P$70,2))) | F12: =IF($D12="","",VLOOKUP($D12,'Boys Si Main Draw Prep'!$A$7:$P$70,3)) | H12: =IF($D12="","",VLOOKUP($D12,'Boys Si Main Draw Prep'!$A$7:$P$70,4)) | L12: =UPPER(IF(OR(K12="a",K12="as"),J11,IF(OR(K12="b",K12="bs"),J13,))) | T12: =#REF! -> #REF!
A13: 7 | B13: =IF($D13="","",VLOOKUP($D13,'Boys Si Main Draw Prep'!$A$7:$P$70,15)) | C13: =IF($D13="","",VLOOKUP($D13,'Boys Si Main Draw Prep'!$A$7:$P$70,16)) | E13: =UPPER(IF($D13="","",VLOOKUP($D13,'Boys Si Main Draw Prep'!$A$7:$P$70,2))) | F13: =IF($D13="","",VLOOKUP($D13,'Boys Si Main Draw Prep'!$A$7:$P$70,3)) | H13: =IF($D13="","",VLOOKUP($D13,'Boys Si Main Draw Prep'!$A$7:$P$70,4)) | J13: =UPPER(IF(OR(I14="a",I14="as"),E13,IF(OR(I14="b",I14="bs"),E14,))) | T13: =#REF! -> #REF!
A14: 8 | B14: =IF($D14="","",VLOOKUP($D14,'Boys Si Main Draw Prep'!$A$7:$P$70,15)) | C14: =IF($D14="","",VLOOKUP($D14,'Boys Si Main Draw Prep'!$A$7:$P$70,16)) | E14: =UPPER(IF($D14="","",VLOOKUP($D14,'Boys Si Main Draw Prep'!$A$7:$P$70,2))) | F14: =IF($D14="","",VLOOKUP($D14,'Boys Si Main Draw Prep'!$A$7:$P$70,3)) | H14: =IF($D14="","",VLOOKUP($D14,'Boys Si Main Draw Prep'!$A$7:$P$70,4)) | N14: Umpire | P14: =UPPER(IF(OR(O14="a",O14="as"),N10,IF(OR(O14="b",O14="bs"),N18,))) | T14: =#REF! -> #REF!
A15: 9 | B15: =IF($D15="","",VLOOKUP($D15,'Boys Si Main Draw Prep'!$A$7:$P$70,15)) | C15: =IF($D15="","",VLOOKUP($D15,'Boys Si Main Draw Prep'!$A$7:$P$70,16)) | E15: =UPPER(IF($D15="","",VLOOKUP($D15,'Boys Si Main Draw Prep'!$A$7:$P$70,2))) | F15: =IF($D15="","",VLOOKUP($D15,'Boys Si Main Draw Prep'!$A$7:$P$70,3)) | H15: =IF($D15="","",VLOOKUP($D15,'Boys Si Main Draw Prep'!$A$7:$P$70,4)) | J15: =UPPER(IF(OR(I16="a",I16="as"),E15,IF(OR(I16="b",I16="bs"),E16,))) | T15: =#REF! -> #REF!
A16: 10 | B16: =IF($D16="","",VLOOKUP($D16,'Boys Si Main Draw Prep'!$A$7:$P$70,15)) | C16: =IF($D16="","",VLOOKUP($D16,'Boys Si Main Draw Prep'!$A$7:$P$70,16)) | E16: =UPPER(IF($D16="","",VLOOKUP($D16,'Boys Si Main Draw Prep'!$A$7:$P$70,2))) | F16: =IF($D16="","",VLOOKUP($D16,'Boys Si Main Draw Prep'!$A$7:$P$70,3)) | H16: =IF($D16="","",VLOOKUP($D16,'Boys Si Main Draw Prep'!$A$7:$P$70,4)) | L16: =UPPER(IF(OR(K16="a",K16="as"),J15,IF(OR(K16="b",K16="bs"),J17,))) | T16: =#REF! -> #REF!
A17: 11 | B17: =IF($D17="","",VLOOKUP($D17,'Boys Si Main Draw Prep'!$A$7:$P$70,15)) | C17: =IF($D17="","",VLOOKUP($D17,'Boys Si Main Draw Prep'!$A$7:$P$70,16)) | E17: =UPPER(IF($D17="","",VLOOKUP($D17,'Boys Si Main Draw Prep'!$A$7:$P$70,2))) | F17: =IF($D17="","",VLOOKUP($D17,'Boys Si Main Draw Prep'!$A$7:$P$70,3)) | H17: =IF($D17="","",VLOOKUP($D17,'Boys Si Main Draw Prep'!$A$7:$P$70,4)) | J17: =UPPER(IF(OR(I18="a",I18="as"),E17,IF(OR(I18="b",I18="bs"),E18,)))
A18: 12 | B18: =IF($D18="","",VLOOKUP($D18,'Boys Si Main Draw Prep'!$A$7:$P$70,15)) | C18: =IF($D18="","",VLOOKUP($D18,'Boys Si Main Draw Prep'!$A$7:$P$70,16)) | E18: =UPPER(IF($D18="","",VLOOKUP($D18,'Boys Si Main Draw Prep'!$A$7:$P$70,2))) | F18: =IF($D18="","",VLOOKUP($D18,'Boys Si Main Draw Prep'!$A$7:$P$70,3)) | H18: =IF($D18="","",VLOOKUP($D18,'Boys Si Main Draw Prep'!$A$7:$P$70,4)) | L18: Umpire | N18: =UPPER(IF(OR(M18="a",M18="as"),L16,IF(OR(M18="b",M18="bs"),L20,)))
A19: 13 | B19: =IF($D19="","",VLOOKUP($D19,'Boys Si Main Draw Prep'!$A$7:$P$70,15)) | C19: =IF($D19="","",VLOOKUP($D19,'Boys Si Main Draw Prep'!$A$7:$P$70,16)) | E19: =UPPER(IF($D19="","",VLOOKUP($D19,'Boys Si Main Draw Prep'!$A$7:$P$70,2))) | F19: =IF($D19="","",VLOOKUP($D19,'Boys Si Main Draw Prep'!$A$7:$P$70,3)) | H19: =IF($D19="","",VLOOKUP($D19,'Boys Si Main Draw Prep'!$A$7:$P$70,4)) | J19: =UPPER(IF(OR(I20="a",I20="as"),E19,IF(OR(I20="b",I20="bs"),E20,)))
A20: 14 | B20: =IF($D20="","",VLOOKUP($D20,'Boys Si Main Draw Prep'!$A$7:$P$70,15)) | C20: =IF($D20="","",VLOOKUP($D20,'Boys Si Main Draw Prep'!$A$7:$P$70,16)) | E20: =UPPER(IF($D20="","",VLOOKUP($D20,'Boys Si Main Draw Prep'!$A$7:$P$70,2))) | F20: =IF($D20="","",VLOOKUP($D20,'Boys Si Main Draw Prep'!$A$7:$P$70,3)) | H20: =IF($D20="","",VLOOKUP($D20,'Boys Si Main Draw Prep'!$A$7:$P$70,4)) | L20: =UPPER(IF(OR(K20="a",K20="as"),J19,IF(OR(K20="b",K20="bs"),J21,)))
A21: 15 | B21: =IF($D21="","",VLOOKUP($D21,'Boys Si Main Draw Prep'!$A$7:$P$70,15)) | C21: =IF($D21="","",VLOOKUP($D21,'Boys Si Main Draw Prep'!$A$7:$P$70,16)) | E21: =UPPER(IF($D21="","",VLOOKUP($D21,'Boys Si Main Draw Prep'!$A$7:$P$70,2))) | F21: =IF($D21="","",VLOOKUP($D21,'Boys Si Main Draw Prep'!$A$7:$P$70,3)) | H21: =IF($D21="","",VLOOKUP($D21,'Boys Si Main Draw Prep'!$A$7:$P$70,4)) | J21: =UPPER(IF(OR(I22="a",I22="as"),E21,IF(OR(I22="b",I22="bs"),E22,)))
A22: 16 | B22: =IF($D22="","",VLOOKUP($D22,'Boys Si Main Draw Prep'!$A$7:$P$70,15)) | C22: =IF($D22="","",VLOOKUP($D22,'Boys Si Main Draw Prep'!$A$7:$P$70,16)) | E22: =UPPER(IF($D22="","",VLOOKUP($D22,'Boys Si Main Draw Prep'!$A$7:$P$70,2))) | F22: =IF($D22="","",VLOOKUP($D22,'Boys Si Main Draw Prep'!$A$7:$P$70,3)) | H22: =IF($D22="","",VLOOKUP($D22,'Boys Si Main Draw Prep'!$A$7:$P$70,4)) | N22: Finalist 1: | P22: =UPPER(IF(OR(O23="a",O23="as"),P14,IF(OR(O23="b",O23="bs"),P30,)))
A23: 17 | B23: =IF($D23="","",VLOOKUP($D23,'Boys Si Main Draw Prep'!$A$7:$P$70,15)) | C23: =IF($D23="","",VLOOKUP($D23,'Boys Si Main Draw Prep'!$A$7:$P$70,16)) | E23: =UPPER(IF($D23="","",VLOOKUP($D23,'Boys Si Main Draw Prep'!$A$7:$P$70,2))) | F23: =IF($D23="","",VLOOKUP($D23,'Boys Si Main Draw Prep'!$A$7:$P$70,3)) | H23: =IF($D23="","",VLOOKUP($D23,'Boys Si Main Draw Prep'!$A$7:$P$70,4)) | J23: =UPPER(IF(OR(I24="a",I24="as"),E23,IF(OR(I24="b",I24="bs"),E24,))) | N23: Umpire
A24: 18 | B24: =IF($D24="","",VLOOKUP($D24,'Boys Si Main Draw Prep'!$A$7:$P$70,15)) | C24: =IF($D24="","",VLOOKUP($D24,'Boys Si Main Draw Prep'!$A$7:$P$70,16)) | E24: =UPPER(IF($D24="","",VLOOKUP($D24,'Boys Si Main Draw Prep'!$A$7:$P$70,2))) | F24: =IF($D24="","",VLOOKUP($D24,'Boys Si Main Draw Prep'!$A$7:$P$70,3)) | H24: =IF($D24="","",VLOOKUP($D24,'Boys Si Main Draw Prep'!$A$7:$P$70,4)) | L24: =UPPER(IF(OR(K24="a",K24="as"),J23,IF(OR(K24="b",K24="bs"),J25,)))
A25: 19 | B25: =IF($D25="","",VLOOKUP($D25,'Boys Si Main Draw Prep'!$A$7:$P$70,15)) | C25: =IF($D25="","",VLOOKUP($D25,'Boys Si Main Draw Prep'!$A$7:$P$70,16)) | E25: =UPPER(IF($D25="","",VLOOKUP($D25,'Boys Si Main Draw Prep'!$A$7:$P$70,2))) | F25: =IF($D25="","",VLOOKUP($D25,'Boys Si Main Draw Prep'!$A$7:$P$70,3)) | H25: =IF($D25="","",VLOOKUP($D25,'Boys Si Main Draw Prep'!$A$7:$P$70,4)) | J25: =UPPER(IF(OR(I26="a",I26="as"),E25,IF(OR(I26="b",I26="bs"),E26,)))
A26: 20 | B26: =IF($D26="","",VLOOKUP($D26,'Boys Si Main Draw Prep'!$A$7:$P$70,15)) | C26: =IF($D26="","",VLOOKUP($D26,'Boys Si Main Draw Prep'!$A$7:$P$70,16)) | E26: =UPPER(IF($D26="","",VLOOKUP($D26,'Boys Si Main Draw Prep'!$A$7:$P$70,2))) | F26: =IF($D26="","",VLOOKUP($D26,'Boys Si Main Draw Prep'!$A$7:$P$70,3)) | H26: =IF($D26="","",VLOOKUP($D26,'Boys Si Main Draw Prep'!$A$7:$P$70,4)) | L26: Umpire | N26: =UPPER(IF(OR(M26="a",M26="as"),L24,IF(OR(M26="b",M26="bs"),L28,)))
A27: 21 | B27: =IF($D27="","",VLOOKUP($D27,'Boys Si Main Draw Prep'!$A$7:$P$70,15)) | C27: =IF($D27="","",VLOOKUP($D27,'Boys Si Main Draw Prep'!$A$7:$P$70,16)) | E27: =UPPER(IF($D27="","",VLOOKUP($D27,'Boys Si Main Draw Prep'!$A$7:$P$70,2))) | F27: =IF($D27="","",VLOOKUP($D27,'Boys Si Main Draw Prep'!$A$7:$P$70,3)) | H27: =IF($D27="","",VLOOKUP($D27,'Boys Si Main Draw Prep'!$A$7:$P$70,4)) | J27: =UPPER(IF(OR(I28="a",I28="as"),E27,IF(OR(I28="b",I28="bs"),E28,)))
A28: 22 | B28: =IF($D28="","",VLOOKUP($D28,'Boys Si Main Draw Prep'!$A$7:$P$70,15)) | C28: =IF($D28="","",VLOOKUP($D28,'Boys Si Main Draw Prep'!$A$7:$P$70,16)) | E28: =UPPER(IF($D28="","",VLOOKUP($D28,'Boys Si Main Draw Prep'!$A$7:$P$70,2))) | F28: =IF($D28="","",VLOOKUP($D28,'Boys Si Main Draw Prep'!$A$7:$P$70,3)) | H28: =IF($D28="","",VLOOKUP($D28,'Boys Si Main Draw Prep'!$A$7:$P$70,4)) | L28: =UPPER(IF(OR(K28="a",K28="as"),J27,IF(OR(K28="b",K28="bs"),J29,)))
A29: 23 | B29: =IF($D29="","",VLOOKUP($D29,'Boys Si Main Draw Prep'!$A$7:$P$70,15)) | C29: =IF($D29="","",VLOOKUP($D29,'Boys Si Main Draw Prep'!$A$7:$P$70,16)) | E29: =UPPER(IF($D29="","",VLOOKUP($D29,'Boys Si Main Draw Prep'!$A$7:$P$70,2))) | F29: =IF($D29="","",VLOOKUP($D29,'Boys Si Main Draw Prep'!$A$7:$P$70,3)) | H29: =IF($D29="","",VLOOKUP($D29,'Boys Si Main Draw Prep'!$A$7:$P$70,4)) | J29: =UPPER(IF(OR(I30="a",I30="as"),E29,IF(OR(I30="b",I30="bs"),E30,)))
A30: 24 | B30: =IF($D30="","",VLOOKUP($D30,'Boys Si Main Draw Prep'!$A$7:$P$70,15)) | C30: =IF($D30="","",VLOOKUP($D30,'Boys Si Main Draw Prep'!$A$7:$P$70,16)) | E30: =UPPER(IF($D30="","",VLOOKUP($D30,'Boys Si Main Draw Prep'!$A$7:$P$70,2))) | F30: =IF($D30="","",VLOOKUP($D30,'Boys Si Main Draw Prep'!$A$7:$P$70,3)) | H30: =IF($D30="","",VLOOKUP($D30,'Boys Si Main Draw Prep'!$A$7:$P$70,4)) | N30: Umpire | P30: =UPPER(IF(OR(O30="a",O30="as"),N26,IF(OR(O30="b",O30="bs"),N34,)))
A31: 25 | B31: =IF($D31="","",VLOOKUP($D31,'Boys Si Main Draw Prep'!$A$7:$P$70,15)) | C31: =IF($D31="","",VLOOKUP($D31,'Boys Si Main Draw Prep'!$A$7:$P$70,16)) | E31: =UPPER(IF($D31="","",VLOOKUP($D31,'Boys Si Main Draw Prep'!$A$7:$P$70,2))) | F31: =IF($D31="","",VLOOKUP($D31,'Boys Si Main Draw Prep'!$A$7:$P$70,3)) | H31: =IF($D31="","",VLOOKUP($D31,'Boys Si Main Draw Prep'!$A$7:$P$70,4)) | J31: =UPPER(IF(OR(I32="a",I32="as"),E31,IF(OR(I32="b",I32="bs"),E32,)))
A32: 26 | B32: =IF($D32="","",VLOOKUP($D32,'Boys Si Main Draw Prep'!$A$7:$P$70,15)) | C32: =IF($D32="","",VLOOKUP($D32,'Boys Si Main Draw Prep'!$A$7:$P$70,16)) | E32: =UPPER(IF($D32="","",VLOOKUP($D32,'Boys Si Main Draw Prep'!$A$7:$P$70,2))) | F32: =IF($D32="","",VLOOKUP($D32,'Boys Si Main Draw Prep'!$A$7:$P$70,3)) | H32: =IF($D32="","",VLOOKUP($D32,'Boys Si Main Draw Prep'!$A$7:$P$70,4)) | L32: =UPPER(IF(OR(K32="a",K32="as"),J31,IF(OR(K32="b",K32="bs"),J33,)))
A33: 27 | B33: =IF($D33="","",VLOOKUP($D33,'Boys Si Main Draw Prep'!$A$7:$P$70,15)) | C33: =IF($D33="","",VLOOKUP($D33,'Boys Si Main Draw Prep'!$A$7:$P$70,16)) | E33: =UPPER(IF($D33="","",VLOOKUP($D33,'Boys Si Main Draw Prep'!$A$7:$P$70,2))) | F33: =IF($D33="","",VLOOKUP($D33,'Boys Si Main Draw Prep'!$A$7:$P$70,3)) | H33: =IF($D33="","",VLOOKUP($D33,'Boys Si Main Draw Prep'!$A$7:$P$70,4)) | J33: =UPPER(IF(OR(I34="a",I34="as"),E33,IF(OR(I34="b",I34="bs"),E34,)))
A34: 28 | B34: =IF($D34="","",VLOOKUP($D34,'Boys Si Main Draw Prep'!$A$7:$P$70,15)) | C34: =IF($D34="","",VLOOKUP($D34,'Boys Si Main Draw Prep'!$A$7:$P$70,16)) | E34: =UPPER(IF($D34="","",VLOOKUP($D34,'Boys Si Main Draw Prep'!$A$7:$P$70,2))) | F34: =IF($D34="","",VLOOKUP($D34,'Boys Si Main Draw Prep'!$A$7:$P$70,3)) | H34: =IF($D34="","",VLOOKUP($D34,'Boys Si Main Draw Prep'!$A$7:$P$70,4)) | L34: Umpire | N34: =UPPER(IF(OR(M34="a",M34="as"),L32,IF(OR(M34="b",M34="bs"),L36,)))
A35: 29 | B35: =IF($D35="","",VLOOKUP($D35,'Boys Si Main Draw Prep'!$A$7:$P$70,15)) | C35: =IF($D35="","",VLOOKUP($D35,'Boys Si Main Draw Prep'!$A$7:$P$70,16)) | E35: =UPPER(IF($D35="","",VLOOKUP($D35,'Boys Si Main Draw Prep'!$A$7:$P$70,2))) | F35: =IF($D35="","",VLOOKUP($D35,'Boys Si Main Draw Prep'!$A$7:$P$70,3)) | H35: =IF($D35="","",VLOOKUP($D35,'Boys Si Main Draw Prep'!$A$7:$P$70,4)) | J35: =UPPER(IF(OR(I36="a",I36="as"),E35,IF(OR(I36="b",I36="bs"),E36,)))
A36: 30 | B36: =IF($D36="","",VLOOKUP($D36,'Boys Si Main Draw Prep'!$A$7:$P$70,15)) | C36: =IF($D36="","",VLOOKUP($D36,'Boys Si Main Draw Prep'!$A$7:$P$70,16)) | E36: =UPPER(IF($D36="","",VLOOKUP($D36,'Boys Si Main Draw Prep'!$A$7:$P$70,2))) | F36: =IF($D36="","",VLOOKUP($D36,'Boys Si Main Draw Prep'!$A$7:$P$70,3)) | H36: =IF($D36="","",VLOOKUP($D36,'Boys Si Main Draw Prep'!$A$7:$P$70,4)) | L36: =UPPER(IF(OR(K36="a",K36="as"),J35,IF(OR(K36="b",K36="bs"),J37,))) | N36: Final | P36: Winner
A37: 31 | B37: =IF($D37="","",VLOOKUP($D37,'Boys Si Main Draw Prep'!$A$7:$P$70,15)) | C37: =IF($D37="","",VLOOKUP($D37,'Boys Si Main Draw Prep'!$A$7:$P$70,16)) | E37: =UPPER(IF($D37="","",VLOOKUP($D37,'Boys Si Main Draw Prep'!$A$7:$P$70,2))) | F37: =IF($D37="","",VLOOKUP($D37,'Boys Si Main Draw Prep'!$A$7:$P$70,3)) | H37: =IF($D37="","",VLOOKUP($D37,'Boys Si Main Draw Prep'!$A$7:$P$70,4)) | J37: =UPPER(IF(OR(I38="a",I38="as"),E37,IF(OR(I38="b",I38="bs"),E38,))) | N37: =UPPER(IF(OR(O23="a",O23="as"),P14,IF(OR(O23="b",O23="bs"),P30,)))
A38: 32 | B38: =IF($D38="","",VLOOKUP($D38,'Boys Si Main Draw Prep'!$A$7:$P$70,15)) | C38: =IF($D38="","",VLOOKUP($D38,'Boys Si Main Draw Prep'!$A$7:$P$70,16)) | E38: =UPPER(IF($D38="","",VLOOKUP($D38,'Boys Si Main Draw Prep'!$A$7:$P$70,2))) | F38: =IF($D38="","",VLOOKUP($D38,'Boys Si Main Draw Prep'!$A$7:$P$70,3)) | H38: =IF($D38="","",VLOOKUP($D38,'Boys Si Main Draw Prep'!$A$7:$P$70,4)) | N38: Umpire | P38: =UPPER(IF(OR(O38="a",O38="as"),N37,IF(OR(O38="b",O38="bs"),N39,)))
A39: 33 | B39: =IF($D39="","",VLOOKUP($D39,'Boys Si Main Draw Prep'!$A$7:$P$70,15)) | C39: =IF($D39="","",VLOOKUP($D39,'Boys Si Main Draw Prep'!$A$7:$P$70,16)) | E39: =UPPER(IF($D39="","",VLOOKUP($D39,'Boys Si Main Draw Prep'!$A$7:$P$70,2))) | F39: =IF($D39="","",VLOOKUP($D39,'Boys Si Main Draw Prep'!$A$7:$P$70,3)) | H39: =IF($D39="","",VLOOKUP($D39,'Boys Si Main Draw Prep'!$A$7:$P$70,4)) | J39: =UPPER(IF(OR(I40="a",I40="as"),E39,IF(OR(I40="b",I40="bs"),E40,))) | N39: =UPPER(IF(OR(O55="a",O55="as"),P46,IF(OR(O55="b",O55="bs"),P62,)))
A40: 34 | B40: =IF($D40="","",VLOOKUP($D40,'Boys Si Main Draw Prep'!$A$7:$P$70,15)) | C40: =IF($D40="","",VLOOKUP($D40,'Boys Si Main Draw Prep'!$A$7:$P$70,16)) | E40: =UPPER(IF($D40="","",VLOOKUP($D40,'Boys Si Main Draw Prep'!$A$7:$P$70,2))) | F40: =IF($D40="","",VLOOKUP($D40,'Boys Si Main Draw Prep'!$A$7:$P$70,3)) | H40: =IF($D40="","",VLOOKUP($D40,'Boys Si Main Draw Prep'!$A$7:$P$70,4)) | L40: =UPPER(IF(OR(K40="a",K40="as"),J39,IF(OR(K40="b",K40="bs"),J41,)))
A41: 35 | B41: =IF($D41="","",VLOOKUP($D41,'Boys Si Main Draw Prep'!$A$7:$P$70,15)) | C41: =IF($D41="","",VLOOKUP($D41,'Boys Si Main Draw Prep'!$A$7:$P$70,16)) | E41: =UPPER(IF($D41="","",VLOOKUP($D41,'Boys Si Main Draw Prep'!$A$7:$P$70,2))) | F41: =IF($D41="","",VLOOKUP($D41,'Boys Si Main Draw Prep'!$A$7:$P$70,3)) | H41: =IF($D41="","",VLOOKUP($D41,'Boys Si Main Draw Prep'!$A$7:$P$70,4)) | J41: =UPPER(IF(OR(I42="a",I42="as"),E41,IF(OR(I42="b",I42="bs"),E42,)))
A42: 36 | B42: =IF($D42="","",VLOOKUP($D42,'Boys Si Main Draw Prep'!$A$7:$P$70,15)) | C42: =IF($D42="","",VLOOKUP($D42,'Boys Si Main Draw Prep'!$A$7:$P$70,16)) | E42: =UPPER(IF($D42="","",VLOOKUP($D42,'Boys Si Main Draw Prep'!$A$7:$P$70,2))) | F42: =IF($D42="","",VLOOKUP($D42,'Boys Si Main Draw Prep'!$A$7:$P$70,3)) | H42: =IF($D42="","",VLOOKUP($D42,'Boys Si Main Draw Prep'!$A$7:$P$70,4)) | L42: Umpire | N42: =UPPER(IF(OR(M42="a",M42="as"),L40,IF(OR(M42="b",M42="bs"),L44,)))
A43: 37 | B43: =IF($D43="","",VLOOKUP($D43,'Boys Si Main Draw Prep'!$A$7:$P$70,15)) | C43: =IF($D43="","",VLOOKUP($D43,'Boys Si Main Draw Prep'!$A$7:$P$70,16)) | E43: =UPPER(IF($D43="","",VLOOKUP($D43,'Boys Si Main Draw Prep'!$A$7:$P$70,2))) | F43: =IF($D43="","",VLOOKUP($D43,'Boys Si Main Draw Prep'!$A$7:$P$70,3)) | H43: =IF($D43="","",VLOOKUP($D43,'Boys Si Main Draw Prep'!$A$7:$P$70,4)) | J43: =UPPER(IF(OR(I44="a",I44="as"),E43,IF(OR(I44="b",I44="bs"),E44,)))
A44: 38 | B44: =IF($D44="","",VLOOKUP($D44,'Boys Si Main Draw Prep'!$A$7:$P$70,15)) | C44: =IF($D44="","",VLOOKUP($D44,'Boys Si Main Draw Prep'!$A$7:$P$70,16)) | E44: =UPPER(IF($D44="","",VLOOKUP($D44,'Boys Si Main Draw Prep'!$A$7:$P$70,2))) | F44: =IF($D44="","",VLOOKUP($D44,'Boys Si Main Draw Prep'!$A$7:$P$70,3)) | H44: =IF($D44="","",VLOOKUP($D44,'Boys Si Main Draw Prep'!$A$7:$P$70,4)) | L44: =UPPER(IF(OR(K44="a",K44="as"),J43,IF(OR(K44="b",K44="bs"),J45,)))
A45: 39 | B45: =IF($D45="","",VLOOKUP($D45,'Boys Si Main Draw Prep'!$A$7:$P$70,15)) | C45: =IF($D45="","",VLOOKUP($D45,'Boys Si Main Draw Prep'!$A$7:$P$70,16)) | E45: =UPPER(IF($D45="","",VLOOKUP($D45,'Boys Si Main Draw Prep'!$A$7:$P$70,2))) | F45: =IF($D45="","",VLOOKUP($D45,'Boys Si Main Draw Prep'!$A$7:$P$70,3)) | H45: =IF($D45="","",VLOOKUP($D45,'Boys Si Main Draw Prep'!$A$7:$P$70,4)) | J45: =UPPER(IF(OR(I46="a",I46="as"),E45,IF(OR(I46="b",I46="bs"),E46,)))
A46: 40 | B46: =IF($D46="","",VLOOKUP($D46,'Boys Si Main Draw Prep'!$A$7:$P$70,15)) | C46: =IF($D46="","",VLOOKUP($D46,'Boys Si Main Draw Prep'!$A$7:$P$70,16)) | E46: =UPPER(IF($D46="","",VLOOKUP($D46,'Boys Si Main Draw Prep'!$A$7:$P$70,2))) | F46: =IF($D46="","",VLOOKUP($D46,'Boys Si Main Draw Prep'!$A$7:$P$70,3)) | H46: =IF($D46="","",VLOOKUP($D46,'Boys Si Main Draw Prep'!$A$7:$P$70,4)) | N46: Umpire | P46: =UPPER(IF(OR(O46="a",O46="as"),N42,IF(OR(O46="b",O46="bs"),N50,)))
A47: 41 | B47: =IF($D47="","",VLOOKUP($D47,'Boys Si Main Draw Prep'!$A$7:$P$70,15)) | C47: =IF($D47="","",VLOOKUP($D47,'Boys Si Main Draw Prep'!$A$7:$P$70,16)) | E47: =UPPER(IF($D47="","",VLOOKUP($D47,'Boys Si Main Draw Prep'!$A$7:$P$70,2))) | F47: =IF($D47="","",VLOOKUP($D47,'Boys Si Main Draw Prep'!$A$7:$P$70,3)) | H47: =IF($D47="","",VLOOKUP($D47,'Boys Si Main Draw Prep'!$A$7:$P$70,4)) | J47: =UPPER(IF(OR(I48="a",I48="as"),E47,IF(OR(I48="b",I48="bs"),E48,)))
A48: 42 | B48: =IF($D48="","",VLOOKUP($D48,'Boys Si Main Draw Prep'!$A$7:$P$70,15)) | C48: =IF($D48="","",VLOOKUP($D48,'Boys Si Main Draw Prep'!$A$7:$P$70,16)) | E48: =UPPER(IF($D48="","",VLOOKUP($D48,'Boys Si Main Draw Prep'!$A$7:$P$70,2))) | F48: =IF($D48="","",VLOOKUP($D48,'Boys Si Main Draw Prep'!$A$7:$P$70,3)) | H48: =IF($D48="","",VLOOKUP($D48,'Boys Si Main Draw Prep'!$A$7:$P$70,4)) | L48: =UPPER(IF(OR(K48="a",K48="as"),J47,IF(OR(K48="b",K48="bs"),J49,)))
A49: 43 | B49: =IF($D49="","",VLOOKUP($D49,'Boys Si Main Draw Prep'!$A$7:$P$70,15)) | C49: =IF($D49="","",VLOOKUP($D49,'Boys Si Main Draw Prep'!$A$7:$P$70,16)) | E49: =UPPER(IF($D49="","",VLOOKUP($D49,'Boys Si Main Draw Prep'!$A$7:$P$70,2))) | F49: =IF($D49="","",VLOOKUP($D49,'Boys Si Main Draw Prep'!$A$7:$P$70,3)) | H49: =IF($D49="","",VLOOKUP($D49,'Boys Si Main Draw Prep'!$A$7:$P$70,4)) | J49: =UPPER(IF(OR(I50="a",I50="as"),E49,IF(OR(I50="b",I50="bs"),E50,)))
A50: 44 | B50: =IF($D50="","",VLOOKUP($D50,'Boys Si Main Draw Prep'!$A$7:$P$70,15)) | C50: =IF($D50="","",VLOOKUP($D50,'Boys Si Main Draw Prep'!$A$7:$P$70,16)) | E50: =UPPER(IF($D50="","",VLOOKUP($D50,'Boys Si Main Draw Prep'!$A$7:$P$70,2))) | F50: =IF($D50="","",VLOOKUP($D50,'Boys Si Main Draw Prep'!$A$7:$P$70,3)) | H50: =IF($D50="","",VLOOKUP($D50,'Boys Si Main Draw Prep'!$A$7:$P$70,4)) | L50: Umpire | N50: =UPPER(IF(OR(M50="a",M50="as"),L48,IF(OR(M50="b",M50="bs"),L52,)))
A51: 45 | B51: =IF($D51="","",VLOOKUP($D51,'Boys Si Main Draw Prep'!$A$7:$P$70,15)) | C51: =IF($D51="","",VLOOKUP($D51,'Boys Si Main Draw Prep'!$A$7:$P$70,16)) | E51: =UPPER(IF($D51="","",VLOOKUP($D51,'Boys Si Main Draw Prep'!$A$7:$P$70,2))) | F51: =IF($D51="","",VLOOKUP($D51,'Boys Si Main Draw Prep'!$A$7:$P$70,3)) | H51: =IF($D51="","",VLOOKUP($D51,'Boys Si Main Draw Prep'!$A$7:$P$70,4)) | J51: =UPPER(IF(OR(I52="a",I52="as"),E51,IF(OR(I52="b",I52="bs"),E52,)))
A52: 46 | B52: =IF($D52="","",VLOOKUP($D52,'Boys Si Main Draw Prep'!$A$7:$P$70,15)) | C52: =IF($D52="","",VLOOKUP($D52,'Boys Si Main Draw Prep'!$A$7:$P$70,16)) | E52: =UPPER(IF($D52="","",VLOOKUP($D52,'Boys Si Main Draw Prep'!$A$7:$P$70,2))) | F52: =IF($D52="","",VLOOKUP($D52,'Boys Si Main Draw Prep'!$A$7:$P$70,3)) | H52: =IF($D52="","",VLOOKUP($D52,'Boys Si Main Draw Prep'!$A$7:$P$70,4)) | L52: =UPPER(IF(OR(K52="a",K52="as"),J51,IF(OR(K52="b",K52="bs"),J53,)))
A53: 47 | B53: =IF($D53="","",VLOOKUP($D53,'Boys Si Main Draw Prep'!$A$7:$P$70,15)) | C53: =IF($D53="","",VLOOKUP($D53,'Boys Si Main Draw Prep'!$A$7:$P$70,16)) | E53: =UPPER(IF($D53="","",VLOOKUP($D53,'Boys Si Main Draw Prep'!$A$7:$P$70,2))) | F53: =IF($D53="","",VLOOKUP($D53,'Boys Si Main Draw Prep'!$A$7:$P$70,3)) | H53: =IF($D53="","",VLOOKUP($D53,'Boys Si Main Draw Prep'!$A$7:$P$70,4)) | J53: =UPPER(IF(OR(I54="a",I54="as"),E53,IF(OR(I54="b",I54="bs"),E54,)))
A54: 48 | B54: =IF($D54="","",VLOOKUP($D54,'Boys Si Main Draw Prep'!$A$7:$P$70,15)) | C54: =IF($D54="","",VLOOKUP($D54,'Boys Si Main Draw Prep'!$A$7:$P$70,16)) | E54: =UPPER(IF($D54="","",VLOOKUP($D54,'Boys Si Main Draw Prep'!$A$7:$P$70,2))) | F54: =IF($D54="","",VLOOKUP($D54,'Boys Si Main Draw Prep'!$A$7:$P$70,3)) | H54: =IF($D54="","",VLOOKUP($D54,'Boys Si Main Draw Prep'!$A$7:$P$70,4)) | N54: Finalist 2: | P54: =UPPER(IF(OR(O55="a",O55="as"),P46,IF(OR(O55="b",O55="bs"),P62,)))
A55: 49 | B55: =IF($D55="","",VLOOKUP($D55,'Boys Si Main Draw Prep'!$A$7:$P$70,15)) | C55: =IF($D55="","",VLOOKUP($D55,'Boys Si Main Draw Prep'!$A$7:$P$70,16)) | E55: =UPPER(IF($D55="","",VLOOKUP($D55,'Boys Si Main Draw Prep'!$A$7:$P$70,2))) | F55: =IF($D55="","",VLOOKUP($D55,'Boys Si Main Draw Prep'!$A$7:$P$70,3)) | H55: =IF($D55="","",VLOOKUP($D55,'Boys Si Main Draw Prep'!$A$7:$P$70,4)) | J55: =UPPER(IF(OR(I56="a",I56="as"),E55,IF(OR(I56="b",I56="bs"),E56,))) | N55: Umpire
A56: 50 | B56: =IF($D56="","",VLOOKUP($D56,'Boys Si Main Draw Prep'!$A$7:$P$70,15)) | C56: =IF($D56="","",VLOOKUP($D56,'Boys Si Main Draw Prep'!$A$7:$P$70,16)) | E56: =UPPER(IF($D56="","",VLOOKUP($D56,'Boys Si Main Draw Prep'!$A$7:$P$70,2))) | F56: =IF($D56="","",VLOOKUP($D56,'Boys Si Main Draw Prep'!$A$7:$P$70,3)) | H56: =IF($D56="","",VLOOKUP($D56,'Boys Si Main Draw Prep'!$A$7:$P$70,4)) | L56: =UPPER(IF(OR(K56="a",K56="as"),J55,IF(OR(K56="b",K56="bs"),J57,)))
A57: 51 | B57: =IF($D57="","",VLOOKUP($D57,'Boys Si Main Draw Prep'!$A$7:$P$70,15)) | C57: =IF($D57="","",VLOOKUP($D57,'Boys Si Main Draw Prep'!$A$7:$P$70,16)) | E57: =UPPER(IF($D57="","",VLOOKUP($D57,'Boys Si Main Draw Prep'!$A$7:$P$70,2))) | F57: =IF($D57="","",VLOOKUP($D57,'Boys Si Main Draw Prep'!$A$7:$P$70,3)) | H57: =IF($D57="","",VLOOKUP($D57,'Boys Si Main Draw Prep'!$A$7:$P$70,4)) | J57: =UPPER(IF(OR(I58="a",I58="as"),E57,IF(OR(I58="b",I58="bs"),E58,)))
A58: 52 | B58: =IF($D58="","",VLOOKUP($D58,'Boys Si Main Draw Prep'!$A$7:$P$70,15)) | C58: =IF($D58="","",VLOOKUP($D58,'Boys Si Main Draw Prep'!$A$7:$P$70,16)) | E58: =UPPER(IF($D58="","",VLOOKUP($D58,'Boys Si Main Draw Prep'!$A$7:$P$70,2))) | F58: =IF($D58="","",VLOOKUP($D58,'Boys Si Main Draw Prep'!$A$7:$P$70,3)) | H58: =IF($D58="","",VLOOKUP($D58,'Boys Si Main Draw Prep'!$A$7:$P$70,4)) | L58: Umpire | N58: =UPPER(IF(OR(M58="a",M58="as"),L56,IF(OR(M58="b",M58="bs"),L60,)))
A59: 53 | B59: =IF($D59="","",VLOOKUP($D59,'Boys Si Main Draw Prep'!$A$7:$P$70,15)) | C59: =IF($D59="","",VLOOKUP($D59,'Boys Si Main Draw Prep'!$A$7:$P$70,16)) | E59: =UPPER(IF($D59="","",VLOOKUP($D59,'Boys Si Main Draw Prep'!$A$7:$P$70,2))) | F59: =IF($D59="","",VLOOKUP($D59,'Boys Si Main Draw Prep'!$A$7:$P$70,3)) | H59: =IF($D59="","",VLOOKUP($D59,'Boys Si Main Draw Prep'!$A$7:$P$70,4)) | J59: =UPPER(IF(OR(I60="a",I60="as"),E59,IF(OR(I60="b",I60="bs"),E60,)))
A60: 54 | B60: =IF($D60="","",VLOOKUP($D60,'Boys Si Main Draw Prep'!$A$7:$P$70,15)) | C60: =IF($D60="","",VLOOKUP($D60,'Boys Si Main Draw Prep'!$A$7:$P$70,16)) | E60: =UPPER(IF($D60="","",VLOOKUP($D60,'Boys Si Main Draw Prep'!$A$7:$P$70,2))) | F60: =IF($D60="","",VLOOKUP($D60,'Boys Si Main Draw Prep'!$A$7:$P$70,3)) | H60: =IF($D60="","",VLOOKUP($D60,'Boys Si Main Draw Prep'!$A$7:$P$70,4)) | L60: =UPPER(IF(OR(K60="a",K60="as"),J59,IF(OR(K60="b",K60="bs"),J61,)))
A61: 55 | B61: =IF($D61="","",VLOOKUP($D61,'Boys Si Main Draw Prep'!$A$7:$P$70,15)) | C61: =IF($D61="","",VLOOKUP($D61,'Boys Si Main Draw Prep'!$A$7:$P$70,16)) | E61: =UPPER(IF($D61="","",VLOOKUP($D61,'Boys Si Main Draw Prep'!$A$7:$P$70,2))) | F61: =IF($D61="","",VLOOKUP($D61,'Boys Si Main Draw Prep'!$A$7:$P$70,3)) | H61: =IF($D61="","",VLOOKUP($D61,'Boys Si Main Draw Prep'!$A$7:$P$70,4)) | J61: =UPPER(IF(OR(I62="a",I62="as"),E61,IF(OR(I62="b",I62="bs"),E62,)))
A62: 56 | B62: =IF($D62="","",VLOOKUP($D62,'Boys Si Main Draw Prep'!$A$7:$P$70,15)) | C62: =IF($D62="","",VLOOKUP($D62,'Boys Si Main Draw Prep'!$A$7:$P$70,16)) | E62: =UPPER(IF($D62="","",VLOOKUP($D62,'Boys Si Main Draw Prep'!$A$7:$P$70,2))) | F62: =IF($D62="","",VLOOKUP($D62,'Boys Si Main Draw Prep'!$A$7:$P$70,3)) | H62: =IF($D62="","",VLOOKUP($D62,'Boys Si Main Draw Prep'!$A$7:$P$70,4)) | N62: Umpire | P62: =UPPER(IF(OR(O62="a",O62="as"),N58,IF(OR(O62="b",O62="bs"),N66,)))
A63: 57 | B63: =IF($D63="","",VLOOKUP($D63,'Boys Si Main Draw Prep'!$A$7:$P$70,15)) | C63: =IF($D63="","",VLOOKUP($D63,'Boys Si Main Draw Prep'!$A$7:$P$70,16)) | E63: =UPPER(IF($D63="","",VLOOKUP($D63,'Boys Si Main Draw Prep'!$A$7:$P$70,2))) | F63: =IF($D63="","",VLOOKUP($D63,'Boys Si Main Draw Prep'!$A$7:$P$70,3)) | H63: =IF($D63="","",VLOOKUP($D63,'Boys Si Main Draw Prep'!$A$7:$P$70,4)) | J63: =UPPER(IF(OR(I64="a",I64="as"),E63,IF(OR(I64="b",I64="bs"),E64,)))
A64: 58 | B64: =IF($D64="","",VLOOKUP($D64,'Boys Si Main Draw Prep'!$A$7:$P$70,15)) | C64: =IF($D64="","",VLOOKUP($D64,'Boys Si Main Draw Prep'!$A$7:$P$70,16)) | E64: =UPPER(IF($D64="","",VLOOKUP($D64,'Boys Si Main Draw Prep'!$A$7:$P$70,2))) | F64: =IF($D64="","",VLOOKUP($D64,'Boys Si Main Draw Prep'!$A$7:$P$70,3)) | H64: =IF($D64="","",VLOOKUP($D64,'Boys Si Main Draw Prep'!$A$7:$P$70,4)) | L64: =UPPER(IF(OR(K64="a",K64="as"),J63,IF(OR(K64="b",K64="bs"),J65,)))
A65: 59 | B65: =IF($D65="","",VLOOKUP($D65,'Boys Si Main Draw Prep'!$A$7:$P$70,15)) | C65: =IF($D65="","",VLOOKUP($D65,'Boys Si Main Draw Prep'!$A$7:$P$70,16)) | E65: =UPPER(IF($D65="","",VLOOKUP($D65,'Boys Si Main Draw Prep'!$A$7:$P$70,2))) | F65: =IF($D65="","",VLOOKUP($D65,'Boys Si Main Draw Prep'!$A$7:$P$70,3)) | H65: =IF($D65="","",VLOOKUP($D65,'Boys Si Main Draw Prep'!$A$7:$P$70,4)) | J65: =UPPER(IF(OR(I66="a",I66="as"),E65,IF(OR(I66="b",I66="bs"),E66,)))
A66: 60 | B66: =IF($D66="","",VLOOKUP($D66,'Boys Si Main Draw Prep'!$A$7:$P$70,15)) | C66: =IF($D66="","",VLOOKUP($D66,'Boys Si Main Draw Prep'!$A$7:$P$70,16)) | E66: =UPPER(IF($D66="","",VLOOKUP($D66,'Boys Si Main Draw Prep'!$A$7:$P$70,2))) | F66: =IF($D66="","",VLOOKUP($D66,'Boys Si Main Draw Prep'!$A$7:$P$70,3)) | H66: =IF($D66="","",VLOOKUP($D66,'Boys Si Main Draw Prep'!$A$7:$P$70,4)) | L66: Umpire | N66: =UPPER(IF(OR(M66="a",M66="as"),L64,IF(OR(M66="b",M66="bs"),L68,)))
A67: 61 | B67: =IF($D67="","",VLOOKUP($D67,'Boys Si Main Draw Prep'!$A$7:$P$70,15)) | C67: =IF($D67="","",VLOOKUP($D67,'Boys Si Main Draw Prep'!$A$7:$P$70,16)) | E67: =UPPER(IF($D67="","",VLOOKUP($D67,'Boys Si Main Draw Prep'!$A$7:$P$70,2))) | F67: =IF($D67="","",VLOOKUP($D67,'Boys Si Main Draw Prep'!$A$7:$P$70,3)) | H67: =IF($D67="","",VLOOKUP($D67,'Boys Si Main Draw Prep'!$A$7:$P$70,4)) | J67: =UPPER(IF(OR(I68="a",I68="as"),E67,IF(OR(I68="b",I68="bs"),E68,)))
A68: 62 | B68: =IF($D68="","",VLOOKUP($D68,'Boys Si Main Draw Prep'!$A$7:$P$70,15)) | C68: =IF($D68="","",VLOOKUP($D68,'Boys Si Main Draw Prep'!$A$7:$P$70,16)) | E68: =UPPER(IF($D68="","",VLOOKUP($D68,'Boys Si Main Draw Prep'!$A$7:$P$70,2))) | F68: =IF($D68="","",VLOOKUP($D68,'Boys Si Main Draw Prep'!$A$7:$P$70,3)) | H68: =IF($D68="","",VLOOKUP($D68,'Boys Si Main Draw Prep'!$A$7:$P$70,4)) | L68: =UPPER(IF(OR(K68="a",K68="as"),J67,IF(OR(K68="b",K68="bs"),J69,)))
A69: 63 | B69: =IF($D69="","",VLOOKUP($D69,'Boys Si Main Draw Prep'!$A$7:$P$70,15)) | C69: =IF($D69="","",VLOOKUP($D69,'Boys Si Main Draw Prep'!$A$7:$P$70,16)) | E69: =UPPER(IF($D69="","",VLOOKUP($D69,'Boys Si Main Draw Prep'!$A$7:$P$70,2))) | F69: =IF($D69="","",VLOOKUP($D69,'Boys Si Main Draw Prep'!$A$7:$P$70,3)) | H69: =IF($D69="","",VLOOKUP($D69,'Boys Si Main Draw Prep'!$A$7:$P$70,4)) | J69: =UPPER(IF(OR(I70="a",I70="as"),E69,IF(OR(I70="b",I70="bs"),E70,)))
A70: 64 | B70: =IF($D70="","",VLOOKUP($D70,'Boys Si Main Draw Prep'!$A$7:$P$70,15)) | C70: =IF($D70="","",VLOOKUP($D70,'Boys Si Main Draw Prep'!$A$7:$P$70,16)) | E70: =UPPER(IF($D70="","",VLOOKUP($D70,'Boys Si Main Draw Prep'!$A$7:$P$70,2))) | F70: =IF($D70="","",VLOOKUP($D70,'Boys Si Main Draw Prep'!$A$7:$P$70,3)) | H70: =IF($D70="","",VLOOKUP($D70,'Boys Si Main Draw Prep'!$A$7:$P$70,4))
A72: Acc. Ranking | D72: # | E72: Seeded players | F72: # | G72: Seeded players | I72: # | J72: Lucky Losers | L72: Replacing | N72: Draw date/time:
A73: Rkg Date | D73: 1 | E73: =IF(D73>$Q$80,,UPPER(VLOOKUP(D73,'Boys Si Main Draw Prep'!$A$7:$R$134,2))) -> 0 | F73: 9 | G73: =IF(F73>$Q$80,,UPPER(VLOOKUP(F73,'Boys Si Main Draw Prep'!$A$7:$R$134,2))) -> 0 | I73: 1 | N73: Last Accepted player
A74: Top DA | D74: 2 | E74: =IF(D74>$Q$80,,UPPER(VLOOKUP(D74,'Boys Si Main Draw Prep'!$A$7:$R$134,2))) -> 0 | F74: 10 | G74: =IF(F74>$Q$80,,UPPER(VLOOKUP(F74,'Boys Si Main Draw Prep'!$A$7:$R$134,2))) -> 0 | I74: 2
A75: Last DA | D75: 3 | E75: =IF(D75>$Q$80,,UPPER(VLOOKUP(D75,'Boys Si Main Draw Prep'!$A$7:$R$134,2))) -> 0 | F75: 11 | G75: =IF(F75>$Q$80,,UPPER(VLOOKUP(F75,'Boys Si Main Draw Prep'!$A$7:$R$134,2))) -> 0 | I75: 3 | N75: Player representatives
D76: 4 | E76: =IF(D76>$Q$80,,UPPER(VLOOKUP(D76,'Boys Si Main Draw Prep'!$A$7:$R$134,2))) -> 0 | F76: 12 | G76: =IF(F76>$Q$80,,UPPER(VLOOKUP(F76,'Boys Si Main Draw Prep'!$A$7:$R$134,2))) -> 0 | I76: 4
A77: Seed ranking | D77: 5 | E77: =IF(D77>$Q$80,,UPPER(VLOOKUP(D77,'Boys Si Main Draw Prep'!$A$7:$R$134,2))) -> 0 | F77: 13 | G77: =IF(F77>$Q$80,,UPPER(VLOOKUP(F77,'Boys Si Main Draw Prep'!$A$7:$R$134,2))) -> 0 | I77: 5
A78: Rkg Date | D78: 6 | E78: =IF(D78>$Q$80,,UPPER(VLOOKUP(D78,'Boys Si Main Draw Prep'!$A$7:$R$134,2))) -> 0 | F78: 14 | G78: =IF(F78>$Q$80,,UPPER(VLOOKUP(F78,'Boys Si Main Draw Prep'!$A$7:$R$134,2))) -> 0 | I78: 6 | N78: ITF Referee's signature
A79: Top seed | D79: 7 | E79: =IF(D79>$Q$80,,UPPER(VLOOKUP(D79,'Boys Si Main Draw Prep'!$A$7:$R$134,2))) -> 0 | F79: 15 | G79: =IF(F79>$Q$80,,UPPER(VLOOKUP(F79,'Boys Si Main Draw Prep'!$A$7:$R$134,2))) -> 0 | I79: 7
A80: Last seed | D80: 8 | E80: =IF(D80>$Q$80,,UPPER(VLOOKUP(D80,'Boys Si Main Draw Prep'!$A$7:$R$134,2))) -> 0 | F80: 16 | G80: =IF(F80>$Q$80,,UPPER(VLOOKUP(F80,'Boys Si Main Draw Prep'!$A$7:$R$134,2))) -> 0 | I80: 8 | N80: =Q4 -> 0 | Q80: =MIN(16,'Boys Si Main Draw Prep'!R5) -> 0

Sheet Boys Si Main 96&128
A1: ='Week SetUp'!$A$6 -> 0 | J1: BOYS SINGLES
A2: ='Week SetUp'!$A$8 -> ITF Junior Circuit | J2: MAIN DRAW (96&128)
A3: Week of | F3: City, Country | J3: Group | L3: Tourn. ID | Q3: ITF Referee
A4: ='Week SetUp'!$A$10 -> 0 | F4: ='Week SetUp'!$C$10 -> 0 | J4: ='Week SetUp'!$D$10 -> 0 | L4: ='Week SetUp'!$A$12 -> 0 | Q4: ='Week SetUp'!$E$10 -> 0
B5: St. | C5: Rank | D5: Seed | E5: Family Name | F5: First name | H5: Nationality | J5: 2nd Round | L5: 3rd Round | N5: 4th Round | P5: Quarterfinalists
A7: 1 | B7: =IF($D7="","",VLOOKUP($D7,'Boys Si Main Draw Prep'!$A$7:$P$134,15)) | C7: =IF($D7="","",VLOOKUP($D7,'Boys Si Main Draw Prep'!$A$7:$P$134,16)) | E7: =UPPER(IF($D7="","",VLOOKUP($D7,'Boys Si Main Draw Prep'!$A$7:$P$134,2))) | F7: =IF($D7="","",VLOOKUP($D7,'Boys Si Main Draw Prep'!$A$7:$P$134,3)) | H7: =IF($D7="","",VLOOKUP($D7,'Boys Si Main Draw Prep'!$A$7:$P$134,4)) | J7: =UPPER(IF(OR(I8="a",I8="as"),E7,IF(OR(I8="b",I8="bs"),E8,))) | Q7: Page 1(3) | T7: =#REF! -> #REF!
A8: 2 | B8: =IF($D8="","",VLOOKUP($D8,'Boys Si Main Draw Prep'!$A$7:$P$134,15)) | C8: =IF($D8="","",VLOOKUP($D8,'Boys Si Main Draw Prep'!$A$7:$P$134,16)) | E8: =UPPER(IF($D8="","",VLOOKUP($D8,'Boys Si Main Draw Prep'!$A$7:$P$134,2))) | F8: =IF($D8="","",VLOOKUP($D8,'Boys Si Main Draw Prep'!$A$7:$P$134,3)) | H8: =IF($D8="","",VLOOKUP($D8,'Boys Si Main Draw Prep'!$A$7:$P$134,4)) | L8: =UPPER(IF(OR(K8="a",K8="as"),J7,IF(OR(K8="b",K8="bs"),J9,))) | T8: =#REF! -> #REF!
A9: 3 | B9: =IF($D9="","",VLOOKUP($D9,'Boys Si Main Draw Prep'!$A$7:$P$134,15)) | C9: =IF($D9="","",VLOOKUP($D9,'Boys Si Main Draw Prep'!$A$7:$P$134,16)) | E9: =UPPER(IF($D9="","",VLOOKUP($D9,'Boys Si Main Draw Prep'!$A$7:$P$134,2))) | F9: =IF($D9="","",VLOOKUP($D9,'Boys Si Main Draw Prep'!$A$7:$P$134,3)) | H9: =IF($D9="","",VLOOKUP($D9,'Boys Si Main Draw Prep'!$A$7:$P$134,4)) | J9: =UPPER(IF(OR(I10="a",I10="as"),E9,IF(OR(I10="b",I10="bs"),E10,))) | T9: =#REF! -> #REF!
A10: 4 | B10: =IF($D10="","",VLOOKUP($D10,'Boys Si Main Draw Prep'!$A$7:$P$134,15)) | C10: =IF($D10="","",VLOOKUP($D10,'Boys Si Main Draw Prep'!$A$7:$P$134,16)) | E10: =UPPER(IF($D10="","",VLOOKUP($D10,'Boys Si Main Draw Prep'!$A$7:$P$134,2))) | F10: =IF($D10="","",VLOOKUP($D10,'Boys Si Main Draw Prep'!$A$7:$P$134,3)) | H10: =IF($D10="","",VLOOKUP($D10,'Boys Si Main Draw Prep'!$A$7:$P$134,4)) | L10: Umpire | N10: =UPPER(IF(OR(M10="a",M10="as"),L8,IF(OR(M10="b",M10="bs"),L12,))) | T10: =#REF! -> #REF!
A11: 5 | B11: =IF($D11="","",VLOOKUP($D11,'Boys Si Main Draw Prep'!$A$7:$P$134,15)) | C11: =IF($D11="","",VLOOKUP($D11,'Boys Si Main Draw Prep'!$A$7:$P$134,16)) | E11: =UPPER(IF($D11="","",VLOOKUP($D11,'Boys Si Main Draw Prep'!$A$7:$P$134,2))) | F11: =IF($D11="","",VLOOKUP($D11,'Boys Si Main Draw Prep'!$A$7:$P$134,3)) | H11: =IF($D11="","",VLOOKUP($D11,'Boys Si Main Draw Prep'!$A$7:$P$134,4)) | J11: =UPPER(IF(OR(I12="a",I12="as"),E11,IF(OR(I12="b",I12="bs"),E12,))) | T11: =#REF! -> #REF!
A12: 6 | B12: =IF($D12="","",VLOOKUP($D12,'Boys Si Main Draw Prep'!$A$7:$P$134,15)) | C12: =IF($D12="","",VLOOKUP($D12,'Boys Si Main Draw Prep'!$A$7:$P$134,16)) | E12: =UPPER(IF($D12="","",VLOOKUP($D12,'Boys Si Main Draw Prep'!$A$7:$P$134,2))) | F12: =IF($D12="","",VLOOKUP($D12,'Boys Si Main Draw Prep'!$A$7:$P$134,3)) | H12: =IF($D12="","",VLOOKUP($D12,'Boys Si Main Draw Prep'!$A$7:$P$134,4)) | L12: =UPPER(IF(OR(K12="a",K12="as"),J11,IF(OR(K12="b",K12="bs"),J13,))) | T12: =#REF! -> #REF!
A13: 7 | B13: =IF($D13="","",VLOOKUP($D13,'Boys Si Main Draw Prep'!$A$7:$P$134,15)) | C13: =IF($D13="","",VLOOKUP($D13,'Boys Si Main Draw Prep'!$A$7:$P$134,16)) | E13: =UPPER(IF($D13="","",VLOOKUP($D13,'Boys Si Main Draw Prep'!$A$7:$P$134,2))) | F13: =IF($D13="","",VLOOKUP($D13,'Boys Si Main Draw Prep'!$A$7:$P$134,3)) | H13: =IF($D13="","",VLOOKUP($D13,'Boys Si Main Draw Prep'!$A$7:$P$134,4)) | J13: =UPPER(IF(OR(I14="a",I14="as"),E13,IF(OR(I14="b",I14="bs"),E14,))) | T13: =#REF! -> #REF!
A14: 8 | B14: =IF($D14="","",VLOOKUP($D14,'Boys Si Main Draw Prep'!$A$7:$P$134,15)) | C14: =IF($D14="","",VLOOKUP($D14,'Boys Si Main Draw Prep'!$A$7:$P$134,16)) | E14: =UPPER(IF($D14="","",VLOOKUP($D14,'Boys Si Main Draw Prep'!$A$7:$P$134,2))) | F14: =IF($D14="","",VLOOKUP($D14,'Boys Si Main Draw Prep'!$A$7:$P$134,3)) | H14: =IF($D14="","",VLOOKUP($D14,'Boys Si Main Draw Prep'!$A$7:$P$134,4)) | N14: Umpire | P14: =UPPER(IF(OR(O14="a",O14="as"),N10,IF(OR(O14="b",O14="bs"),N18,))) | T14: =#REF! -> #REF!
A15: 9 | B15: =IF($D15="","",VLOOKUP($D15,'Boys Si Main Draw Prep'!$A$7:$P$134,15)) | C15: =IF($D15="","",VLOOKUP($D15,'Boys Si Main Draw Prep'!$A$7:$P$134,16)) | E15: =UPPER(IF($D15="","",VLOOKUP($D15,'Boys Si Main Draw Prep'!$A$7:$P$134,2))) | F15: =IF($D15="","",VLOOKUP($D15,'Boys Si Main Draw Prep'!$A$7:$P$134,3)) | H15: =IF($D15="","",VLOOKUP($D15,'Boys Si Main Draw Prep'!$A$7:$P$134,4)) | J15: =UPPER(IF(OR(I16="a",I16="as"),E15,IF(OR(I16="b",I16="bs"),E16,))) | T15: =#REF! -> #REF!
A16: 10 | B16: =IF($D16="","",VLOOKUP($D16,'Boys Si Main Draw Prep'!$A$7:$P$134,15)) | C16: =IF($D16="","",VLOOKUP($D16,'Boys Si Main Draw Prep'!$A$7:$P$134,16)) | E16: =UPPER(IF($D16="","",VLOOKUP($D16,'Boys Si Main Draw Prep'!$A$7:$P$134,2))) | F16: =IF($D16="","",VLOOKUP($D16,'Boys Si Main Draw Prep'!$A$7:$P$134,3)) | H16: =IF($D16="","",VLOOKUP($D16,'Boys Si Main Draw Prep'!$A$7:$P$134,4)) | L16: =UPPER(IF(OR(K16="a",K16="as"),J15,IF(OR(K16="b",K16="bs"),J17,))) | T16: =#REF! -> #REF!
A17: 11 | B17: =IF($D17="","",VLOOKUP($D17,'Boys Si Main Draw Prep'!$A$7:$P$134,15)) | C17: =IF($D17="","",VLOOKUP($D17,'Boys Si Main Draw Prep'!$A$7:$P$134,16)) | E17: =UPPER(IF($D17="","",VLOOKUP($D17,'Boys Si Main Draw Prep'!$A$7:$P$134,2))) | F17: =IF($D17="","",VLOOKUP($D17,'Boys Si Main Draw Prep'!$A$7:$P$134,3)) | H17: =IF($D17="","",VLOOKUP($D17,'Boys Si Main Draw Prep'!$A$7:$P$134,4)) | J17: =UPPER(IF(OR(I18="a",I18="as"),E17,IF(OR(I18="b",I18="bs"),E18,)))
A18: 12 | B18: =IF($D18="","",VLOOKUP($D18,'Boys Si Main Draw Prep'!$A$7:$P$134,15)) | C18: =IF($D18="","",VLOOKUP($D18,'Boys Si Main Draw Prep'!$A$7:$P$134,16)) | E18: =UPPER(IF($D18="","",VLOOKUP($D18,'Boys Si Main Draw Prep'!$A$7:$P$134,2))) | F18: =IF($D18="","",VLOOKUP($D18,'Boys Si Main Draw Prep'!$A$7:$P$134,3)) | H18: =IF($D18="","",VLOOKUP($D18,'Boys Si Main Draw Prep'!$A$7:$P$134,4)) | L18: Umpire | N18: =UPPER(IF(OR(M18="a",M18="as"),L16,IF(OR(M18="b",M18="bs"),L20,)))
A19: 13 | B19: =IF($D19="","",VLOOKUP($D19,'Boys Si Main Draw Prep'!$A$7:$P$134,15)) | C19: =IF($D19="","",VLOOKUP($D19,'Boys Si Main Draw Prep'!$A$7:$P$134,16)) | E19: =UPPER(IF($D19="","",VLOOKUP($D19,'Boys Si Main Draw Prep'!$A$7:$P$134,2))) | F19: =IF($D19="","",VLOOKUP($D19,'Boys Si Main Draw Prep'!$A$7:$P$134,3)) | H19: =IF($D19="","",VLOOKUP($D19,'Boys Si Main Draw Prep'!$A$7:$P$134,4)) | J19: =UPPER(IF(OR(I20="a",I20="as"),E19,IF(OR(I20="b",I20="bs"),E20,)))
A20: 14 | B20: =IF($D20="","",VLOOKUP($D20,'Boys Si Main Draw Prep'!$A$7:$P$134,15)) | C20: =IF($D20="","",VLOOKUP($D20,'Boys Si Main Draw Prep'!$A$7:$P$134,16)) | E20: =UPPER(IF($D20="","",VLOOKUP($D20,'Boys Si Main Draw Prep'!$A$7:$P$134,2))) | F20: =IF($D20="","",VLOOKUP($D20,'Boys Si Main Draw Prep'!$A$7:$P$134,3)) | H20: =IF($D20="","",VLOOKUP($D20,'Boys Si Main Draw Prep'!$A$7:$P$134,4)) | L20: =UPPER(IF(OR(K20="a",K20="as"),J19,IF(OR(K20="b",K20="bs"),J21,)))
A21: 15 | B21: =IF($D21="","",VLOOKUP($D21,'Boys Si Main Draw Prep'!$A$7:$P$134,15)) | C21: =IF($D21="","",VLOOKUP($D21,'Boys Si Main Draw Prep'!$A$7:$P$134,16)) | E21: =UPPER(IF($D21="","",VLOOKUP($D21,'Boys Si Main Draw Prep'!$A$7:$P$134,2))) | F21: =IF($D21="","",VLOOKUP($D21,'Boys Si Main Draw Prep'!$A$7:$P$134,3)) | H21: =IF($D21="","",VLOOKUP($D21,'Boys Si Main Draw Prep'!$A$7:$P$134,4)) | J21: =UPPER(IF(OR(I22="a",I22="as"),E21,IF(OR(I22="b",I22="bs"),E22,)))
A22: 16 | B22: =IF($D22="","",VLOOKUP($D22,'Boys Si Main Draw Prep'!$A$7:$P$134,15)) | C22: =IF($D22="","",VLOOKUP($D22,'Boys Si Main Draw Prep'!$A$7:$P$134,16)) | E22: =UPPER(IF($D22="","",VLOOKUP($D22,'Boys Si Main Draw Prep'!$A$7:$P$134,2))) | F22: =IF($D22="","",VLOOKUP($D22,'Boys Si Main Draw Prep'!$A$7:$P$134,3)) | H22: =IF($D22="","",VLOOKUP($D22,'Boys Si Main Draw Prep'!$A$7:$P$134,4))
A23: 17 | B23: =IF($D23="","",VLOOKUP($D23,'Boys Si Main Draw Prep'!$A$7:$P$134,15)) | C23: =IF($D23="","",VLOOKUP($D23,'Boys Si Main Draw Prep'!$A$7:$P$134,16)) | E23: =UPPER(IF($D23="","",VLOOKUP($D23,'Boys Si Main Draw Prep'!$A$7:$P$134,2))) | F23: =IF($D23="","",VLOOKUP($D23,'Boys Si Main Draw Prep'!$A$7:$P$134,3)) | H23: =IF($D23="","",VLOOKUP($D23,'Boys Si Main Draw Prep'!$A$7:$P$134,4)) | J23: =UPPER(IF(OR(I24="a",I24="as"),E23,IF(OR(I24="b",I24="bs"),E24,)))
A24: 18 | B24: =IF($D24="","",VLOOKUP($D24,'Boys Si Main Draw Prep'!$A$7:$P$134,15)) | C24: =IF($D24="","",VLOOKUP($D24,'Boys Si Main Draw Prep'!$A$7:$P$134,16)) | E24: =UPPER(IF($D24="","",VLOOKUP($D24,'Boys Si Main Draw Prep'!$A$7:$P$134,2))) | F24: =IF($D24="","",VLOOKUP($D24,'Boys Si Main Draw Prep'!$A$7:$P$134,3)) | H24: =IF($D24="","",VLOOKUP($D24,'Boys Si Main Draw Prep'!$A$7:$P$134,4)) | L24: =UPPER(IF(OR(K24="a",K24="as"),J23,IF(OR(K24="b",K24="bs"),J25,)))
A25: 19 | B25: =IF($D25="","",VLOOKUP($D25,'Boys Si Main Draw Prep'!$A$7:$P$134,15)) | C25: =IF($D25="","",VLOOKUP($D25,'Boys Si Main Draw Prep'!$A$7:$P$134,16)) | E25: =UPPER(IF($D25="","",VLOOKUP($D25,'Boys Si Main Draw Prep'!$A$7:$P$134,2))) | F25: =IF($D25="","",VLOOKUP($D25,'Boys Si Main Draw Prep'!$A$7:$P$134,3)) | H25: =IF($D25="","",VLOOKUP($D25,'Boys Si Main Draw Prep'!$A$7:$P$134,4)) | J25: =UPPER(IF(OR(I26="a",I26="as"),E25,IF(OR(I26="b",I26="bs"),E26,)))
A26: 20 | B26: =IF($D26="","",VLOOKUP($D26,'Boys Si Main Draw Prep'!$A$7:$P$134,15)) | C26: =IF($D26="","",VLOOKUP($D26,'Boys Si Main Draw Prep'!$A$7:$P$134,16)) | E26: =UPPER(IF($D26="","",VLOOKUP($D26,'Boys Si Main Draw Prep'!$A$7:$P$134,2))) | F26: =IF($D26="","",VLOOKUP($D26,'Boys Si Main Draw Prep'!$A$7:$P$134,3)) | H26: =IF($D26="","",VLOOKUP($D26,'Boys Si Main Draw Prep'!$A$7:$P$134,4)) | L26: Umpire | N26: =UPPER(IF(OR(M26="a",M26="as"),L24,IF(OR(M26="b",M26="bs"),L28,)))
A27: 21 | B27: =IF($D27="","",VLOOKUP($D27,'Boys Si Main Draw Prep'!$A$7:$P$134,15)) | C27: =IF($D27="","",VLOOKUP($D27,'Boys Si Main Draw Prep'!$A$7:$P$134,16)) | E27: =UPPER(IF($D27="","",VLOOKUP($D27,'Boys Si Main Draw Prep'!$A$7:$P$134,2))) | F27: =IF($D27="","",VLOOKUP($D27,'Boys Si Main Draw Prep'!$A$7:$P$134,3)) | H27: =IF($D27="","",VLOOKUP($D27,'Boys Si Main Draw Prep'!$A$7:$P$134,4)) | J27: =UPPER(IF(OR(I28="a",I28="as"),E27,IF(OR(I28="b",I28="bs"),E28,)))
A28: 22 | B28: =IF($D28="","",VLOOKUP($D28,'Boys Si Main Draw Prep'!$A$7:$P$134,15)) | C28: =IF($D28="","",VLOOKUP($D28,'Boys Si Main Draw Prep'!$A$7:$P$134,16)) | E28: =UPPER(IF($D28="","",VLOOKUP($D28,'Boys Si Main Draw Prep'!$A$7:$P$134,2))) | F28: =IF($D28="","",VLOOKUP($D28,'Boys Si Main Draw Prep'!$A$7:$P$134,3)) | H28: =IF($D28="","",VLOOKUP($D28,'Boys Si Main Draw Prep'!$A$7:$P$134,4)) | L28: =UPPER(IF(OR(K28="a",K28="as"),J27,IF(OR(K28="b",K28="bs"),J29,)))
A29: 23 | B29: =IF($D29="","",VLOOKUP($D29,'Boys Si Main Draw Prep'!$A$7:$P$134,15)) | C29: =IF($D29="","",VLOOKUP($D29,'Boys Si Main Draw Prep'!$A$7:$P$134,16)) | E29: =UPPER(IF($D29="","",VLOOKUP($D29,'Boys Si Main Draw Prep'!$A$7:$P$134,2))) | F29: =IF($D29="","",VLOOKUP($D29,'Boys Si Main Draw Prep'!$A$7:$P$134,3)) | H29: =IF($D29="","",VLOOKUP($D29,'Boys Si Main Draw Prep'!$A$7:$P$134,4)) | J29: =UPPER(IF(OR(I30="a",I30="as"),E29,IF(OR(I30="b",I30="bs"),E30,)))
A30: 24 | B30: =IF($D30="","",VLOOKUP($D30,'Boys Si Main Draw Prep'!$A$7:$P$134,15)) | C30: =IF($D30="","",VLOOKUP($D30,'Boys Si Main Draw Prep'!$A$7:$P$134,16)) | E30: =UPPER(IF($D30="","",VLOOKUP($D30,'Boys Si Main Draw Prep'!$A$7:$P$134,2))) | F30: =IF($D30="","",VLOOKUP($D30,'Boys Si Main Draw Prep'!$A$7:$P$134,3)) | H30: =IF($D30="","",VLOOKUP($D30,'Boys Si Main Draw Prep'!$A$7:$P$134,4)) | N30: Umpire | P30: =UPPER(IF(OR(O30="a",O30="as"),N26,IF(OR(O30="b",O30="bs"),N34,)))
A31: 25 | B31: =IF($D31="","",VLOOKUP($D31,'Boys Si Main Draw Prep'!$A$7:$P$134,15)) | C31: =IF($D31="","",VLOOKUP($D31,'Boys Si Main Draw Prep'!$A$7:$P$134,16)) | E31: =UPPER(IF($D31="","",VLOOKUP($D31,'Boys Si Main Draw Prep'!$A$7:$P$134,2))) | F31: =IF($D31="","",VLOOKUP($D31,'Boys Si Main Draw Prep'!$A$7:$P$134,3)) | H31: =IF($D31="","",VLOOKUP($D31,'Boys Si Main Draw Prep'!$A$7:$P$134,4)) | J31: =UPPER(IF(OR(I32="a",I32="as"),E31,IF(OR(I32="b",I32="bs"),E32,)))
A32: 26 | B32: =IF($D32="","",VLOOKUP($D32,'Boys Si Main Draw Prep'!$A$7:$P$134,15)) | C32: =IF($D32="","",VLOOKUP($D32,'Boys Si Main Draw Prep'!$A$7:$P$134,16)) | E32: =UPPER(IF($D32="","",VLOOKUP($D32,'Boys Si Main Draw Prep'!$A$7:$P$134,2))) | F32: =IF($D32="","",VLOOKUP($D32,'Boys Si Main Draw Prep'!$A$7:$P$134,3)) | H32: =IF($D32="","",VLOOKUP($D32,'Boys Si Main Draw Prep'!$A$7:$P$134,4)) | L32: =UPPER(IF(OR(K32="a",K32="as"),J31,IF(OR(K32="b",K32="bs"),J33,)))
A33: 27 | B33: =IF($D33="","",VLOOKUP($D33,'Boys Si Main Draw Prep'!$A$7:$P$134,15)) | C33: =IF($D33="","",VLOOKUP($D33,'Boys Si Main Draw Prep'!$A$7:$P$134,16)) | E33: =UPPER(IF($D33="","",VLOOKUP($D33,'Boys Si Main Draw Prep'!$A$7:$P$134,2))) | F33: =IF($D33="","",VLOOKUP($D33,'Boys Si Main Draw Prep'!$A$7:$P$134,3)) | H33: =IF($D33="","",VLOOKUP($D33,'Boys Si Main Draw Prep'!$A$7:$P$134,4)) | J33: =UPPER(IF(OR(I34="a",I34="as"),E33,IF(OR(I34="b",I34="bs"),E34,)))
A34: 28 | B34: =IF($D34="","",VLOOKUP($D34,'Boys Si Main Draw Prep'!$A$7:$P$134,15)) | C34: =IF($D34="","",VLOOKUP($D34,'Boys Si Main Draw Prep'!$A$7:$P$134,16)) | E34: =UPPER(IF($D34="","",VLOOKUP($D34,'Boys Si Main Draw Prep'!$A$7:$P$134,2))) | F34: =IF($D34="","",VLOOKUP($D34,'Boys Si Main Draw Prep'!$A$7:$P$134,3)) | H34: =IF($D34="","",VLOOKUP($D34,'Boys Si Main Draw Prep'!$A$7:$P$134,4)) | L34: Umpire | N34: =UPPER(IF(OR(M34="a",M34="as"),L32,IF(OR(M34="b",M34="bs"),L36,)))
A35: 29 | B35: =IF($D35="","",VLOOKUP($D35,'Boys Si Main Draw Prep'!$A$7:$P$134,15)) | C35: =IF($D35="","",VLOOKUP($D35,'Boys Si Main Draw Prep'!$A$7:$P$134,16)) | E35: =UPPER(IF($D35="","",VLOOKUP($D35,'Boys Si Main Draw Prep'!$A$7:$P$134,2))) | F35: =IF($D35="","",VLOOKUP($D35,'Boys Si Main Draw Prep'!$A$7:$P$134,3)) | H35: =IF($D35="","",VLOOKUP($D35,'Boys Si Main Draw Prep'!$A$7:$P$134,4)) | J35: =UPPER(IF(OR(I36="a",I36="as"),E35,IF(OR(I36="b",I36="bs"),E36,)))
A36: 30 | B36: =IF($D36="","",VLOOKUP($D36,'Boys Si Main Draw Prep'!$A$7:$P$134,15)) | C36: =IF($D36="","",VLOOKUP($D36,'Boys Si Main Draw Prep'!$A$7:$P$134,16)) | E36: =UPPER(IF($D36="","",VLOOKUP($D36,'Boys Si Main Draw Prep'!$A$7:$P$134,2))) | F36: =IF($D36="","",VLOOKUP($D36,'Boys Si Main Draw Prep'!$A$7:$P$134,3)) | H36: =IF($D36="","",VLOOKUP($D36,'Boys Si Main Draw Prep'!$A$7:$P$134,4)) | L36: =UPPER(IF(OR(K36="a",K36="as"),J35,IF(OR(K36="b",K36="bs"),J37,)))
A37: 31 | B37: =IF($D37="","",VLOOKUP($D37,'Boys Si Main Draw Prep'!$A$7:$P$134,15)) | C37: =IF($D37="","",VLOOKUP($D37,'Boys Si Main Draw Prep'!$A$7:$P$134,16)) | E37: =UPPER(IF($D37="","",VLOOKUP($D37,'Boys Si Main Draw Prep'!$A$7:$P$134,2))) | F37: =IF($D37="","",VLOOKUP($D37,'Boys Si Main Draw Prep'!$A$7:$P$134,3)) | H37: =IF($D37="","",VLOOKUP($D37,'Boys Si Main Draw Prep'!$A$7:$P$134,4)) | J37: =UPPER(IF(OR(I38="a",I38="as"),E37,IF(OR(I38="b",I38="bs"),E38,)))
A38: 32 | B38: =IF($D38="","",VLOOKUP($D38,'Boys Si Main Draw Prep'!$A$7:$P$134,15)) | C38: =IF($D38="","",VLOOKUP($D38,'Boys Si Main Draw Prep'!$A$7:$P$134,16)) | E38: =UPPER(IF($D38="","",VLOOKUP($D38,'Boys Si Main Draw Prep'!$A$7:$P$134,2))) | F38: =IF($D38="","",VLOOKUP($D38,'Boys Si Main Draw Prep'!$A$7:$P$134,3)) | H38: =IF($D38="","",VLOOKUP($D38,'Boys Si Main Draw Prep'!$A$7:$P$134,4))
A39: 33 | B39: =IF($D39="","",VLOOKUP($D39,'Boys Si Main Draw Prep'!$A$7:$P$134,15)) | C39: =IF($D39="","",VLOOKUP($D39,'Boys Si Main Draw Prep'!$A$7:$P$134,16)) | E39: =UPPER(IF($D39="","",VLOOKUP($D39,'Boys Si Main Draw Prep'!$A$7:$P$134,2))) | F39: =IF($D39="","",VLOOKUP($D39,'Boys Si Main Draw Prep'!$A$7:$P$134,3)) | H39: =IF($D39="","",VLOOKUP($D39,'Boys Si Main Draw Prep'!$A$7:$P$134,4)) | J39: =UPPER(IF(OR(I40="a",I40="as"),E39,IF(OR(I40="b",I40="bs"),E40,)))
A40: 34 | B40: =IF($D40="","",VLOOKUP($D40,'Boys Si Main Draw Prep'!$A$7:$P$134,15)) | C40: =IF($D40="","",VLOOKUP($D40,'Boys Si Main Draw Prep'!$A$7:$P$134,16)) | E40: =UPPER(IF($D40="","",VLOOKUP($D40,'Boys Si Main Draw Prep'!$A$7:$P$134,2))) | F40: =IF($D40="","",VLOOKUP($D40,'Boys Si Main Draw Prep'!$A$7:$P$134,3)) | H40: =IF($D40="","",VLOOKUP($D40,'Boys Si Main Draw Prep'!$A$7:$P$134,4)) | L40: =UPPER(IF(OR(K40="a",K40="as"),J39,IF(OR(K40="b",K40="bs"),J41,)))
A41: 35 | B41: =IF($D41="","",VLOOKUP($D41,'Boys Si Main Draw Prep'!$A$7:$P$134,15)) | C41: =IF($D41="","",VLOOKUP($D41,'Boys Si Main Draw Prep'!$A$7:$P$134,16)) | E41: =UPPER(IF($D41="","",VLOOKUP($D41,'Boys Si Main Draw Prep'!$A$7:$P$134,2))) | F41: =IF($D41="","",VLOOKUP($D41,'Boys Si Main Draw Prep'!$A$7:$P$134,3)) | H41: =IF($D41="","",VLOOKUP($D41,'Boys Si Main Draw Prep'!$A$7:$P$134,4)) | J41: =UPPER(IF(OR(I42="a",I42="as"),E41,IF(OR(I42="b",I42="bs"),E42,)))
A42: 36 | B42: =IF($D42="","",VLOOKUP($D42,'Boys Si Main Draw Prep'!$A$7:$P$134,15)) | C42: =IF($D42="","",VLOOKUP($D42,'Boys Si Main Draw Prep'!$A$7:$P$134,16)) | E42: =UPPER(IF($D42="","",VLOOKUP($D42,'Boys Si Main Draw Prep'!$A$7:$P$134,2))) | F42: =IF($D42="","",VLOOKUP($D42,'Boys Si Main Draw Prep'!$A$7:$P$134,3)) | H42: =IF($D42="","",VLOOKUP($D42,'Boys Si Main Draw Prep'!$A$7:$P$134,4)) | L42: Umpire | N42: =UPPER(IF(OR(M42="a",M42="as"),L40,IF(OR(M42="b",M42="bs"),L44,)))
A43: 37 | B43: =IF($D43="","",VLOOKUP($D43,'Boys Si Main Draw Prep'!$A$7:$P$134,15)) | C43: =IF($D43="","",VLOOKUP($D43,'Boys Si Main Draw Prep'!$A$7:$P$134,16)) | E43: =UPPER(IF($D43="","",VLOOKUP($D43,'Boys Si Main Draw Prep'!$A$7:$P$134,2))) | F43: =IF($D43="","",VLOOKUP($D43,'Boys Si Main Draw Prep'!$A$7:$P$134,3)) | H43: =IF($D43="","",VLOOKUP($D43,'Boys Si Main Draw Prep'!$A$7:$P$134,4)) | J43: =UPPER(IF(OR(I44="a",I44="as"),E43,IF(OR(I44="b",I44="bs"),E44,)))
A44: 38 | B44: =IF($D44="","",VLOOKUP($D44,'Boys Si Main Draw Prep'!$A$7:$P$134,15)) | C44: =IF($D44="","",VLOOKUP($D44,'Boys Si Main Draw Prep'!$A$7:$P$134,16)) | E44: =UPPER(IF($D44="","",VLOOKUP($D44,'Boys Si Main Draw Prep'!$A$7:$P$134,2))) | F44: =IF($D44="","",VLOOKUP($D44,'Boys Si Main Draw Prep'!$A$7:$P$134,3)) | H44: =IF($D44="","",VLOOKUP($D44,'Boys Si Main Draw Prep'!$A$7:$P$134,4)) | L44: =UPPER(IF(OR(K44="a",K44="as"),J43,IF(OR(K44="b",K44="bs"),J45,)))
A45: 39 | B45: =IF($D45="","",VLOOKUP($D45,'Boys Si Main Draw Prep'!$A$7:$P$134,15)) | C45: =IF($D45="","",VLOOKUP($D45,'Boys Si Main Draw Prep'!$A$7:$P$134,16)) | E45: =UPPER(IF($D45="","",VLOOKUP($D45,'Boys Si Main Draw Prep'!$A$7:$P$134,2))) | F45: =IF($D45="","",VLOOKUP($D45,'Boys Si Main Draw Prep'!$A$7:$P$134,3)) | H45: =IF($D45="","",VLOOKUP($D45,'Boys Si Main Draw Prep'!$A$7:$P$134,4)) | J45: =UPPER(IF(OR(I46="a",I46="as"),E45,IF(OR(I46="b",I46="bs"),E46,)))
A46: 40 | B46: =IF($D46="","",VLOOKUP($D46,'Boys Si Main Draw Prep'!$A$7:$P$134,15)) | C46: =IF($D46="","",VLOOKUP($D46,'Boys Si Main Draw Prep'!$A$7:$P$134,16)) | E46: =UPPER(IF($D46="","",VLOOKUP($D46,'Boys Si Main Draw Prep'!$A$7:$P$134,2))) | F46: =IF($D46="","",VLOOKUP($D46,'Boys Si Main Draw Prep'!$A$7:$P$134,3)) | H46: =IF($D46="","",VLOOKUP($D46,'Boys Si Main Draw Prep'!$A$7:$P$134,4)) | N46: Umpire | P46: =UPPER(IF(OR(O46="a",O46="as"),N42,IF(OR(O46="b",O46="bs"),N50,)))
A47: 41 | B47: =IF($D47="","",VLOOKUP($D47,'Boys Si Main Draw Prep'!$A$7:$P$134,15)) | C47: =IF($D47="","",VLOOKUP($D47,'Boys Si Main Draw Prep'!$A$7:$P$134,16)) | E47: =UPPER(IF($D47="","",VLOOKUP($D47,'Boys Si Main Draw Prep'!$A$7:$P$134,2))) | F47: =IF($D47="","",VLOOKUP($D47,'Boys Si Main Draw Prep'!$A$7:$P$134,3)) | H47: =IF($D47="","",VLOOKUP($D47,'Boys Si Main Draw Prep'!$A$7:$P$134,4)) | J47: =UPPER(IF(OR(I48="a",I48="as"),E47,IF(OR(I48="b",I48="bs"),E48,)))
A48: 42 | B48: =IF($D48="","",VLOOKUP($D48,'Boys Si Main Draw Prep'!$A$7:$P$134,15)) | C48: =IF($D48="","",VLOOKUP($D48,'Boys Si Main Draw Prep'!$A$7:$P$134,16)) | E48: =UPPER(IF($D48="","",VLOOKUP($D48,'Boys Si Main Draw Prep'!$A$7:$P$134,2))) | F48: =IF($D48="","",VLOOKUP($D48,'Boys Si Main Draw Prep'!$A$7:$P$134,3)) | H48: =IF($D48="","",VLOOKUP($D48,'Boys Si Main Draw Prep'!$A$7:$P$134,4)) | L48: =UPPER(IF(OR(K48="a",K48="as"),J47,IF(OR(K48="b",K48="bs"),J49,)))
A49: 43 | B49: =IF($D49="","",VLOOKUP($D49,'Boys Si Main Draw Prep'!$A$7:$P$134,15)) | C49: =IF($D49="","",VLOOKUP($D49,'Boys Si Main Draw Prep'!$A$7:$P$134,16)) | E49: =UPPER(IF($D49="","",VLOOKUP($D49,'Boys Si Main Draw Prep'!$A$7:$P$134,2))) | F49: =IF($D49="","",VLOOKUP($D49,'Boys Si Main Draw Prep'!$A$7:$P$134,3)) | H49: =IF($D49="","",VLOOKUP($D49,'Boys Si Main Draw Prep'!$A$7:$P$134,4)) | J49: =UPPER(IF(OR(I50="a",I50="as"),E49,IF(OR(I50="b",I50="bs"),E50,)))
A50: 44 | B50: =IF($D50="","",VLOOKUP($D50,'Boys Si Main Draw Prep'!$A$7:$P$134,15)) | C50: =IF($D50="","",VLOOKUP($D50,'Boys Si Main Draw Prep'!$A$7:$P$134,16)) | E50: =UPPER(IF($D50="","",VLOOKUP($D50,'Boys Si Main Draw Prep'!$A$7:$P$134,2))) | F50: =IF($D50="","",VLOOKUP($D50,'Boys Si Main Draw Prep'!$A$7:$P$134,3)) | H50: =IF($D50="","",VLOOKUP($D50,'Boys Si Main Draw Prep'!$A$7:$P$134,4)) | L50: Umpire | N50: =UPPER(IF(OR(M50="a",M50="as"),L48,IF(OR(M50="b",M50="bs"),L52,)))
A51: 45 | B51: =IF($D51="","",VLOOKUP($D51,'Boys Si Main Draw Prep'!$A$7:$P$134,15)) | C51: =IF($D51="","",VLOOKUP($D51,'Boys Si Main Draw Prep'!$A$7:$P$134,16)) | E51: =UPPER(IF($D51="","",VLOOKUP($D51,'Boys Si Main Draw Prep'!$A$7:$P$134,2))) | F51: =IF($D51="","",VLOOKUP($D51,'Boys Si Main Draw Prep'!$A$7:$P$134,3)) | H51: =IF($D51="","",VLOOKUP($D51,'Boys Si Main Draw Prep'!$A$7:$P$134,4)) | J51: =UPPER(IF(OR(I52="a",I52="as"),E51,IF(OR(I52="b",I52="bs"),E52,)))
A52: 46 | B52: =IF($D52="","",VLOOKUP($D52,'Boys Si Main Draw Prep'!$A$7:$P$134,15)) | C52: =IF($D52="","",VLOOKUP($D52,'Boys Si Main Draw Prep'!$A$7:$P$134,16)) | E52: =UPPER(IF($D52="","",VLOOKUP($D52,'Boys Si Main Draw Prep'!$A$7:$P$134,2))) | F52: =IF($D52="","",VLOOKUP($D52,'Boys Si Main Draw Prep'!$A$7:$P$134,3)) | H52: =IF($D52="","",VLOOKUP($D52,'Boys Si Main Draw Prep'!$A$7:$P$134,4)) | L52: =UPPER(IF(OR(K52="a",K52="as"),J51,IF(OR(K52="b",K52="bs"),J53,)))
A53: 47 | B53: =IF($D53="","",VLOOKUP($D53,'Boys Si Main Draw Prep'!$A$7:$P$134,15)) | C53: =IF($D53="","",VLOOKUP($D53,'Boys Si Main Draw Prep'!$A$7:$P$134,16)) | E53: =UPPER(IF($D53="","",VLOOKUP($D53,'Boys Si Main Draw Prep'!$A$7:$P$134,2))) | F53: =IF($D53="","",VLOOKUP($D53,'Boys Si Main Draw Prep'!$A$7:$P$134,3)) | H53: =IF($D53="","",VLOOKUP($D53,'Boys Si Main Draw Prep'!$A$7:$P$134,4)) | J53: =UPPER(IF(OR(I54="a",I54="as"),E53,IF(OR(I54="b",I54="bs"),E54,)))
A54: 48 | B54: =IF($D54="","",VLOOKUP($D54,'Boys Si Main Draw Prep'!$A$7:$P$134,15)) | C54: =IF($D54="","",VLOOKUP($D54,'Boys Si Main Draw Prep'!$A$7:$P$134,16)) | E54: =UPPER(IF($D54="","",VLOOKUP($D54,'Boys Si Main Draw Prep'!$A$7:$P$134,2))) | F54: =IF($D54="","",VLOOKUP($D54,'Boys Si Main Draw Prep'!$A$7:$P$134,3)) | H54: =IF($D54="","",VLOOKUP($D54,'Boys Si Main Draw Prep'!$A$7:$P$134,4))
A55: 49 | B55: =IF($D55="","",VLOOKUP($D55,'Boys Si Main Draw Prep'!$A$7:$P$134,15)) | C55: =IF($D55="","",VLOOKUP($D55,'Boys Si Main Draw Prep'!$A$7:$P$134,16)) | E55: =UPPER(IF($D55="","",VLOOKUP($D55,'Boys Si Main Draw Prep'!$A$7:$P$134,2))) | F55: =IF($D55="","",VLOOKUP($D55,'Boys Si Main Draw Prep'!$A$7:$P$134,3)) | H55: =IF($D55="","",VLOOKUP($D55,'Boys Si Main Draw Prep'!$A$7:$P$134,4)) | J55: =UPPER(IF(OR(I56="a",I56="as"),E55,IF(OR(I56="b",I56="bs"),E56,)))
A56: 50 | B56: =IF($D56="","",VLOOKUP($D56,'Boys Si Main Draw Prep'!$A$7:$P$134,15)) | C56: =IF($D56="","",VLOOKUP($D56,'Boys Si Main Draw Prep'!$A$7:$P$134,16)) | E56: =UPPER(IF($D56="","",VLOOKUP($D56,'Boys Si Main Draw Prep'!$A$7:$P$134,2))) | F56: =IF($D56="","",VLOOKUP($D56,'Boys Si Main Draw Prep'!$A$7:$P$134,3)) | H56: =IF($D56="","",VLOOKUP($D56,'Boys Si Main Draw Prep'!$A$7:$P$134,4)) | L56: =UPPER(IF(OR(K56="a",K56="as"),J55,IF(OR(K56="b",K56="bs"),J57,)))
A57: 51 | B57: =IF($D57="","",VLOOKUP($D57,'Boys Si Main Draw Prep'!$A$7:$P$134,15)) | C57: =IF($D57="","",VLOOKUP($D57,'Boys Si Main Draw Prep'!$A$7:$P$134,16)) | E57: =UPPER(IF($D57="","",VLOOKUP($D57,'Boys Si Main Draw Prep'!$A$7:$P$134,2))) | F57: =IF($D57="","",VLOOKUP($D57,'Boys Si Main Draw Prep'!$A$7:$P$134,3)) | H57: =IF($D57="","",VLOOKUP($D57,'Boys Si Main Draw Prep'!$A$7:$P$134,4)) | J57: =UPPER(IF(OR(I58="a",I58="as"),E57,IF(OR(I58="b",I58="bs"),E58,)))
A58: 52 | B58: =IF($D58="","",VLOOKUP($D58,'Boys Si Main Draw Prep'!$A$7:$P$134,15)) | C58: =IF($D58="","",VLOOKUP($D58,'Boys Si Main Draw Prep'!$A$7:$P$134,16)) | E58: =UPPER(IF($D58="","",VLOOKUP($D58,'Boys Si Main Draw Prep'!$A$7:$P$134,2))) | F58: =IF($D58="","",VLOOKUP($D58,'Boys Si Main Draw Prep'!$A$7:$P$134,3)) | H58: =IF($D58="","",VLOOKUP($D58,'Boys Si Main Draw Prep'!$A$7:$P$134,4)) | L58: Umpire | N58: =UPPER(IF(OR(M58="a",M58="as"),L56,IF(OR(M58="b",M58="bs"),L60,)))
A59: 53 | B59: =IF($D59="","",VLOOKUP($D59,'Boys Si Main Draw Prep'!$A$7:$P$134,15)) | C59: =IF($D59="","",VLOOKUP($D59,'Boys Si Main Draw Prep'!$A$7:$P$134,16)) | E59: =UPPER(IF($D59="","",VLOOKUP($D59,'Boys Si Main Draw Prep'!$A$7:$P$134,2))) | F59: =IF($D59="","",VLOOKUP($D59,'Boys Si Main Draw Prep'!$A$7:$P$134,3)) | H59: =IF($D59="","",VLOOKUP($D59,'Boys Si Main Draw Prep'!$A$7:$P$134,4)) | J59: =UPPER(IF(OR(I60="a",I60="as"),E59,IF(OR(I60="b",I60="bs"),E60,)))
A60: 54 | B60: =IF($D60="","",VLOOKUP($D60,'Boys Si Main Draw Prep'!$A$7:$P$134,15)) | C60: =IF($D60="","",VLOOKUP($D60,'Boys Si Main Draw Prep'!$A$7:$P$134,16)) | E60: =UPPER(IF($D60="","",VLOOKUP($D60,'Boys Si Main Draw Prep'!$A$7:$P$134,2))) | F60: =IF($D60="","",VLOOKUP($D60,'Boys Si Main Draw Prep'!$A$7:$P$134,3)) | H60: =IF($D60="","",VLOOKUP($D60,'Boys Si Main Draw Prep'!$A$7:$P$134,4)) | L60: =UPPER(IF(OR(K60="a",K60="as"),J59,IF(OR(K60="b",K60="bs"),J61,)))
A61: 55 | B61: =IF($D61="","",VLOOKUP($D61,'Boys Si Main Draw Prep'!$A$7:$P$134,15)) | C61: =IF($D61="","",VLOOKUP($D61,'Boys Si Main Draw Prep'!$A$7:$P$134,16)) | E61: =UPPER(IF($D61="","",VLOOKUP($D61,'Boys Si Main Draw Prep'!$A$7:$P$134,2))) | F61: =IF($D61="","",VLOOKUP($D61,'Boys Si Main Draw Prep'!$A$7:$P$134,3)) | H61: =IF($D61="","",VLOOKUP($D61,'Boys Si Main Draw Prep'!$A$7:$P$134,4)) | J61: =UPPER(IF(OR(I62="a",I62="as"),E61,IF(OR(I62="b",I62="bs"),E62,)))
A62: 56 | B62: =IF($D62="","",VLOOKUP($D62,'Boys Si Main Draw Prep'!$A$7:$P$134,15)) | C62: =IF($D62="","",VLOOKUP($D62,'Boys Si Main Draw Prep'!$A$7:$P$134,16)) | E62: =UPPER(IF($D62="","",VLOOKUP($D62,'Boys Si Main Draw Prep'!$A$7:$P$134,2))) | F62: =IF($D62="","",VLOOKUP($D62,'Boys Si Main Draw Prep'!$A$7:$P$134,3)) | H62: =IF($D62="","",VLOOKUP($D62,'Boys Si Main Draw Prep'!$A$7:$P$134,4)) | N62: Umpire | P62: =UPPER(IF(OR(O62="a",O62="as"),N58,IF(OR(O62="b",O62="bs"),N66,)))
A63: 57 | B63: =IF($D63="","",VLOOKUP($D63,'Boys Si Main Draw Prep'!$A$7:$P$134,15)) | C63: =IF($D63="","",VLOOKUP($D63,'Boys Si Main Draw Prep'!$A$7:$P$134,16)) | E63: =UPPER(IF($D63="","",VLOOKUP($D63,'Boys Si Main Draw Prep'!$A$7:$P$134,2))) | F63: =IF($D63="","",VLOOKUP($D63,'Boys Si Main Draw Prep'!$A$7:$P$134,3)) | H63: =IF($D63="","",VLOOKUP($D63,'Boys Si Main Draw Prep'!$A$7:$P$134,4)) | J63: =UPPER(IF(OR(I64="a",I64="as"),E63,IF(OR(I64="b",I64="bs"),E64,)))
A64: 58 | B64: =IF($D64="","",VLOOKUP($D64,'Boys Si Main Draw Prep'!$A$7:$P$134,15)) | C64: =IF($D64="","",VLOOKUP($D64,'Boys Si Main Draw Prep'!$A$7:$P$134,16)) | E64: =UPPER(IF($D64="","",VLOOKUP($D64,'Boys Si Main Draw Prep'!$A$7:$P$134,2))) | F64: =IF($D64="","",VLOOKUP($D64,'Boys Si Main Draw Prep'!$A$7:$P$134,3)) | H64: =IF($D64="","",VLOOKUP($D64,'Boys Si Main Draw Prep'!$A$7:$P$134,4)) | L64: =UPPER(IF(OR(K64="a",K64="as"),J63,IF(OR(K64="b",K64="bs"),J65,)))
A65: 59 | B65: =IF($D65="","",VLOOKUP($D65,'Boys Si Main Draw Prep'!$A$7:$P$134,15)) | C65: =IF($D65="","",VLOOKUP($D65,'Boys Si Main Draw Prep'!$A$7:$P$134,16)) | E65: =UPPER(IF($D65="","",VLOOKUP($D65,'Boys Si Main Draw Prep'!$A$7:$P$134,2))) | F65: =IF($D65="","",VLOOKUP($D65,'Boys Si Main Draw Prep'!$A$7:$P$134,3)) | H65: =IF($D65="","",VLOOKUP($D65,'Boys Si Main Draw Prep'!$A$7:$P$134,4)) | J65: =UPPER(IF(OR(I66="a",I66="as"),E65,IF(OR(I66="b",I66="bs"),E66,)))
A66: 60 | B66: =IF($D66="","",VLOOKUP($D66,'Boys Si Main Draw Prep'!$A$7:$P$134,15)) | C66: =IF($D66="","",VLOOKUP($D66,'Boys Si Main Draw Prep'!$A$7:$P$134,16)) | E66: =UPPER(IF($D66="","",VLOOKUP($D66,'Boys Si Main Draw Prep'!$A$7:$P$134,2))) | F66: =IF($D66="","",VLOOKUP($D66,'Boys Si Main Draw Prep'!$A$7:$P$134,3)) | H66: =IF($D66="","",VLOOKUP($D66,'Boys Si Main Draw Prep'!$A$7:$P$134,4)) | L66: Umpire | N66: =UPPER(IF(OR(M66="a",M66="as"),L64,IF(OR(M66="b",M66="bs"),L68,)))
A67: 61 | B67: =IF($D67="","",VLOOKUP($D67,'Boys Si Main Draw Prep'!$A$7:$P$134,15)) | C67: =IF($D67="","",VLOOKUP($D67,'Boys Si Main Draw Prep'!$A$7:$P$134,16)) | E67: =UPPER(IF($D67="","",VLOOKUP($D67,'Boys Si Main Draw Prep'!$A$7:$P$134,2))) | F67: =IF($D67="","",VLOOKUP($D67,'Boys Si Main Draw Prep'!$A$7:$P$134,3)) | H67: =IF($D67="","",VLOOKUP($D67,'Boys Si Main Draw Prep'!$A$7:$P$134,4)) | J67: =UPPER(IF(OR(I68="a",I68="as"),E67,IF(OR(I68="b",I68="bs"),E68,)))
A68: 62 | B68: =IF($D68="","",VLOOKUP($D68,'Boys Si Main Draw Prep'!$A$7:$P$134,15)) | C68: =IF($D68="","",VLOOKUP($D68,'Boys Si Main Draw Prep'!$A$7:$P$134,16)) | E68: =UPPER(IF($D68="","",VLOOKUP($D68,'Boys Si Main Draw Prep'!$A$7:$P$134,2))) | F68: =IF($D68="","",VLOOKUP($D68,'Boys Si Main Draw Prep'!$A$7:$P$134,3)) | H68: =IF($D68="","",VLOOKUP($D68,'Boys Si Main Draw Prep'!$A$7:$P$134,4)) | L68: =UPPER(IF(OR(K68="a",K68="as"),J67,IF(OR(K68="b",K68="bs"),J69,)))
A69: 63 | B69: =IF($D69="","",VLOOKUP($D69,'Boys Si Main Draw Prep'!$A$7:$P$134,15)) | C69: =IF($D69="","",VLOOKUP($D69,'Boys Si Main Draw Prep'!$A$7:$P$134,16)) | E69: =UPPER(IF($D69="","",VLOOKUP($D69,'Boys Si Main Draw Prep'!$A$7:$P$134,2))) | F69: =IF($D69="","",VLOOKUP($D69,'Boys Si Main Draw Prep'!$A$7:$P$134,3)) | H69: =IF($D69="","",VLOOKUP($D69,'Boys Si Main Draw Prep'!$A$7:$P$134,4)) | J69: =UPPER(IF(OR(I70="a",I70="as"),E69,IF(OR(I70="b",I70="bs"),E70,)))
A70: 64 | B70: =IF($D70="","",VLOOKUP($D70,'Boys Si Main Draw Prep'!$A$7:$P$134,15)) | C70: =IF($D70="","",VLOOKUP($D70,'Boys Si Main Draw Prep'!$A$7:$P$134,16)) | E70: =UPPER(IF($D70="","",VLOOKUP($D70,'Boys Si Main Draw Prep'!$A$7:$P$134,2))) | F70: =IF($D70="","",VLOOKUP($D70,'Boys Si Main Draw Prep'!$A$7:$P$134,3)) | H70: =IF($D70="","",VLOOKUP($D70,'Boys Si Main Draw Prep'!$A$7:$P$134,4))
A72: Acc. Ranking | D72: # | E72: Seeded players | F72: # | G72: Seeded players | I72: # | J72: Lucky Losers | L72: Replacing | N72: Draw date/time:
A73: Rkg Date | D73: 1 | E73: =IF(D73>$Q$80,,UPPER(VLOOKUP(D73,'Boys Si Main Draw Prep'!$A$7:$R$134,2))) -> 0 | F73: 9 | G73: =IF(F73>$Q$80,,UPPER(VLOOKUP(F73,'Boys Si Main Draw Prep'!$A$7:$R$134,2))) -> 0 | I73: 1 | N73: Last Accepted player
A74: Top DA | D74: 2 | E74: =IF(D74>$Q$80,,UPPER(VLOOKUP(D74,'Boys Si Main Draw Prep'!$A$7:$R$134,2))) -> 0 | F74: 10 | G74: =IF(F74>$Q$80,,UPPER(VLOOKUP(F74,'Boys Si Main Draw Prep'!$A$7:$R$134,2))) -> 0 | I74: 2
A75: Last DA | D75: 3 | E75: =IF(D75>$Q$80,,UPPER(VLOOKUP(D75,'Boys Si Main Draw Prep'!$A$7:$R$134,2))) -> 0 | F75: 11 | G75: =IF(F75>$Q$80,,UPPER(VLOOKUP(F75,'Boys Si Main Draw Prep'!$A$7:$R$134,2))) -> 0 | I75: 3 | N75: Player representatives
D76: 4 | E76: =IF(D76>$Q$80,,UPPER(VLOOKUP(D76,'Boys Si Main Draw Prep'!$A$7:$R$134,2))) -> 0 | F76: 12 | G76: =IF(F76>$Q$80,,UPPER(VLOOKUP(F76,'Boys Si Main Draw Prep'!$A$7:$R$134,2))) -> 0 | I76: 4
A77: Seed ranking | D77: 5 | E77: =IF(D77>$Q$80,,UPPER(VLOOKUP(D77,'Boys Si Main Draw Prep'!$A$7:$R$134,2))) -> 0 | F77: 13 | G77: =IF(F77>$Q$80,,UPPER(VLOOKUP(F77,'Boys Si Main Draw Prep'!$A$7:$R$134,2))) -> 0 | I77: 5
A78: Rkg Date | D78: 6 | E78: =IF(D78>$Q$80,,UPPER(VLOOKUP(D78,'Boys Si Main Draw Prep'!$A$7:$R$134,2))) -> 0 | F78: 14 | G78: =IF(F78>$Q$80,,UPPER(VLOOKUP(F78,'Boys Si Main Draw Prep'!$A$7:$R$134,2))) -> 0 | I78: 6 | N78: ITF Referee's signature
A79: Top seed | D79: 7 | E79: =IF(D79>$Q$80,,UPPER(VLOOKUP(D79,'Boys Si Main Draw Prep'!$A$7:$R$134,2))) -> 0 | F79: 15 | G79: =IF(F79>$Q$80,,UPPER(VLOOKUP(F79,'Boys Si Main Draw Prep'!$A$7:$R$134,2))) -> 0 | I79: 7
A80: Last seed | D80: 8 | E80: =IF(D80>$Q$80,,UPPER(VLOOKUP(D80,'Boys Si Main Draw Prep'!$A$7:$R$134,2))) -> 0 | F80: 16 | G80: =IF(F80>$Q$80,,UPPER(VLOOKUP(F80,'Boys Si Main Draw Prep'!$A$7:$R$134,2))) -> 0 | I80: 8 | N80: =Q4 -> 0 | Q80: =MIN(16,'Boys Si Main Draw Prep'!R5) -> 0
B81: St. | C81: Rank | D81: Seed | E81: Family Name | F81: First name | H81: Nationality | J81: 2nd Round | L81: 3rd Round | N81: 4th Round | P81: Quarterfinalists
A83: 65 | B83: =IF($D83="","",VLOOKUP($D83,'Boys Si Main Draw Prep'!$A$7:$P$134,15)) | C83: =IF($D83="","",VLOOKUP($D83,'Boys Si Main Draw Prep'!$A$7:$P$134,16)) | E83: =UPPER(IF($D83="","",VLOOKUP($D83,'Boys Si Main Draw Prep'!$A$7:$P$134,2))) | F83: =IF($D83="","",VLOOKUP($D83,'Boys Si Main Draw Prep'!$A$7:$P$134,3)) | H83: =IF($D83="","",VLOOKUP($D83,'Boys Si Main Draw Prep'!$A$7:$P$134,4)) | J83: =UPPER(IF(OR(I84="a",I84="as"),E83,IF(OR(I84="b",I84="bs"),E84,))) | Q83: Page 2(3)
A84: 66 | B84: =IF($D84="","",VLOOKUP($D84,'Boys Si Main Draw Prep'!$A$7:$P$134,15)) | C84: =IF($D84="","",VLOOKUP($D84,'Boys Si Main Draw Prep'!$A$7:$P$134,16)) | E84: =UPPER(IF($D84="","",VLOOKUP($D84,'Boys Si Main Draw Prep'!$A$7:$P$134,2))) | F84: =IF($D84="","",VLOOKUP($D84,'Boys Si Main Draw Prep'!$A$7:$P$134,3)) | H84: =IF($D84="","",VLOOKUP($D84,'Boys Si Main Draw Prep'!$A$7:$P$134,4)) | L84: =UPPER(IF(OR(K84="a",K84="as"),J83,IF(OR(K84="b",K84="bs"),J85,)))
A85: 67 | B85: =IF($D85="","",VLOOKUP($D85,'Boys Si Main Draw Prep'!$A$7:$P$134,15)) | C85: =IF($D85="","",VLOOKUP($D85,'Boys Si Main Draw Prep'!$A$7:$P$134,16)) | E85: =UPPER(IF($D85="","",VLOOKUP($D85,'Boys Si Main Draw Prep'!$A$7:$P$134,2))) | F85: =IF($D85="","",VLOOKUP($D85,'Boys Si Main Draw Prep'!$A$7:$P$134,3)) | H85: =IF($D85="","",VLOOKUP($D85,'Boys Si Main Draw Prep'!$A$7:$P$134,4)) | J85: =UPPER(IF(OR(I86="a",I86="as"),E85,IF(OR(I86="b",I86="bs"),E86,)))
A86: 68 | B86: =IF($D86="","",VLOOKUP($D86,'Boys Si Main Draw Prep'!$A$7:$P$134,15)) | C86: =IF($D86="","",VLOOKUP($D86,'Boys Si Main Draw Prep'!$A$7:$P$134,16)) | E86: =UPPER(IF($D86="","",VLOOKUP($D86,'Boys Si Main Draw Prep'!$A$7:$P$134,2))) | F86: =IF($D86="","",VLOOKUP($D86,'Boys Si Main Draw Prep'!$A$7:$P$134,3)) | H86: =IF($D86="","",VLOOKUP($D86,'Boys Si Main Draw Prep'!$A$7:$P$134,4)) | L86: Umpire | N86: =UPPER(IF(OR(M86="a",M86="as"),L84,IF(OR(M86="b",M86="bs"),L88,)))
A87: 69 | B87: =IF($D87="","",VLOOKUP($D87,'Boys Si Main Draw Prep'!$A$7:$P$134,15)) | C87: =IF($D87="","",VLOOKUP($D87,'Boys Si Main Draw Prep'!$A$7:$P$134,16)) | E87: =UPPER(IF($D87="","",VLOOKUP($D87,'Boys Si Main Draw Prep'!$A$7:$P$134,2))) | F87: =IF($D87="","",VLOOKUP($D87,'Boys Si Main Draw Prep'!$A$7:$P$134,3)) | H87: =IF($D87="","",VLOOKUP($D87,'Boys Si Main Draw Prep'!$A$7:$P$134,4)) | J87: =UPPER(IF(OR(I88="a",I88="as"),E87,IF(OR(I88="b",I88="bs"),E88,)))
A88: 70 | B88: =IF($D88="","",VLOOKUP($D88,'Boys Si Main Draw Prep'!$A$7:$P$134,15)) | C88: =IF($D88="","",VLOOKUP($D88,'Boys Si Main Draw Prep'!$A$7:$P$134,16)) | E88: =UPPER(IF($D88="","",VLOOKUP($D88,'Boys Si Main Draw Prep'!$A$7:$P$134,2))) | F88: =IF($D88="","",VLOOKUP($D88,'Boys Si Main Draw Prep'!$A$7:$P$134,3)) | H88: =IF($D88="","",VLOOKUP($D88,'Boys Si Main Draw Prep'!$A$7:$P$134,4)) | L88: =UPPER(IF(OR(K88="a",K88="as"),J87,IF(OR(K88="b",K88="bs"),J89,)))
A89: 71 | B89: =IF($D89="","",VLOOKUP($D89,'Boys Si Main Draw Prep'!$A$7:$P$134,15)) | C89: =IF($D89="","",VLOOKUP($D89,'Boys Si Main Draw Prep'!$A$7:$P$134,16)) | E89: =UPPER(IF($D89="","",VLOOKUP($D89,'Boys Si Main Draw Prep'!$A$7:$P$134,2))) | F89: =IF($D89="","",VLOOKUP($D89,'Boys Si Main Draw Prep'!$A$7:$P$134,3)) | H89: =IF($D89="","",VLOOKUP($D89,'Boys Si Main Draw Prep'!$A$7:$P$134,4)) | J89: =UPPER(IF(OR(I90="a",I90="as"),E89,IF(OR(I90="b",I90="bs"),E90,)))
A90: 72 | B90: =IF($D90="","",VLOOKUP($D90,'Boys Si Main Draw Prep'!$A$7:$P$134,15)) | C90: =IF($D90="","",VLOOKUP($D90,'Boys Si Main Draw Prep'!$A$7:$P$134,16)) | E90: =UPPER(IF($D90="","",VLOOKUP($D90,'Boys Si Main Draw Prep'!$A$7:$P$134,2))) | F90: =IF($D90="","",VLOOKUP($D90,'Boys Si Main Draw Prep'!$A$7:$P$134,3)) | H90: =IF($D90="","",VLOOKUP($D90,'Boys Si Main Draw Prep'!$A$7:$P$134,4)) | N90: Umpire | P90: =UPPER(IF(OR(O90="a",O90="as"),N86,IF(OR(O90="b",O90="bs"),N94,)))
A91: 73 | B91: =IF($D91="","",VLOOKUP($D91,'Boys Si Main Draw Prep'!$A$7:$P$134,15)) | C91: =IF($D91="","",VLOOKUP($D91,'Boys Si Main Draw Prep'!$A$7:$P$134,16)) | E91: =UPPER(IF($D91="","",VLOOKUP($D91,'Boys Si Main Draw Prep'!$A$7:$P$134,2))) | F91: =IF($D91="","",VLOOKUP($D91,'Boys Si Main Draw Prep'!$A$7:$P$134,3)) | H91: =IF($D91="","",VLOOKUP($D91,'Boys Si Main Draw Prep'!$A$7:$P$134,4)) | J91: =UPPER(IF(OR(I92="a",I92="as"),E91,IF(OR(I92="b",I92="bs"),E92,)))
A92: 74 | B92: =IF($D92="","",VLOOKUP($D92,'Boys Si Main Draw Prep'!$A$7:$P$134,15)) | C92: =IF($D92="","",VLOOKUP($D92,'Boys Si Main Draw Prep'!$A$7:$P$134,16)) | E92: =UPPER(IF($D92="","",VLOOKUP($D92,'Boys Si Main Draw Prep'!$A$7:$P$134,2))) | F92: =IF($D92="","",VLOOKUP($D92,'Boys Si Main Draw Prep'!$A$7:$P$134,3)) | H92: =IF($D92="","",VLOOKUP($D92,'Boys Si Main Draw Prep'!$A$7:$P$134,4)) | L92: =UPPER(IF(OR(K92="a",K92="as"),J91,IF(OR(K92="b",K92="bs"),J93,)))
A93: 75 | B93: =IF($D93="","",VLOOKUP($D93,'Boys Si Main Draw Prep'!$A$7:$P$134,15)) | C93: =IF($D93="","",VLOOKUP($D93,'Boys Si Main Draw Prep'!$A$7:$P$134,16)) | E93: =UPPER(IF($D93="","",VLOOKUP($D93,'Boys Si Main Draw Prep'!$A$7:$P$134,2))) | F93: =IF($D93="","",VLOOKUP($D93,'Boys Si Main Draw Prep'!$A$7:$P$134,3)) | H93: =IF($D93="","",VLOOKUP($D93,'Boys Si Main Draw Prep'!$A$7:$P$134,4)) | J93: =UPPER(IF(OR(I94="a",I94="as"),E93,IF(OR(I94="b",I94="bs"),E94,)))
A94: 76 | B94: =IF($D94="","",VLOOKUP($D94,'Boys Si Main Draw Prep'!$A$7:$P$134,15)) | C94: =IF($D94="","",VLOOKUP($D94,'Boys Si Main Draw Prep'!$A$7:$P$134,16)) | E94: =UPPER(IF($D94="","",VLOOKUP($D94,'Boys Si Main Draw Prep'!$A$7:$P$134,2))) | F94: =IF($D94="","",VLOOKUP($D94,'Boys Si Main Draw Prep'!$A$7:$P$134,3)) | H94: =IF($D94="","",VLOOKUP($D94,'Boys Si Main Draw Prep'!$A$7:$P$134,4)) | L94: Umpire | N94: =UPPER(IF(OR(M94="a",M94="as"),L92,IF(OR(M94="b",M94="bs"),L96,)))
A95: 77 | B95: =IF($D95="","",VLOOKUP($D95,'Boys Si Main Draw Prep'!$A$7:$P$134,15)) | C95: =IF($D95="","",VLOOKUP($D95,'Boys Si Main Draw Prep'!$A$7:$P$134,16)) | E95: =UPPER(IF($D95="","",VLOOKUP($D95,'Boys Si Main Draw Prep'!$A$7:$P$134,2))) | F95: =IF($D95="","",VLOOKUP($D95,'Boys Si Main Draw Prep'!$A$7:$P$134,3)) | H95: =IF($D95="","",VLOOKUP($D95,'Boys Si Main Draw Prep'!$A$7:$P$134,4)) | J95: =UPPER(IF(OR(I96="a",I96="as"),E95,IF(OR(I96="b",I96="bs"),E96,)))
A96: 78 | B96: =IF($D96="","",VLOOKUP($D96,'Boys Si Main Draw Prep'!$A$7:$P$134,15)) | C96: =IF($D96="","",VLOOKUP($D96,'Boys Si Main Draw Prep'!$A$7:$P$134,16)) | E96: =UPPER(IF($D96="","",VLOOKUP($D96,'Boys Si Main Draw Prep'!$A$7:$P$134,2))) | F96: =IF($D96="","",VLOOKUP($D96,'Boys Si Main Draw Prep'!$A$7:$P$134,3)) | H96: =IF($D96="","",VLOOKUP($D96,'Boys Si Main Draw Prep'!$A$7:$P$134,4)) | L96: =UPPER(IF(OR(K96="a",K96="as"),J95,IF(OR(K96="b",K96="bs"),J97,)))
A97: 79 | B97: =IF($D97="","",VLOOKUP($D97,'Boys Si Main Draw Prep'!$A$7:$P$134,15)) | C97: =IF($D97="","",VLOOKUP($D97,'Boys Si Main Draw Prep'!$A$7:$P$134,16)) | E97: =UPPER(IF($D97="","",VLOOKUP($D97,'Boys Si Main Draw Prep'!$A$7:$P$134,2))) | F97: =IF($D97="","",VLOOKUP($D97,'Boys Si Main Draw Prep'!$A$7:$P$134,3)) | H97: =IF($D97="","",VLOOKUP($D97,'Boys Si Main Draw Prep'!$A$7:$P$134,4)) | J97: =UPPER(IF(OR(I98="a",I98="as"),E97,IF(OR(I98="b",I98="bs"),E98,)))
A98: 80 | B98: =IF($D98="","",VLOOKUP($D98,'Boys Si Main Draw Prep'!$A$7:$P$134,15)) | C98: =IF($D98="","",VLOOKUP($D98,'Boys Si Main Draw Prep'!$A$7:$P$134,16)) | E98: =UPPER(IF($D98="","",VLOOKUP($D98,'Boys Si Main Draw Prep'!$A$7:$P$134,2))) | F98: =IF($D98="","",VLOOKUP($D98,'Boys Si Main Draw Prep'!$A$7:$P$134,3)) | H98: =IF($D98="","",VLOOKUP($D98,'Boys Si Main Draw Prep'!$A$7:$P$134,4))
A99: 81 | B99: =IF($D99="","",VLOOKUP($D99,'Boys Si Main Draw Prep'!$A$7:$P$134,15)) | C99: =IF($D99="","",VLOOKUP($D99,'Boys Si Main Draw Prep'!$A$7:$P$134,16)) | E99: =UPPER(IF($D99="","",VLOOKUP($D99,'Boys Si Main Draw Prep'!$A$7:$P$134,2))) | F99: =IF($D99="","",VLOOKUP($D99,'Boys Si Main Draw Prep'!$A$7:$P$134,3)) | H99: =IF($D99="","",VLOOKUP($D99,'Boys Si Main Draw Prep'!$A$7:$P$134,4)) | J99: =UPPER(IF(OR(I100="a",I100="as"),E99,IF(OR(I100="b",I100="bs"),E100,)))
A100: 82 | B100: =IF($D100="","",VLOOKUP($D100,'Boys Si Main Draw Prep'!$A$7:$P$134,15)) | C100: =IF($D100="","",VLOOKUP($D100,'Boys Si Main Draw Prep'!$A$7:$P$134,16)) | E100: =UPPER(IF($D100="","",VLOOKUP($D100,'Boys Si Main Draw Prep'!$A$7:$P$134,2))) | F100: =IF($D100="","",VLOOKUP($D100,'Boys Si Main Draw Prep'!$A$7:$P$134,3)) | H100: =IF($D100="","",VLOOKUP($D100,'Boys Si Main Draw Prep'!$A$7:$P$134,4)) | L100: =UPPER(IF(OR(K100="a",K100="as"),J99,IF(OR(K100="b",K100="bs"),J101,)))
A101: 83 | B101: =IF($D101="","",VLOOKUP($D101,'Boys Si Main Draw Prep'!$A$7:$P$134,15)) | C101: =IF($D101="","",VLOOKUP($D101,'Boys Si Main Draw Prep'!$A$7:$P$134,16)) | E101: =UPPER(IF($D101="","",VLOOKUP($D101,'Boys Si Main Draw Prep'!$A$7:$P$134,2))) | F101: =IF($D101="","",VLOOKUP($D101,'Boys Si Main Draw Prep'!$A$7:$P$134,3)) | H101: =IF($D101="","",VLOOKUP($D101,'Boys Si Main Draw Prep'!$A$7:$P$134,4)) | J101: =UPPER(IF(OR(I102="a",I102="as"),E101,IF(OR(I102="b",I102="bs"),E102,)))
A102: 84 | B102: =IF($D102="","",VLOOKUP($D102,'Boys Si Main Draw Prep'!$A$7:$P$134,15)) | C102: =IF($D102="","",VLOOKUP($D102,'Boys Si Main Draw Prep'!$A$7:$P$134,16)) | E102: =UPPER(IF($D102="","",VLOOKUP($D102,'Boys Si Main Draw Prep'!$A$7:$P$134,2))) | F102: =IF($D102="","",VLOOKUP($D102,'Boys Si Main Draw Prep'!$A$7:$P$134,3)) | H102: =IF($D102="","",VLOOKUP($D102,'Boys Si Main Draw Prep'!$A$7:$P$134,4)) | L102: Umpire | N102: =UPPER(IF(OR(M102="a",M102="as"),L100,IF(OR(M102="b",M102="bs"),L104,)))
A103: 85 | B103: =IF($D103="","",VLOOKUP($D103,'Boys Si Main Draw Prep'!$A$7:$P$134,15)) | C103: =IF($D103="","",VLOOKUP($D103,'Boys Si Main Draw Prep'!$A$7:$P$134,16)) | E103: =UPPER(IF($D103="","",VLOOKUP($D103,'Boys Si Main Draw Prep'!$A$7:$P$134,2))) | F103: =IF($D103="","",VLOOKUP($D103,'Boys Si Main Draw Prep'!$A$7:$P$134,3)) | H103: =IF($D103="","",VLOOKUP($D103,'Boys Si Main Draw Prep'!$A$7:$P$134,4)) | J103: =UPPER(IF(OR(I104="a",I104="as"),E103,IF(OR(I104="b",I104="bs"),E104,)))
...

Sheet Girls Si MainDraw Sign-in sheet
A1: ='Week SetUp'!$A$6 -> 0 | F1: GIRLS SINGLES MAIN DRAW SIGN-IN
A2: ='Week SetUp'!$A$8 -> ITF Junior Circuit
A3: Week of | C3: City, Country | F3: Group | G3: Tourn. ID | J3: ITF Referee | K3: ITF Referee's signature
A4: ='Week SetUp'!$A$10 -> 0 | C4: ='Week SetUp'!$C$10 -> 0 | F4: ='Week SetUp'!$D$10 -> 0 | G4: ='Week SetUp'!$A$12 -> 0 | J4: ='Week SetUp'!$E$10 -> 0
C5: Day | D5: Date | F5: Time | G5: Place
A6: Sign-in deadline:
A7: Line | B7: Family name | C7: First name | D7: Nat. | E7: Date of birth Day/Mth/Yr | F7: Player signature | G7: Player hotel or Contact number | H7: On Acc.List Y/N | I7: ITF18 Rank | J7: Pro- Rank | K7: Other | P7: Accept status | Q7: Seed Pos | R7: Draw chip number
A8: 1
A9: 2
A10: 3
A11: 4
A12: 5
A13: 6
A14: 7
A15: 8
A16: 9
A17: 10
A18: 11
A19: 12
... A135: 128

Sheet Girls Si Main Draw Prep
A1: ='Week SetUp'!$A$6 -> 0 | D1: GIRLS SINGLES MAIN DRAW
A2: ='Week SetUp'!$A$8 -> ITF Junior Circuit | D2: PREPARATION LIST
A3: DO NO DELETE THIS PAGE IF YOU ARE USING LINK-IN'S TO THE DRAW | O3: ITF Referee's signature | T3: Over 18 | U3: =YEAR($A$5)-18 -> 1882
A4: Week of | C4: City, Country | D4: Group | G4: Tourn. ID | J4: ITF Referee | T4: Under 13 | U4: =YEAR($A$5)-13 -> 1887
A5: ='Week SetUp'!$A$10 -> 0 | C5: ='Week SetUp'!$C$10 -> 0 | D5: ='Week SetUp'!$D$10 -> 0 | G5: ='Week SetUp'!$A$12 -> 0 | J5: ='Week SetUp'!$E$10 -> 0 | R5: =COUNTA(R7:R134) -> 0
A6: Line | B6: Family name | C6: First name | D6: Nat. | E6: Date of Birth dd mmm yy | F6: On Accept. List Yes | G6: Signed-in Yes | H6: ITF 18 Ranking | I6: Pro- Ranking | J6: Other ordering | L6: Criterium Sort | M6: Seed Sort | O6: Accept status | P6: Seed Ranking | Q6: AccSort | R6: Seed Position
A7: 1 | M7: =IF(R7="",999,R7) -> 999 | Q7: =IF(O7="DA",1,IF(O7="WC",2,IF(O7="SE",3,IF(O7="Q",4,IF(O7="LL",5,999))))) -> 999
A8: 2 | M8: =IF(R8="",999,R8) -> 999 | Q8: =IF(O8="DA",1,IF(O8="WC",2,IF(O8="SE",3,IF(O8="Q",4,IF(O8="LL",5,999))))) -> 999
A9: 3 | M9: =IF(R9="",999,R9) -> 999 | Q9: =IF(O9="DA",1,IF(O9="WC",2,IF(O9="SE",3,IF(O9="Q",4,IF(O9="LL",5,999))))) -> 999
A10: 4 | M10: =IF(R10="",999,R10) -> 999 | Q10: =IF(O10="DA",1,IF(O10="WC",2,IF(O10="SE",3,IF(O10="Q",4,IF(O10="LL",5,999))))) -> 999
A11: 5 | M11: =IF(R11="",999,R11) -> 999 | Q11: =IF(O11="DA",1,IF(O11="WC",2,IF(O11="SE",3,IF(O11="Q",4,IF(O11="LL",5,999))))) -> 999
A12: 6 | M12: =IF(R12="",999,R12) -> 999 | Q12: =IF(O12="DA",1,IF(O12="WC",2,IF(O12="SE",3,IF(O12="Q",4,IF(O12="LL",5,999))))) -> 999
A13: 7 | M13: =IF(R13="",999,R13) -> 999 | Q13: =IF(O13="DA",1,IF(O13="WC",2,IF(O13="SE",3,IF(O13="Q",4,IF(O13="LL",5,999))))) -> 999
A14: 8 | M14: =IF(R14="",999,R14) -> 999 | Q14: =IF(O14="DA",1,IF(O14="WC",2,IF(O14="SE",3,IF(O14="Q",4,IF(O14="LL",5,999))))) -> 999
A15: 9 | M15: =IF(R15="",999,R15) -> 999 | Q15: =IF(O15="DA",1,IF(O15="WC",2,IF(O15="SE",3,IF(O15="Q",4,IF(O15="LL",5,999))))) -> 999
A16: 10 | M16: =IF(R16="",999,R16) -> 999 | Q16: =IF(O16="DA",1,IF(O16="WC",2,IF(O16="SE",3,IF(O16="Q",4,IF(O16="LL",5,999))))) -> 999
A17: 11 | M17: =IF(R17="",999,R17) -> 999 | Q17: =IF(O17="DA",1,IF(O17="WC",2,IF(O17="SE",3,IF(O17="Q",4,IF(O17="LL",5,999))))) -> 999
A18: 12 | M18: =IF(R18="",999,R18) -> 999 | Q18: =IF(O18="DA",1,IF(O18="WC",2,IF(O18="SE",3,IF(O18="Q",4,IF(O18="LL",5,999))))) -> 999
... A134: 128 | M134: =IF(R134="",999,R134) -> 999 | Q134: =IF(O134="DA",1,IF(O134="WC",2,IF(O134="SE",3,IF(O134="Q",4,IF(O134="LL",5,999))))) -> 999

Sheet Girls Si Main 16
A1: ='Week SetUp'!$A$6 -> 0 | J1: GIRLS SINGLES
A2: ='Week SetUp'!$A$8 -> ITF Junior Circuit | J2: MAIN DRAW (16)
A3: Week of | F3: City, Country | J3: Group | L3: Tourn. ID | Q3: ITF Referee
A4: ='Week SetUp'!$A$10 -> 0 | F4: ='Week SetUp'!$C$10 -> 0 | J4: ='Week SetUp'!$D$10 -> 0 | L4: ='Week SetUp'!$A$12 -> 0 | Q4: ='Week SetUp'!$E$10 -> 0
B5: St. | C5: Rank | D5: Seed | E5: Family Name | F5: First name | H5: Nationality | J5: 2nd Round | L5: Semifinals | N5: Final | P5: Winner
A7: 1 | B7: =IF($D7="","",VLOOKUP($D7,'Girls Si Main Draw Prep'!$A$7:$P$22,15)) | C7: =IF($D7="","",VLOOKUP($D7,'Girls Si Main Draw Prep'!$A$7:$P$22,16)) | E7: =UPPER(IF($D7="","",VLOOKUP($D7,'Girls Si Main Draw Prep'!$A$7:$P$22,2))) | F7: =IF($D7="","",VLOOKUP($D7,'Girls Si Main Draw Prep'!$A$7:$P$22,3)) | H7: =IF($D7="","",VLOOKUP($D7,'Girls Si Main Draw Prep'!$A$7:$P$22,4)) | T7: =#REF! -> #REF!
H8: Umpire | J8: =UPPER(IF(OR(I8="a",I8="as"),E7,IF(OR(I8="b",I8="bs"),E9,))) | T8: =#REF! -> #REF!
A9: 2 | B9: =IF($D9="","",VLOOKUP($D9,'Girls Si Main Draw Prep'!$A$7:$P$22,15)) | C9: =IF($D9="","",VLOOKUP($D9,'Girls Si Main Draw Prep'!$A$7:$P$22,16)) | E9: =UPPER(IF($D9="","",VLOOKUP($D9,'Girls Si Main Draw Prep'!$A$7:$P$22,2))) | F9: =IF($D9="","",VLOOKUP($D9,'Girls Si Main Draw Prep'!$A$7:$P$22,3)) | H9: =IF($D9="","",VLOOKUP($D9,'Girls Si Main Draw Prep'!$A$7:$P$22,4)) | T9: =#REF! -> #REF!
J10: Umpire | L10: =UPPER(IF(OR(K10="a",K10="as"),J8,IF(OR(K10="b",K10="bs"),J12,))) | T10: =#REF! -> #REF!
A11: 3 | B11: =IF($D11="","",VLOOKUP($D11,'Girls Si Main Draw Prep'!$A$7:$P$22,15)) -> 0 | C11: =IF($D11="","",VLOOKUP($D11,'Girls Si Main Draw Prep'!$A$7:$P$22,16)) -> 0 | D11: 24 | E11: =UPPER(IF($D11="","",VLOOKUP($D11,'Girls Si Main Draw Prep'!$A$7:$P$22,2))) | F11: =IF($D11="","",VLOOKUP($D11,'Girls Si Main Draw Prep'!$A$7:$P$22,3)) -> 0 | H11: =IF($D11="","",VLOOKUP($D11,'Girls Si Main Draw Prep'!$A$7:$P$22,4)) -> 0 | T11: =#REF! -> #REF!
H12: Umpire | J12: =UPPER(IF(OR(I12="a",I12="as"),E11,IF(OR(I12="b",I12="bs"),E13,))) | T12: =#REF! -> #REF!
A13: 4 | B13: =IF($D13="","",VLOOKUP($D13,'Girls Si Main Draw Prep'!$A$7:$P$22,15)) | C13: =IF($D13="","",VLOOKUP($D13,'Girls Si Main Draw Prep'!$A$7:$P$22,16)) | E13: =UPPER(IF($D13="","",VLOOKUP($D13,'Girls Si Main Draw Prep'!$A$7:$P$22,2))) | F13: =IF($D13="","",VLOOKUP($D13,'Girls Si Main Draw Prep'!$A$7:$P$22,3)) | H13: =IF($D13="","",VLOOKUP($D13,'Girls Si Main Draw Prep'!$A$7:$P$22,4)) | T13: =#REF! -> #REF!
L14: Umpire | N14: =UPPER(IF(OR(M14="a",M14="as"),L10,IF(OR(M14="b",M14="bs"),L18,))) | T14: =#REF! -> #REF!
A15: 5 | B15: =IF($D15="","",VLOOKUP($D15,'Girls Si Main Draw Prep'!$A$7:$P$22,15)) | C15: =IF($D15="","",VLOOKUP($D15,'Girls Si Main Draw Prep'!$A$7:$P$22,16)) | E15: =UPPER(IF($D15="","",VLOOKUP($D15,'Girls Si Main Draw Prep'!$A$7:$P$22,2))) | F15: =IF($D15="","",VLOOKUP($D15,'Girls Si Main Draw Prep'!$A$7:$P$22,3)) | H15: =IF($D15="","",VLOOKUP($D15,'Girls Si Main Draw Prep'!$A$7:$P$22,4)) | T15: =#REF! -> #REF!
H16: Umpire | J16: =UPPER(IF(OR(I16="a",I16="as"),E15,IF(OR(I16="b",I16="bs"),E17,))) | T16: =#REF! -> #REF!
A17: 6 | B17: =IF($D17="","",VLOOKUP($D17,'Girls Si Main Draw Prep'!$A$7:$P$22,15)) | C17: =IF($D17="","",VLOOKUP($D17,'Girls Si Main Draw Prep'!$A$7:$P$22,16)) | E17: =UPPER(IF($D17="","",VLOOKUP($D17,'Girls Si Main Draw Prep'!$A$7:$P$22,2))) | F17: =IF($D17="","",VLOOKUP($D17,'Girls Si Main Draw Prep'!$A$7:$P$22,3)) | H17: =IF($D17="","",VLOOKUP($D17,'Girls Si Main Draw Prep'!$A$7:$P$22,4))
J18: Umpire | L18: =UPPER(IF(OR(K18="a",K18="as"),J16,IF(OR(K18="b",K18="bs"),J20,)))
A19: 7 | B19: =IF($D19="","",VLOOKUP($D19,'Girls Si Main Draw Prep'!$A$7:$P$22,15)) | C19: =IF($D19="","",VLOOKUP($D19,'Girls Si Main Draw Prep'!$A$7:$P$22,16)) | E19: =UPPER(IF($D19="","",VLOOKUP($D19,'Girls Si Main Draw Prep'!$A$7:$P$22,2))) | F19: =IF($D19="","",VLOOKUP($D19,'Girls Si Main Draw Prep'!$A$7:$P$22,3)) | H19: =IF($D19="","",VLOOKUP($D19,'Girls Si Main Draw Prep'!$A$7:$P$22,4))
H20: Umpire | J20: =UPPER(IF(OR(I20="a",I20="as"),E19,IF(OR(I20="b",I20="bs"),E21,)))
A21: 8 | B21: =IF($D21="","",VLOOKUP($D21,'Girls Si Main Draw Prep'!$A$7:$P$22,15)) | C21: =IF($D21="","",VLOOKUP($D21,'Girls Si Main Draw Prep'!$A$7:$P$22,16)) | E21: =UPPER(IF($D21="","",VLOOKUP($D21,'Girls Si Main Draw Prep'!$A$7:$P$22,2))) | F21: =IF($D21="","",VLOOKUP($D21,'Girls Si Main Draw Prep'!$A$7:$P$22,3)) | H21: =IF($D21="","",VLOOKUP($D21,'Girls Si Main Draw Prep'!$A$7:$P$22,4))
N22: Umpire | P22: =UPPER(IF(OR(O22="a",O22="as"),N14,IF(OR(O22="b",O22="bs"),N30,)))
A23: 9 | B23: =IF($D23="","",VLOOKUP($D23,'Girls Si Main Draw Prep'!$A$7:$P$22,15)) | C23: =IF($D23="","",VLOOKUP($D23,'Girls Si Main Draw Prep'!$A$7:$P$22,16)) | E23: =UPPER(IF($D23="","",VLOOKUP($D23,'Girls Si Main Draw Prep'!$A$7:$P$22,2))) | F23: =IF($D23="","",VLOOKUP($D23,'Girls Si Main Draw Prep'!$A$7:$P$22,3)) | H23: =IF($D23="","",VLOOKUP($D23,'Girls Si Main Draw Prep'!$A$7:$P$22,4))
H24: Umpire | J24: =UPPER(IF(OR(I24="a",I24="as"),E23,IF(OR(I24="b",I24="bs"),E25,)))
A25: 10 | B25: =IF($D25="","",VLOOKUP($D25,'Girls Si Main Draw Prep'!$A$7:$P$22,15)) | C25: =IF($D25="","",VLOOKUP($D25,'Girls Si Main Draw Prep'!$A$7:$P$22,16)) | E25: =UPPER(IF($D25="","",VLOOKUP($D25,'Girls Si Main Draw Prep'!$A$7:$P$22,2))) | F25: =IF($D25="","",VLOOKUP($D25,'Girls Si Main Draw Prep'!$A$7:$P$22,3)) | H25: =IF($D25="","",VLOOKUP($D25,'Girls Si Main Draw Prep'!$A$7:$P$22,4))
J26: Umpire | L26: =UPPER(IF(OR(K26="a",K26="as"),J24,IF(OR(K26="b",K26="bs"),J28,)))
A27: 11 | B27: =IF($D27="","",VLOOKUP($D27,'Girls Si Main Draw Prep'!$A$7:$P$22,15)) | C27: =IF($D27="","",VLOOKUP($D27,'Girls Si Main Draw Prep'!$A$7:$P$22,16)) | E27: =UPPER(IF($D27="","",VLOOKUP($D27,'Girls Si Main Draw Prep'!$A$7:$P$22,2))) | F27: =IF($D27="","",VLOOKUP($D27,'Girls Si Main Draw Prep'!$A$7:$P$22,3)) | H27: =IF($D27="","",VLOOKUP($D27,'Girls Si Main Draw Prep'!$A$7:$P$22,4))
H28: Umpire | J28: =UPPER(IF(OR(I28="a",I28="as"),E27,IF(OR(I28="b",I28="bs"),E29,)))
A29: 12 | B29: =IF($D29="","",VLOOKUP($D29,'Girls Si Main Draw Prep'!$A$7:$P$22,15)) | C29: =IF($D29="","",VLOOKUP($D29,'Girls Si Main Draw Prep'!$A$7:$P$22,16)) | E29: =UPPER(IF($D29="","",VLOOKUP($D29,'Girls Si Main Draw Prep'!$A$7:$P$22,2))) | F29: =IF($D29="","",VLOOKUP($D29,'Girls Si Main Draw Prep'!$A$7:$P$22,3)) | H29: =IF($D29="","",VLOOKUP($D29,'Girls Si Main Draw Prep'!$A$7:$P$22,4))
L30: Umpire | N30: =UPPER(IF(OR(M30="a",M30="as"),L26,IF(OR(M30="b",M30="bs"),L34,)))
A31: 13 | B31: =IF($D31="","",VLOOKUP($D31,'Girls Si Main Draw Prep'!$A$7:$P$22,15)) | C31: =IF($D31="","",VLOOKUP($D31,'Girls Si Main Draw Prep'!$A$7:$P$22,16)) | E31: =UPPER(IF($D31="","",VLOOKUP($D31,'Girls Si Main Draw Prep'!$A$7:$P$22,2))) | F31: =IF($D31="","",VLOOKUP($D31,'Girls Si Main Draw Prep'!$A$7:$P$22,3)) | H31: =IF($D31="","",VLOOKUP($D31,'Girls Si Main Draw Prep'!$A$7:$P$22,4))
H32: Umpire | J32: =UPPER(IF(OR(I32="a",I32="as"),E31,IF(OR(I32="b",I32="bs"),E33,)))
A33: 14 | B33: =IF($D33="","",VLOOKUP($D33,'Girls Si Main Draw Prep'!$A$7:$P$22,15)) | C33: =IF($D33="","",VLOOKUP($D33,'Girls Si Main Draw Prep'!$A$7:$P$22,16)) | E33: =UPPER(IF($D33="","",VLOOKUP($D33,'Girls Si Main Draw Prep'!$A$7:$P$22,2))) | F33: =IF($D33="","",VLOOKUP($D33,'Girls Si Main Draw Prep'!$A$7:$P$22,3)) | H33: =IF($D33="","",VLOOKUP($D33,'Girls Si Main Draw Prep'!$A$7:$P$22,4))
J34: Umpire | L34: =UPPER(IF(OR(K34="a",K34="as"),J32,IF(OR(K34="b",K34="bs"),J36,)))
A35: 15 | B35: =IF($D35="","",VLOOKUP($D35,'Girls Si Main Draw Prep'!$A$7:$P$22,15)) | C35: =IF($D35="","",VLOOKUP($D35,'Girls Si Main Draw Prep'!$A$7:$P$22,16)) | E35: =UPPER(IF($D35="","",VLOOKUP($D35,'Girls Si Main Draw Prep'!$A$7:$P$22,2))) | F35: =IF($D35="","",VLOOKUP($D35,'Girls Si Main Draw Prep'!$A$7:$P$22,3)) | H35: =IF($D35="","",VLOOKUP($D35,'Girls Si Main Draw Prep'!$A$7:$P$22,4))
H36: Umpire | J36: =UPPER(IF(OR(I36="a",I36="as"),E35,IF(OR(I36="b",I36="bs"),E37,)))
A37: 16 | B37: =IF($D37="","",VLOOKUP($D37,'Girls Si Main Draw Prep'!$A$7:$P$22,15)) | C37: =IF($D37="","",VLOOKUP($D37,'Girls Si Main Draw Prep'!$A$7:$P$22,16)) | E37: =UPPER(IF($D37="","",VLOOKUP($D37,'Girls Si Main Draw Prep'!$A$7:$P$22,2))) | F37: =IF($D37="","",VLOOKUP($D37,'Girls Si Main Draw Prep'!$A$7:$P$22,3)) | H37: =IF($D37="","",VLOOKUP($D37,'Girls Si Main Draw Prep'!$A$7:$P$22,4))
A71: Acc. Ranking | D71: # | E71: Seeded players | I71: # | J71: Lucky Losers | L71: Replacing | N71: Draw date/time:
A72: Rkg Date | D72: 1 | E72: =IF(D72>$Q$79,,UPPER(VLOOKUP(D72,'Girls Si Main Draw Prep'!$A$7:$R$134,2))) -> 0 | I72: 1 | N72: Last Accepted player
A73: Top DA | D73: 2 | E73: =IF(D73>$Q$79,,UPPER(VLOOKUP(D73,'Girls Si Main Draw Prep'!$A$7:$R$134,2))) -> 0 | I73: 2
A74: Last DA | D74: 3 | E74: =IF(D74>$Q$79,,UPPER(VLOOKUP(D74,'Girls Si Main Draw Prep'!$A$7:$R$134,2))) -> 0 | I74: 3 | N74: Player representatives
D75: 4 | E75: =IF(D75>$Q$79,,UPPER(VLOOKUP(D75,'Girls Si Main Draw Prep'!$A$7:$R$134,2))) -> 0 | I75: 4
A76: Seed ranking | I76: 5
A77: Rkg Date | I77: 6 | N77: ITF Referee's signature
A78: Top seed | I78: 7
A79: Last seed | I79: 8 | N79: =Q4 -> 0 | Q79: =MIN(4,'Girls Si Main Draw Prep'!R5) -> 0

Sheet Girls Si Main 24&32
A1: ='Week SetUp'!$A$6 -> 0 | J1: GIRLS SINGLES
A2: ='Week SetUp'!$A$8 -> ITF Junior Circuit | J2: MAIN DRAW (24&32)
A3: Week of | F3: City, Country | J3: Group | L3: Tourn. ID | Q3: ITF Referee
A4: ='Week SetUp'!$A$10 -> 0 | F4: ='Week SetUp'!$C$10 -> 0 | J4: ='Week SetUp'!$D$10 -> 0 | L4: ='Week SetUp'!$A$12 -> 0 | Q4: ='Week SetUp'!$E$10 -> 0
B5: St. | C5: Rank | D5: Seed | E5: Family Name | F5: First name | H5: Nationality | J5: 2nd Round | L5: Quarterfinals | N5: Semifinals | P5: Final
A7: 1 | B7: =IF($D7="","",VLOOKUP($D7,'Girls Si Main Draw Prep'!$A$7:$P$38,15)) | C7: =IF($D7="","",VLOOKUP($D7,'Girls Si Main Draw Prep'!$A$7:$P$38,16)) | E7: =UPPER(IF($D7="","",VLOOKUP($D7,'Girls Si Main Draw Prep'!$A$7:$P$38,2))) | F7: =IF($D7="","",VLOOKUP($D7,'Girls Si Main Draw Prep'!$A$7:$P$38,3)) | H7: =IF($D7="","",VLOOKUP($D7,'Girls Si Main Draw Prep'!$A$7:$P$38,4)) | T7: =#REF! -> #REF!
H8: Umpire | J8: =UPPER(IF(OR(I8="a",I8="as"),E7,IF(OR(I8="b",I8="bs"),E9,))) | T8: =#REF! -> #REF!
A9: 2 | B9: =IF($D9="","",VLOOKUP($D9,'Girls Si Main Draw Prep'!$A$7:$P$38,15)) | C9: =IF($D9="","",VLOOKUP($D9,'Girls Si Main Draw Prep'!$A$7:$P$38,16)) | E9: =UPPER(IF($D9="","",VLOOKUP($D9,'Girls Si Main Draw Prep'!$A$7:$P$38,2))) | F9: =IF($D9="","",VLOOKUP($D9,'Girls Si Main Draw Prep'!$A$7:$P$38,3)) | H9: =IF($D9="","",VLOOKUP($D9,'Girls Si Main Draw Prep'!$A$7:$P$38,4)) | T9: =#REF! -> #REF!
J10: Umpire | L10: =UPPER(IF(OR(K10="a",K10="as"),J8,IF(OR(K10="b",K10="bs"),J12,))) | T10: =#REF! -> #REF!
A11: 3 | B11: =IF($D11="","",VLOOKUP($D11,'Girls Si Main Draw Prep'!$A$7:$P$38,15)) | C11: =IF($D11="","",VLOOKUP($D11,'Girls Si Main Draw Prep'!$A$7:$P$38,16)) | E11: =UPPER(IF($D11="","",VLOOKUP($D11,'Girls Si Main Draw Prep'!$A$7:$P$38,2))) | F11: =IF($D11="","",VLOOKUP($D11,'Girls Si Main Draw Prep'!$A$7:$P$38,3)) | H11: =IF($D11="","",VLOOKUP($D11,'Girls Si Main Draw Prep'!$A$7:$P$38,4)) | T11: =#REF! -> #REF!
H12: Umpire | J12: =UPPER(IF(OR(I12="a",I12="as"),E11,IF(OR(I12="b",I12="bs"),E13,))) | T12: =#REF! -> #REF!
A13: 4 | B13: =IF($D13="","",VLOOKUP($D13,'Girls Si Main Draw Prep'!$A$7:$P$38,15)) | C13: =IF($D13="","",VLOOKUP($D13,'Girls Si Main Draw Prep'!$A$7:$P$38,16)) | E13: =UPPER(IF($D13="","",VLOOKUP($D13,'Girls Si Main Draw Prep'!$A$7:$P$38,2))) | F13: =IF($D13="","",VLOOKUP($D13,'Girls Si Main Draw Prep'!$A$7:$P$38,3)) | H13: =IF($D13="","",VLOOKUP($D13,'Girls Si Main Draw Prep'!$A$7:$P$38,4)) | T13: =#REF! -> #REF!
L14: Umpire | N14: =UPPER(IF(OR(M14="a",M14="as"),L10,IF(OR(M14="b",M14="bs"),L18,))) | T14: =#REF! -> #REF!
A15: 5 | B15: =IF($D15="","",VLOOKUP($D15,'Girls Si Main Draw Prep'!$A$7:$P$38,15)) | C15: =IF($D15="","",VLOOKUP($D15,'Girls Si Main Draw Prep'!$A$7:$P$38,16)) | E15: =UPPER(IF($D15="","",VLOOKUP($D15,'Girls Si Main Draw Prep'!$A$7:$P$38,2))) | F15: =IF($D15="","",VLOOKUP($D15,'Girls Si Main Draw Prep'!$A$7:$P$38,3)) | H15: =IF($D15="","",VLOOKUP($D15,'Girls Si Main Draw Prep'!$A$7:$P$38,4)) | T15: =#REF! -> #REF!
H16: Umpire | J16: =UPPER(IF(OR(I16="a",I16="as"),E15,IF(OR(I16="b",I16="bs"),E17,))) | T16: =#REF! -> #REF!
A17: 6 | B17: =IF($D17="","",VLOOKUP($D17,'Girls Si Main Draw Prep'!$A$7:$P$38,15)) | C17: =IF($D17="","",VLOOKUP($D17,'Girls Si Main Draw Prep'!$A$7:$P$38,16)) | E17: =UPPER(IF($D17="","",VLOOKUP($D17,'Girls Si Main Draw Prep'!$A$7:$P$38,2))) | F17: =IF($D17="","",VLOOKUP($D17,'Girls Si Main Draw Prep'!$A$7:$P$38,3)) | H17: =IF($D17="","",VLOOKUP($D17,'Girls Si Main Draw Prep'!$A$7:$P$38,4))
J18: Umpire | L18: =UPPER(IF(OR(K18="a",K18="as"),J16,IF(OR(K18="b",K18="bs"),J20,)))
A19: 7 | B19: =IF($D19="","",VLOOKUP($D19,'Girls Si Main Draw Prep'!$A$7:$P$38,15)) | C19: =IF($D19="","",VLOOKUP($D19,'Girls Si Main Draw Prep'!$A$7:$P$38,16)) | E19: =UPPER(IF($D19="","",VLOOKUP($D19,'Girls Si Main Draw Prep'!$A$7:$P$38,2))) | F19: =IF($D19="","",VLOOKUP($D19,'Girls Si Main Draw Prep'!$A$7:$P$38,3)) | H19: =IF($D19="","",VLOOKUP($D19,'Girls Si Main Draw Prep'!$A$7:$P$38,4))
H20: Umpire | J20: =UPPER(IF(OR(I20="a",I20="as"),E19,IF(OR(I20="b",I20="bs"),E21,)))
A21: 8 | B21: =IF($D21="","",VLOOKUP($D21,'Girls Si Main Draw Prep'!$A$7:$P$38,15)) | C21: =IF($D21="","",VLOOKUP($D21,'Girls Si Main Draw Prep'!$A$7:$P$38,16)) | E21: =UPPER(IF($D21="","",VLOOKUP($D21,'Girls Si Main Draw Prep'!$A$7:$P$38,2))) | F21: =IF($D21="","",VLOOKUP($D21,'Girls Si Main Draw Prep'!$A$7:$P$38,3)) | H21: =IF($D21="","",VLOOKUP($D21,'Girls Si Main Draw Prep'!$A$7:$P$38,4))
N22: Umpire | P22: =UPPER(IF(OR(O22="a",O22="as"),N14,IF(OR(O22="b",O22="bs"),N30,)))
A23: 9 | B23: =IF($D23="","",VLOOKUP($D23,'Girls Si Main Draw Prep'!$A$7:$P$38,15)) | C23: =IF($D23="","",VLOOKUP($D23,'Girls Si Main Draw Prep'!$A$7:$P$38,16)) | E23: =UPPER(IF($D23="","",VLOOKUP($D23,'Girls Si Main Draw Prep'!$A$7:$P$38,2))) | F23: =IF($D23="","",VLOOKUP($D23,'Girls Si Main Draw Prep'!$A$7:$P$38,3)) | H23: =IF($D23="","",VLOOKUP($D23,'Girls Si Main Draw Prep'!$A$7:$P$38,4))
H24: Umpire | J24: =UPPER(IF(OR(I24="a",I24="as"),E23,IF(OR(I24="b",I24="bs"),E25,)))
A25: 10 | B25: =IF($D25="","",VLOOKUP($D25,'Girls Si Main Draw Prep'!$A$7:$P$38,15)) | C25: =IF($D25="","",VLOOKUP($D25,'Girls Si Main Draw Prep'!$A$7:$P$38,16)) | E25: =UPPER(IF($D25="","",VLOOKUP($D25,'Girls Si Main Draw Prep'!$A$7:$P$38,2))) | F25: =IF($D25="","",VLOOKUP($D25,'Girls Si Main Draw Prep'!$A$7:$P$38,3)) | H25: =IF($D25="","",VLOOKUP($D25,'Girls Si Main Draw Prep'!$A$7:$P$38,4))
J26: Umpire | L26: =UPPER(IF(OR(K26="a",K26="as"),J24,IF(OR(K26="b",K26="bs"),J28,)))
A27: 11 | B27: =IF($D27="","",VLOOKUP($D27,'Girls Si Main Draw Prep'!$A$7:$P$38,15)) | C27: =IF($D27="","",VLOOKUP($D27,'Girls Si Main Draw Prep'!$A$7:$P$38,16)) | E27: =UPPER(IF($D27="","",VLOOKUP($D27,'Girls Si Main Draw Prep'!$A$7:$P$38,2))) | F27: =IF($D27="","",VLOOKUP($D27,'Girls Si Main Draw Prep'!$A$7:$P$38,3)) | H27: =IF($D27="","",VLOOKUP($D27,'Girls Si Main Draw Prep'!$A$7:$P$38,4))
H28: Umpire | J28: =UPPER(IF(OR(I28="a",I28="as"),E27,IF(OR(I28="b",I28="bs"),E29,)))
A29: 12 | B29: =IF($D29="","",VLOOKUP($D29,'Girls Si Main Draw Prep'!$A$7:$P$38,15)) | C29: =IF($D29="","",VLOOKUP($D29,'Girls Si Main Draw Prep'!$A$7:$P$38,16)) | E29: =UPPER(IF($D29="","",VLOOKUP($D29,'Girls Si Main Draw Prep'!$A$7:$P$38,2))) | F29: =IF($D29="","",VLOOKUP($D29,'Girls Si Main Draw Prep'!$A$7:$P$38,3)) | H29: =IF($D29="","",VLOOKUP($D29,'Girls Si Main Draw Prep'!$A$7:$P$38,4))
L30: Umpire | N30: =UPPER(IF(OR(M30="a",M30="as"),L26,IF(OR(M30="b",M30="bs"),L34,)))
A31: 13 | B31: =IF($D31="","",VLOOKUP($D31,'Girls Si Main Draw Prep'!$A$7:$P$38,15)) | C31: =IF($D31="","",VLOOKUP($D31,'Girls Si Main Draw Prep'!$A$7:$P$38,16)) | E31: =UPPER(IF($D31="","",VLOOKUP($D31,'Girls Si Main Draw Prep'!$A$7:$P$38,2))) | F31: =IF($D31="","",VLOOKUP($D31,'Girls Si Main Draw Prep'!$A$7:$P$38,3)) | H31: =IF($D31="","",VLOOKUP($D31,'Girls Si Main Draw Prep'!$A$7:$P$38,4))
H32: Umpire | J32: =UPPER(IF(OR(I32="a",I32="as"),E31,IF(OR(I32="b",I32="bs"),E33,)))
A33: 14 | B33: =IF($D33="","",VLOOKUP($D33,'Girls Si Main Draw Prep'!$A$7:$P$38,15)) | C33: =IF($D33="","",VLOOKUP($D33,'Girls Si Main Draw Prep'!$A$7:$P$38,16)) | E33: =UPPER(IF($D33="","",VLOOKUP($D33,'Girls Si Main Draw Prep'!$A$7:$P$38,2))) | F33: =IF($D33="","",VLOOKUP($D33,'Girls Si Main Draw Prep'!$A$7:$P$38,3)) | H33: =IF($D33="","",VLOOKUP($D33,'Girls Si Main Draw Prep'!$A$7:$P$38,4))
J34: Umpire | L34: =UPPER(IF(OR(K34="a",K34="as"),J32,IF(OR(K34="b",K34="bs"),J36,)))
A35: 15 | B35: =IF($D35="","",VLOOKUP($D35,'Girls Si Main Draw Prep'!$A$7:$P$38,15)) | C35: =IF($D35="","",VLOOKUP($D35,'Girls Si Main Draw Prep'!$A$7:$P$38,16)) | E35: =UPPER(IF($D35="","",VLOOKUP($D35,'Girls Si Main Draw Prep'!$A$7:$P$38,2))) | F35: =IF($D35="","",VLOOKUP($D35,'Girls Si Main Draw Prep'!$A$7:$P$38,3)) | H35: =IF($D35="","",VLOOKUP($D35,'Girls Si Main Draw Prep'!$A$7:$P$38,4))
H36: Umpire | J36: =UPPER(IF(OR(I36="a",I36="as"),E35,IF(OR(I36="b",I36="bs"),E37,)))
A37: 16 | B37: =IF($D37="","",VLOOKUP($D37,'Girls Si Main Draw Prep'!$A$7:$P$38,15)) | C37: =IF($D37="","",VLOOKUP($D37,'Girls Si Main Draw Prep'!$A$7:$P$38,16)) | E37: =UPPER(IF($D37="","",VLOOKUP($D37,'Girls Si Main Draw Prep'!$A$7:$P$38,2))) | F37: =IF($D37="","",VLOOKUP($D37,'Girls Si Main Draw Prep'!$A$7:$P$38,3)) | H37: =IF($D37="","",VLOOKUP($D37,'Girls Si Main Draw Prep'!$A$7:$P$38,4))
N38: Winner: | P38: =UPPER(IF(OR(O39="a",O39="as"),P22,IF(OR(O39="b",O39="bs"),P54,)))
A39: 17 | B39: =IF($D39="","",VLOOKUP($D39,'Girls Si Main Draw Prep'!$A$7:$P$38,15)) | C39: =IF($D39="","",VLOOKUP($D39,'Girls Si Main Draw Prep'!$A$7:$P$38,16)) | E39: =UPPER(IF($D39="","",VLOOKUP($D39,'Girls Si Main Draw Prep'!$A$7:$P$38,2))) | F39: =IF($D39="","",VLOOKUP($D39,'Girls Si Main Draw Prep'!$A$7:$P$38,3)) | H39: =IF($D39="","",VLOOKUP($D39,'Girls Si Main Draw Prep'!$A$7:$P$38,4)) | N39: Umpire
H40: Umpire | J40: =UPPER(IF(OR(I40="a",I40="as"),E39,IF(OR(I40="b",I40="bs"),E41,)))
A41: 18 | B41: =IF($D41="","",VLOOKUP($D41,'Girls Si Main Draw Prep'!$A$7:$P$38,15)) | C41: =IF($D41="","",VLOOKUP($D41,'Girls Si Main Draw Prep'!$A$7:$P$38,16)) | E41: =UPPER(IF($D41="","",VLOOKUP($D41,'Girls Si Main Draw Prep'!$A$7:$P$38,2))) | F41: =IF($D41="","",VLOOKUP($D41,'Girls Si Main Draw Prep'!$A$7:$P$38,3)) | H41: =IF($D41="","",VLOOKUP($D41,'Girls Si Main Draw Prep'!$A$7:$P$38,4))
J42: Umpire | L42: =UPPER(IF(OR(K42="a",K42="as"),J40,IF(OR(K42="b",K42="bs"),J44,)))
A43: 19 | B43: =IF($D43="","",VLOOKUP($D43,'Girls Si Main Draw Prep'!$A$7:$P$38,15)) | C43: =IF($D43="","",VLOOKUP($D43,'Girls Si Main Draw Prep'!$A$7:$P$38,16)) | E43: =UPPER(IF($D43="","",VLOOKUP($D43,'Girls Si Main Draw Prep'!$A$7:$P$38,2))) | F43: =IF($D43="","",VLOOKUP($D43,'Girls Si Main Draw Prep'!$A$7:$P$38,3)) | H43: =IF($D43="","",VLOOKUP($D43,'Girls Si Main Draw Prep'!$A$7:$P$38,4))
H44: Umpire | J44: =UPPER(IF(OR(I44="a",I44="as"),E43,IF(OR(I44="b",I44="bs"),E45,)))
A45: 20 | B45: =IF($D45="","",VLOOKUP($D45,'Girls Si Main Draw Prep'!$A$7:$P$38,15)) | C45: =IF($D45="","",VLOOKUP($D45,'Girls Si Main Draw Prep'!$A$7:$P$38,16)) | E45: =UPPER(IF($D45="","",VLOOKUP($D45,'Girls Si Main Draw Prep'!$A$7:$P$38,2))) | F45: =IF($D45="","",VLOOKUP($D45,'Girls Si Main Draw Prep'!$A$7:$P$38,3)) | H45: =IF($D45="","",VLOOKUP($D45,'Girls Si Main Draw Prep'!$A$7:$P$38,4))
L46: Umpire | N46: =UPPER(IF(OR(M46="a",M46="as"),L42,IF(OR(M46="b",M46="bs"),L50,)))
A47: 21 | B47: =IF($D47="","",VLOOKUP($D47,'Girls Si Main Draw Prep'!$A$7:$P$38,15)) | C47: =IF($D47="","",VLOOKUP($D47,'Girls Si Main Draw Prep'!$A$7:$P$38,16)) | E47: =UPPER(IF($D47="","",VLOOKUP($D47,'Girls Si Main Draw Prep'!$A$7:$P$38,2))) | F47: =IF($D47="","",VLOOKUP($D47,'Girls Si Main Draw Prep'!$A$7:$P$38,3)) | H47: =IF($D47="","",VLOOKUP($D47,'Girls Si Main Draw Prep'!$A$7:$P$38,4))
H48: Umpire | J48: =UPPER(IF(OR(I48="a",I48="as"),E47,IF(OR(I48="b",I48="bs"),E49,)))
A49: 22 | B49: =IF($D49="","",VLOOKUP($D49,'Girls Si Main Draw Prep'!$A$7:$P$38,15)) | C49: =IF($D49="","",VLOOKUP($D49,'Girls Si Main Draw Prep'!$A$7:$P$38,16)) | E49: =UPPER(IF($D49="","",VLOOKUP($D49,'Girls Si Main Draw Prep'!$A$7:$P$38,2))) | F49: =IF($D49="","",VLOOKUP($D49,'Girls Si Main Draw Prep'!$A$7:$P$38,3)) | H49: =IF($D49="","",VLOOKUP($D49,'Girls Si Main Draw Prep'!$A$7:$P$38,4))
J50: Umpire | L50: =UPPER(IF(OR(K50="a",K50="as"),J48,IF(OR(K50="b",K50="bs"),J52,)))
A51: 23 | B51: =IF($D51="","",VLOOKUP($D51,'Girls Si Main Draw Prep'!$A$7:$P$38,15)) | C51: =IF($D51="","",VLOOKUP($D51,'Girls Si Main Draw Prep'!$A$7:$P$38,16)) | E51: =UPPER(IF($D51="","",VLOOKUP($D51,'Girls Si Main Draw Prep'!$A$7:$P$38,2))) | F51: =IF($D51="","",VLOOKUP($D51,'Girls Si Main Draw Prep'!$A$7:$P$38,3)) | H51: =IF($D51="","",VLOOKUP($D51,'Girls Si Main Draw Prep'!$A$7:$P$38,4))
H52: Umpire | J52: =UPPER(IF(OR(I52="a",I52="as"),E51,IF(OR(I52="b",I52="bs"),E53,)))
A53: 24 | B53: =IF($D53="","",VLOOKUP($D53,'Girls Si Main Draw Prep'!$A$7:$P$38,15)) | C53: =IF($D53="","",VLOOKUP($D53,'Girls Si Main Draw Prep'!$A$7:$P$38,16)) | E53: =UPPER(IF($D53="","",VLOOKUP($D53,'Girls Si Main Draw Prep'!$A$7:$P$38,2))) | F53: =IF($D53="","",VLOOKUP($D53,'Girls Si Main Draw Prep'!$A$7:$P$38,3)) | H53: =IF($D53="","",VLOOKUP($D53,'Girls Si Main Draw Prep'!$A$7:$P$38,4))
N54: Umpire | P54: =UPPER(IF(OR(O54="a",O54="as"),N46,IF(OR(O54="b",O54="bs"),N62,)))
A55: 25 | B55: =IF($D55="","",VLOOKUP($D55,'Girls Si Main Draw Prep'!$A$7:$P$38,15)) | C55: =IF($D55="","",VLOOKUP($D55,'Girls Si Main Draw Prep'!$A$7:$P$38,16)) | E55: =UPPER(IF($D55="","",VLOOKUP($D55,'Girls Si Main Draw Prep'!$A$7:$P$38,2))) | F55: =IF($D55="","",VLOOKUP($D55,'Girls Si Main Draw Prep'!$A$7:$P$38,3)) | H55: =IF($D55="","",VLOOKUP($D55,'Girls Si Main Draw Prep'!$A$7:$P$38,4))
H56: Umpire | J56: =UPPER(IF(OR(I56="a",I56="as"),E55,IF(OR(I56="b",I56="bs"),E57,)))
A57: 26 | B57: =IF($D57="","",VLOOKUP($D57,'Girls Si Main Draw Prep'!$A$7:$P$38,15)) | C57: =IF($D57="","",VLOOKUP($D57,'Girls Si Main Draw Prep'!$A$7:$P$38,16)) | E57: =UPPER(IF($D57="","",VLOOKUP($D57,'Girls Si Main Draw Prep'!$A$7:$P$38,2))) | F57: =IF($D57="","",VLOOKUP($D57,'Girls Si Main Draw Prep'!$A$7:$P$38,3)) | H57: =IF($D57="","",VLOOKUP($D57,'Girls Si Main Draw Prep'!$A$7:$P$38,4))
J58: Umpire | L58: =UPPER(IF(OR(K58="a",K58="as"),J56,IF(OR(K58="b",K58="bs"),J60,)))
A59: 27 | B59: =IF($D59="","",VLOOKUP($D59,'Girls Si Main Draw Prep'!$A$7:$P$38,15)) | C59: =IF($D59="","",VLOOKUP($D59,'Girls Si Main Draw Prep'!$A$7:$P$38,16)) | E59: =UPPER(IF($D59="","",VLOOKUP($D59,'Girls Si Main Draw Prep'!$A$7:$P$38,2))) | F59: =IF($D59="","",VLOOKUP($D59,'Girls Si Main Draw Prep'!$A$7:$P$38,3)) | H59: =IF($D59="","",VLOOKUP($D59,'Girls Si Main Draw Prep'!$A$7:$P$38,4))
H60: Umpire | J60: =UPPER(IF(OR(I60="a",I60="as"),E59,IF(OR(I60="b",I60="bs"),E61,)))
A61: 28 | B61: =IF($D61="","",VLOOKUP($D61,'Girls Si Main Draw Prep'!$A$7:$P$38,15)) | C61: =IF($D61="","",VLOOKUP($D61,'Girls Si Main Draw Prep'!$A$7:$P$38,16)) | E61: =UPPER(IF($D61="","",VLOOKUP($D61,'Girls Si Main Draw Prep'!$A$7:$P$38,2))) | F61: =IF($D61="","",VLOOKUP($D61,'Girls Si Main Draw Prep'!$A$7:$P$38,3)) | H61: =IF($D61="","",VLOOKUP($D61,'Girls Si Main Draw Prep'!$A$7:$P$38,4))
L62: Umpire | N62: =UPPER(IF(OR(M62="a",M62="as"),L58,IF(OR(M62="b",M62="bs"),L66,)))
A63: 29 | B63: =IF($D63="","",VLOOKUP($D63,'Girls Si Main Draw Prep'!$A$7:$P$38,15)) | C63: =IF($D63="","",VLOOKUP($D63,'Girls Si Main Draw Prep'!$A$7:$P$38,16)) | E63: =UPPER(IF($D63="","",VLOOKUP($D63,'Girls Si Main Draw Prep'!$A$7:$P$38,2))) | F63: =IF($D63="","",VLOOKUP($D63,'Girls Si Main Draw Prep'!$A$7:$P$38,3)) | H63: =IF($D63="","",VLOOKUP($D63,'Girls Si Main Draw Prep'!$A$7:$P$38,4))
H64: Umpire | J64: =UPPER(IF(OR(I64="a",I64="as"),E63,IF(OR(I64="b",I64="bs"),E65,)))
A65: 30 | B65: =IF($D65="","",VLOOKUP($D65,'Girls Si Main Draw Prep'!$A$7:$P$38,15)) | C65: =IF($D65="","",VLOOKUP($D65,'Girls Si Main Draw Prep'!$A$7:$P$38,16)) | E65: =UPPER(IF($D65="","",VLOOKUP($D65,'Girls Si Main Draw Prep'!$A$7:$P$38,2))) | F65: =IF($D65="","",VLOOKUP($D65,'Girls Si Main Draw Prep'!$A$7:$P$38,3)) | H65: =IF($D65="","",VLOOKUP($D65,'Girls Si Main Draw Prep'!$A$7:$P$38,4))
J66: Umpire | L66: =UPPER(IF(OR(K66="a",K66="as"),J64,IF(OR(K66="b",K66="bs"),J68,)))
A67: 31 | B67: =IF($D67="","",VLOOKUP($D67,'Girls Si Main Draw Prep'!$A$7:$P$38,15)) | C67: =IF($D67="","",VLOOKUP($D67,'Girls Si Main Draw Prep'!$A$7:$P$38,16)) | E67: =UPPER(IF($D67="","",VLOOKUP($D67,'Girls Si Main Draw Prep'!$A$7:$P$38,2))) | F67: =IF($D67="","",VLOOKUP($D67,'Girls Si Main Draw Prep'!$A$7:$P$38,3)) | H67: =IF($D67="","",VLOOKUP($D67,'Girls Si Main Draw Prep'!$A$7:$P$38,4))
H68: Umpire | J68: =UPPER(IF(OR(I68="a",I68="as"),E67,IF(OR(I68="b",I68="bs"),E69,)))
A69: 32 | B69: =IF($D69="","",VLOOKUP($D69,'Girls Si Main Draw Prep'!$A$7:$P$38,15)) | C69: =IF($D69="","",VLOOKUP($D69,'Girls Si Main Draw Prep'!$A$7:$P$38,16)) | E69: =UPPER(IF($D69="","",VLOOKUP($D69,'Girls Si Main Draw Prep'!$A$7:$P$38,2))) | F69: =IF($D69="","",VLOOKUP($D69,'Girls Si Main Draw Prep'!$A$7:$P$38,3)) | H69: =IF($D69="","",VLOOKUP($D69,'Girls Si Main Draw Prep'!$A$7:$P$38,4))
A71: Acc. Ranking | D71: # | E71: Seeded players | I71: # | J71: Lucky Losers | L71: Replacing | N71: Draw date/time:
A72: Rkg Date | D72: 1 | E72: =IF(D72>$Q$79,,UPPER(VLOOKUP(D72,'Girls Si Main Draw Prep'!$A$7:$R$134,2))) -> 0 | I72: 1 | N72: Last Accepted player
A73: Top DA | D73: 2 | E73: =IF(D73>$Q$79,,UPPER(VLOOKUP(D73,'Girls Si Main Draw Prep'!$A$7:$R$134,2))) -> 0 | I73: 2
A74: Last DA | D74: 3 | E74: =IF(D74>$Q$79,,UPPER(VLOOKUP(D74,'Girls Si Main Draw Prep'!$A$7:$R$134,2))) -> 0 | I74: 3 | N74: Player representatives
D75: 4 | E75: =IF(D75>$Q$79,,UPPER(VLOOKUP(D75,'Girls Si Main Draw Prep'!$A$7:$R$134,2))) -> 0 | I75: 4
A76: Seed ranking | D76: 5 | E76: =IF(D76>$Q$79,,UPPER(VLOOKUP(D76,'Girls Si Main Draw Prep'!$A$7:$R$134,2))) -> 0 | I76: 5
A77: Rkg Date | D77: 6 | E77: =IF(D77>$Q$79,,UPPER(VLOOKUP(D77,'Girls Si Main Draw Prep'!$A$7:$R$134,2))) -> 0 | I77: 6 | N77: ITF Referee's signature
A78: Top seed | D78: 7 | E78: =IF(D78>$Q$79,,UPPER(VLOOKUP(D78,'Girls Si Main Draw Prep'!$A$7:$R$134,2))) -> 0 | I78: 7
A79: Last seed | D79: 8 | E79: =IF(D79>$Q$79,,UPPER(VLOOKUP(D79,'Girls Si Main Draw Prep'!$A$7:$R$134,2))) -> 0 | I79: 8 | N79: =Q4 -> 0 | Q79: =MIN(8,'Girls Si Main Draw Prep'!R5) -> 0

Sheet Girls Si Main 48&64
A1: ='Week SetUp'!$A$6 -> 0 | J1: GIRLS SINGLES
A2: ='Week SetUp'!$A$8 -> ITF Junior Circuit | J2: MAIN DRAW (48&64)
A3: Week of | F3: City, Country | J3: Group | L3: Tourn. ID | Q3: ITF Referee
A4: ='Week SetUp'!$A$10 -> 0 | F4: ='Week SetUp'!$C$10 -> 0 | J4: ='Week SetUp'!$D$10 -> 0 | L4: ='Week SetUp'!$A$12 -> 0 | Q4: ='Week SetUp'!$E$10 -> 0
B5: St. | C5: Rank | D5: Seed | E5: Family Name | F5: First name | H5: Nationality | J5: 2nd Round | L5: 3rd Round | N5: Quarterfinals | P5: Semifinals
A7: 1 | B7: =IF($D7="","",VLOOKUP($D7,'Girls Si Main Draw Prep'!$A$7:$P$70,15)) | C7: =IF($D7="","",VLOOKUP($D7,'Girls Si Main Draw Prep'!$A$7:$P$70,16)) | E7: =UPPER(IF($D7="","",VLOOKUP($D7,'Girls Si Main Draw Prep'!$A$7:$P$70,2))) | F7: =IF($D7="","",VLOOKUP($D7,'Girls Si Main Draw Prep'!$A$7:$P$70,3)) | H7: =IF($D7="","",VLOOKUP($D7,'Girls Si Main Draw Prep'!$A$7:$P$70,4)) | J7: =UPPER(IF(OR(I8="a",I8="as"),E7,IF(OR(I8="b",I8="bs"),E8,))) | T7: =#REF! -> #REF!
A8: 2 | B8: =IF($D8="","",VLOOKUP($D8,'Girls Si Main Draw Prep'!$A$7:$P$70,15)) | C8: =IF($D8="","",VLOOKUP($D8,'Girls Si Main Draw Prep'!$A$7:$P$70,16)) | E8: =UPPER(IF($D8="","",VLOOKUP($D8,'Girls Si Main Draw Prep'!$A$7:$P$70,2))) | F8: =IF($D8="","",VLOOKUP($D8,'Girls Si Main Draw Prep'!$A$7:$P$70,3)) | H8: =IF($D8="","",VLOOKUP($D8,'Girls Si Main Draw Prep'!$A$7:$P$70,4)) | L8: =UPPER(IF(OR(K8="a",K8="as"),J7,IF(OR(K8="b",K8="bs"),J9,))) | T8: =#REF! -> #REF!
A9: 3 | B9: =IF($D9="","",VLOOKUP($D9,'Girls Si Main Draw Prep'!$A$7:$P$70,15)) | C9: =IF($D9="","",VLOOKUP($D9,'Girls Si Main Draw Prep'!$A$7:$P$70,16)) | E9: =UPPER(IF($D9="","",VLOOKUP($D9,'Girls Si Main Draw Prep'!$A$7:$P$70,2))) | F9: =IF($D9="","",VLOOKUP($D9,'Girls Si Main Draw Prep'!$A$7:$P$70,3)) | H9: =IF($D9="","",VLOOKUP($D9,'Girls Si Main Draw Prep'!$A$7:$P$70,4)) | J9: =UPPER(IF(OR(I10="a",I10="as"),E9,IF(OR(I10="b",I10="bs"),E10,))) | T9: =#REF! -> #REF!
A10: 4 | B10: =IF($D10="","",VLOOKUP($D10,'Girls Si Main Draw Prep'!$A$7:$P$70,15)) | C10: =IF($D10="","",VLOOKUP($D10,'Girls Si Main Draw Prep'!$A$7:$P$70,16)) | E10: =UPPER(IF($D10="","",VLOOKUP($D10,'Girls Si Main Draw Prep'!$A$7:$P$70,2))) | F10: =IF($D10="","",VLOOKUP($D10,'Girls Si Main Draw Prep'!$A$7:$P$70,3)) | H10: =IF($D10="","",VLOOKUP($D10,'Girls Si Main Draw Prep'!$A$7:$P$70,4)) | L10: Umpire | N10: =UPPER(IF(OR(M10="a",M10="as"),L8,IF(OR(M10="b",M10="bs"),L12,))) | T10: =#REF! -> #REF!
A11: 5 | B11: =IF($D11="","",VLOOKUP($D11,'Girls Si Main Draw Prep'!$A$7:$P$70,15)) | C11: =IF($D11="","",VLOOKUP($D11,'Girls Si Main Draw Prep'!$A$7:$P$70,16)) | E11: =UPPER(IF($D11="","",VLOOKUP($D11,'Girls Si Main Draw Prep'!$A$7:$P$70,2))) | F11: =IF($D11="","",VLOOKUP($D11,'Girls Si Main Draw Prep'!$A$7:$P$70,3)) | H11: =IF($D11="","",VLOOKUP($D11,'Girls Si Main Draw Prep'!$A$7:$P$70,4)) | J11: =UPPER(IF(OR(I12="a",I12="as"),E11,IF(OR(I12="b",I12="bs"),E12,))) | T11: =#REF! -> #REF!
A12: 6 | B12: =IF($D12="","",VLOOKUP($D12,'Girls Si Main Draw Prep'!$A$7:$P$70,15)) | C12: =IF($D12="","",VLOOKUP($D12,'Girls Si Main Draw Prep'!$A$7:$P$70,16)) | E12: =UPPER(IF($D12="","",VLOOKUP($D12,'Girls Si Main Draw Prep'!$A$7:$P$70,2))) | F12: =IF($D12="","",VLOOKUP($D12,'Girls Si Main Draw Prep'!$A$7:$P$70,3)) | H12: =IF($D12="","",VLOOKUP($D12,'Girls Si Main Draw Prep'!$A$7:$P$70,4)) | L12: =UPPER(IF(OR(K12="a",K12="as"),J11,IF(OR(K12="b",K12="bs"),J13,))) | T12: =#REF! -> #REF!
A13: 7 | B13: =IF($D13="","",VLOOKUP($D13,'Girls Si Main Draw Prep'!$A$7:$P$70,15)) | C13: =IF($D13="","",VLOOKUP($D13,'Girls Si Main Draw Prep'!$A$7:$P$70,16)) | E13: =UPPER(IF($D13="","",VLOOKUP($D13,'Girls Si Main Draw Prep'!$A$7:$P$70,2))) | F13: =IF($D13="","",VLOOKUP($D13,'Girls Si Main Draw Prep'!$A$7:$P$70,3)) | H13: =IF($D13="","",VLOOKUP($D13,'Girls Si Main Draw Prep'!$A$7:$P$70,4)) | J13: =UPPER(IF(OR(I14="a",I14="as"),E13,IF(OR(I14="b",I14="bs"),E14,))) | T13: =#REF! -> #REF!
A14: 8 | B14: =IF($D14="","",VLOOKUP($D14,'Girls Si Main Draw Prep'!$A$7:$P$70,15)) | C14: =IF($D14="","",VLOOKUP($D14,'Girls Si Main Draw Prep'!$A$7:$P$70,16)) | E14: =UPPER(IF($D14="","",VLOOKUP($D14,'Girls Si Main Draw Prep'!$A$7:$P$70,2))) | F14: =IF($D14="","",VLOOKUP($D14,'Girls Si Main Draw Prep'!$A$7:$P$70,3)) | H14: =IF($D14="","",VLOOKUP($D14,'Girls Si Main Draw Prep'!$A$7:$P$70,4)) | N14: Umpire | P14: =UPPER(IF(OR(O14="a",O14="as"),N10,IF(OR(O14="b",O14="bs"),N18,))) | T14: =#REF! -> #REF!
A15: 9 | B15: =IF($D15="","",VLOOKUP($D15,'Girls Si Main Draw Prep'!$A$7:$P$70,15)) | C15: =IF($D15="","",VLOOKUP($D15,'Girls Si Main Draw Prep'!$A$7:$P$70,16)) | E15: =UPPER(IF($D15="","",VLOOKUP($D15,'Girls Si Main Draw Prep'!$A$7:$P$70,2))) | F15: =IF($D15="","",VLOOKUP($D15,'Girls Si Main Draw Prep'!$A$7:$P$70,3)) | H15: =IF($D15="","",VLOOKUP($D15,'Girls Si Main Draw Prep'!$A$7:$P$70,4)) | J15: =UPPER(IF(OR(I16="a",I16="as"),E15,IF(OR(I16="b",I16="bs"),E16,))) | T15: =#REF! -> #REF!
A16: 10 | B16: =IF($D16="","",VLOOKUP($D16,'Girls Si Main Draw Prep'!$A$7:$P$70,15)) | C16: =IF($D16="","",VLOOKUP($D16,'Girls Si Main Draw Prep'!$A$7:$P$70,16)) | E16: =UPPER(IF($D16="","",VLOOKUP($D16,'Girls Si Main Draw Prep'!$A$7:$P$70,2))) | F16: =IF($D16="","",VLOOKUP($D16,'Girls Si Main Draw Prep'!$A$7:$P$70,3)) | H16: =IF($D16="","",VLOOKUP($D16,'Girls Si Main Draw Prep'!$A$7:$P$70,4)) | L16: =UPPER(IF(OR(K16="a",K16="as"),J15,IF(OR(K16="b",K16="bs"),J17,))) | T16: =#REF! -> #REF!
A17: 11 | B17: =IF($D17="","",VLOOKUP($D17,'Girls Si Main Draw Prep'!$A$7:$P$70,15)) | C17: =IF($D17="","",VLOOKUP($D17,'Girls Si Main Draw Prep'!$A$7:$P$70,16)) | E17: =UPPER(IF($D17="","",VLOOKUP($D17,'Girls Si Main Draw Prep'!$A$7:$P$70,2))) | F17: =IF($D17="","",VLOOKUP($D17,'Girls Si Main Draw Prep'!$A$7:$P$70,3)) | H17: =IF($D17="","",VLOOKUP($D17,'Girls Si Main Draw Prep'!$A$7:$P$70,4)) | J17: =UPPER(IF(OR(I18="a",I18="as"),E17,IF(OR(I18="b",I18="bs"),E18,)))
A18: 12 | B18: =IF($D18="","",VLOOKUP($D18,'Girls Si Main Draw Prep'!$A$7:$P$70,15)) | C18: =IF($D18="","",VLOOKUP($D18,'Girls Si Main Draw Prep'!$A$7:$P$70,16)) | E18: =UPPER(IF($D18="","",VLOOKUP($D18,'Girls Si Main Draw Prep'!$A$7:$P$70,2))) | F18: =IF($D18="","",VLOOKUP($D18,'Girls Si Main Draw Prep'!$A$7:$P$70,3)) | H18: =IF($D18="","",VLOOKUP($D18,'Girls Si Main Draw Prep'!$A$7:$P$70,4)) | L18: Umpire | N18: =UPPER(IF(OR(M18="a",M18="as"),L16,IF(OR(M18="b",M18="bs"),L20,)))
A19: 13 | B19: =IF($D19="","",VLOOKUP($D19,'Girls Si Main Draw Prep'!$A$7:$P$70,15)) | C19: =IF($D19="","",VLOOKUP($D19,'Girls Si Main Draw Prep'!$A$7:$P$70,16)) | E19: =UPPER(IF($D19="","",VLOOKUP($D19,'Girls Si Main Draw Prep'!$A$7:$P$70,2))) | F19: =IF($D19="","",VLOOKUP($D19,'Girls Si Main Draw Prep'!$A$7:$P$70,3)) | H19: =IF($D19="","",VLOOKUP($D19,'Girls Si Main Draw Prep'!$A$7:$P$70,4)) | J19: =UPPER(IF(OR(I20="a",I20="as"),E19,IF(OR(I20="b",I20="bs"),E20,)))
A20: 14 | B20: =IF($D20="","",VLOOKUP($D20,'Girls Si Main Draw Prep'!$A$7:$P$70,15)) | C20: =IF($D20="","",VLOOKUP($D20,'Girls Si Main Draw Prep'!$A$7:$P$70,16)) | E20: =UPPER(IF($D20="","",VLOOKUP($D20,'Girls Si Main Draw Prep'!$A$7:$P$70,2))) | F20: =IF($D20="","",VLOOKUP($D20,'Girls Si Main Draw Prep'!$A$7:$P$70,3)) | H20: =IF($D20="","",VLOOKUP($D20,'Girls Si Main Draw Prep'!$A$7:$P$70,4)) | L20: =UPPER(IF(OR(K20="a",K20="as"),J19,IF(OR(K20="b",K20="bs"),J21,)))
A21: 15 | B21: =IF($D21="","",VLOOKUP($D21,'Girls Si Main Draw Prep'!$A$7:$P$70,15)) | C21: =IF($D21="","",VLOOKUP($D21,'Girls Si Main Draw Prep'!$A$7:$P$70,16)) | E21: =UPPER(IF($D21="","",VLOOKUP($D21,'Girls Si Main Draw Prep'!$A$7:$P$70,2))) | F21: =IF($D21="","",VLOOKUP($D21,'Girls Si Main Draw Prep'!$A$7:$P$70,3)) | H21: =IF($D21="","",VLOOKUP($D21,'Girls Si Main Draw Prep'!$A$7:$P$70,4)) | J21: =UPPER(IF(OR(I22="a",I22="as"),E21,IF(OR(I22="b",I22="bs"),E22,)))
A22: 16 | B22: =IF($D22="","",VLOOKUP($D22,'Girls Si Main Draw Prep'!$A$7:$P$70,15)) | C22: =IF($D22="","",VLOOKUP($D22,'Girls Si Main Draw Prep'!$A$7:$P$70,16)) | E22: =UPPER(IF($D22="","",VLOOKUP($D22,'Girls Si Main Draw Prep'!$A$7:$P$70,2))) | F22: =IF($D22="","",VLOOKUP($D22,'Girls Si Main Draw Prep'!$A$7:$P$70,3)) | H22: =IF($D22="","",VLOOKUP($D22,'Girls Si Main Draw Prep'!$A$7:$P$70,4)) | N22: Finalist 1: | P22: =UPPER(IF(OR(O23="a",O23="as"),P14,IF(OR(O23="b",O23="bs"),P30,)))
A23: 17 | B23: =IF($D23="","",VLOOKUP($D23,'Girls Si Main Draw Prep'!$A$7:$P$70,15)) | C23: =IF($D23="","",VLOOKUP($D23,'Girls Si Main Draw Prep'!$A$7:$P$70,16)) | E23: =UPPER(IF($D23="","",VLOOKUP($D23,'Girls Si Main Draw Prep'!$A$7:$P$70,2))) | F23: =IF($D23="","",VLOOKUP($D23,'Girls Si Main Draw Prep'!$A$7:$P$70,3)) | H23: =IF($D23="","",VLOOKUP($D23,'Girls Si Main Draw Prep'!$A$7:$P$70,4)) | J23: =UPPER(IF(OR(I24="a",I24="as"),E23,IF(OR(I24="b",I24="bs"),E24,))) | N23: Umpire
A24: 18 | B24: =IF($D24="","",VLOOKUP($D24,'Girls Si Main Draw Prep'!$A$7:$P$70,15)) | C24: =IF($D24="","",VLOOKUP($D24,'Girls Si Main Draw Prep'!$A$7:$P$70,16)) | E24: =UPPER(IF($D24="","",VLOOKUP($D24,'Girls Si Main Draw Prep'!$A$7:$P$70,2))) | F24: =IF($D24="","",VLOOKUP($D24,'Girls Si Main Draw Prep'!$A$7:$P$70,3)) | H24: =IF($D24="","",VLOOKUP($D24,'Girls Si Main Draw Prep'!$A$7:$P$70,4)) | L24: =UPPER(IF(OR(K24="a",K24="as"),J23,IF(OR(K24="b",K24="bs"),J25,)))
A25: 19 | B25: =IF($D25="","",VLOOKUP($D25,'Girls Si Main Draw Prep'!$A$7:$P$70,15)) | C25: =IF($D25="","",VLOOKUP($D25,'Girls Si Main Draw Prep'!$A$7:$P$70,16)) | E25: =UPPER(IF($D25="","",VLOOKUP($D25,'Girls Si Main Draw Prep'!$A$7:$P$70,2))) | F25: =IF($D25="","",VLOOKUP($D25,'Girls Si Main Draw Prep'!$A$7:$P$70,3)) | H25: =IF($D25="","",VLOOKUP($D25,'Girls Si Main Draw Prep'!$A$7:$P$70,4)) | J25: =UPPER(IF(OR(I26="a",I26="as"),E25,IF(OR(I26="b",I26="bs"),E26,)))
A26: 20 | B26: =IF($D26="","",VLOOKUP($D26,'Girls Si Main Draw Prep'!$A$7:$P$70,15)) | C26: =IF($D26="","",VLOOKUP($D26,'Girls Si Main Draw Prep'!$A$7:$P$70,16)) | E26: =UPPER(IF($D26="","",VLOOKUP($D26,'Girls Si Main Draw Prep'!$A$7:$P$70,2))) | F26: =IF($D26="","",VLOOKUP($D26,'Girls Si Main Draw Prep'!$A$7:$P$70,3)) | H26: =IF($D26="","",VLOOKUP($D26,'Girls Si Main Draw Prep'!$A$7:$P$70,4)) | L26: Umpire | N26: =UPPER(IF(OR(M26="a",M26="as"),L24,IF(OR(M26="b",M26="bs"),L28,)))
A27: 21 | B27: =IF($D27="","",VLOOKUP($D27,'Girls Si Main Draw Prep'!$A$7:$P$70,15)) | C27: =IF($D27="","",VLOOKUP($D27,'Girls Si Main Draw Prep'!$A$7:$P$70,16)) | E27: =UPPER(IF($D27="","",VLOOKUP($D27,'Girls Si Main Draw Prep'!$A$7:$P$70,2))) | F27: =IF($D27="","",VLOOKUP($D27,'Girls Si Main Draw Prep'!$A$7:$P$70,3)) | H27: =IF($D27="","",VLOOKUP($D27,'Girls Si Main Draw Prep'!$A$7:$P$70,4)) | J27: =UPPER(IF(OR(I28="a",I28="as"),E27,IF(OR(I28="b",I28="bs"),E28,)))
A28: 22 | B28: =IF($D28="","",VLOOKUP($D28,'Girls Si Main Draw Prep'!$A$7:$P$70,15)) | C28: =IF($D28="","",VLOOKUP($D28,'Girls Si Main Draw Prep'!$A$7:$P$70,16)) | E28: =UPPER(IF($D28="","",VLOOKUP($D28,'Girls Si Main Draw Prep'!$A$7:$P$70,2))) | F28: =IF($D28="","",VLOOKUP($D28,'Girls Si Main Draw Prep'!$A$7:$P$70,3)) | H28: =IF($D28="","",VLOOKUP($D28,'Girls Si Main Draw Prep'!$A$7:$P$70,4)) | L28: =UPPER(IF(OR(K28="a",K28="as"),J27,IF(OR(K28="b",K28="bs"),J29,)))
A29: 23 | B29: =IF($D29="","",VLOOKUP($D29,'Girls Si Main Draw Prep'!$A$7:$P$70,15)) | C29: =IF($D29="","",VLOOKUP($D29,'Girls Si Main Draw Prep'!$A$7:$P$70,16)) | E29: =UPPER(IF($D29="","",VLOOKUP($D29,'Girls Si Main Draw Prep'!$A$7:$P$70,2))) | F29: =IF($D29="","",VLOOKUP($D29,'Girls Si Main Draw Prep'!$A$7:$P$70,3)) | H29: =IF($D29="","",VLOOKUP($D29,'Girls Si Main Draw Prep'!$A$7:$P$70,4)) | J29: =UPPER(IF(OR(I30="a",I30="as"),E29,IF(OR(I30="b",I30="bs"),E30,)))
A30: 24 | B30: =IF($D30="","",VLOOKUP($D30,'Girls Si Main Draw Prep'!$A$7:$P$70,15)) | C30: =IF($D30="","",VLOOKUP($D30,'Girls Si Main Draw Prep'!$A$7:$P$70,16)) | E30: =UPPER(IF($D30="","",VLOOKUP($D30,'Girls Si Main Draw Prep'!$A$7:$P$70,2))) | F30: =IF($D30="","",VLOOKUP($D30,'Girls Si Main Draw Prep'!$A$7:$P$70,3)) | H30: =IF($D30="","",VLOOKUP($D30,'Girls Si Main Draw Prep'!$A$7:$P$70,4)) | N30: Umpire | P30: =UPPER(IF(OR(O30="a",O30="as"),N26,IF(OR(O30="b",O30="bs"),N34,)))
A31: 25 | B31: =IF($D31="","",VLOOKUP($D31,'Girls Si Main Draw Prep'!$A$7:$P$70,15)) | C31: =IF($D31="","",VLOOKUP($D31,'Girls Si Main Draw Prep'!$A$7:$P$70,16)) | E31: =UPPER(IF($D31="","",VLOOKUP($D31,'Girls Si Main Draw Prep'!$A$7:$P$70,2))) | F31: =IF($D31="","",VLOOKUP($D31,'Girls Si Main Draw Prep'!$A$7:$P$70,3)) | H31: =IF($D31="","",VLOOKUP($D31,'Girls Si Main Draw Prep'!$A$7:$P$70,4)) | J31: =UPPER(IF(OR(I32="a",I32="as"),E31,IF(OR(I32="b",I32="bs"),E32,)))
A32: 26 | B32: =IF($D32="","",VLOOKUP($D32,'Girls Si Main Draw Prep'!$A$7:$P$70,15)) | C32: =IF($D32="","",VLOOKUP($D32,'Girls Si Main Draw Prep'!$A$7:$P$70,16)) | E32: =UPPER(IF($D32="","",VLOOKUP($D32,'Girls Si Main Draw Prep'!$A$7:$P$70,2))) | F32: =IF($D32="","",VLOOKUP($D32,'Girls Si Main Draw Prep'!$A$7:$P$70,3)) | H32: =IF($D32="","",VLOOKUP($D32,'Girls Si Main Draw Prep'!$A$7:$P$70,4)) | L32: =UPPER(IF(OR(K32="a",K32="as"),J31,IF(OR(K32="b",K32="bs"),J33,)))
A33: 27 | B33: =IF($D33="","",VLOOKUP($D33,'Girls Si Main Draw Prep'!$A$7:$P$70,15)) | C33: =IF($D33="","",VLOOKUP($D33,'Girls Si Main Draw Prep'!$A$7:$P$70,16)) | E33: =UPPER(IF($D33="","",VLOOKUP($D33,'Girls Si Main Draw Prep'!$A$7:$P$70,2))) | F33: =IF($D33="","",VLOOKUP($D33,'Girls Si Main Draw Prep'!$A$7:$P$70,3)) | H33: =IF($D33="","",VLOOKUP($D33,'Girls Si Main Draw Prep'!$A$7:$P$70,4)) | J33: =UPPER(IF(OR(I34="a",I34="as"),E33,IF(OR(I34="b",I34="bs"),E34,)))
A34: 28 | B34: =IF($D34="","",VLOOKUP($D34,'Girls Si Main Draw Prep'!$A$7:$P$70,15)) | C34: =IF($D34="","",VLOOKUP($D34,'Girls Si Main Draw Prep'!$A$7:$P$70,16)) | E34: =UPPER(IF($D34="","",VLOOKUP($D34,'Girls Si Main Draw Prep'!$A$7:$P$70,2))) | F34: =IF($D34="","",VLOOKUP($D34,'Girls Si Main Draw Prep'!$A$7:$P$70,3)) | H34: =IF($D34="","",VLOOKUP($D34,'Girls Si Main Draw Prep'!$A$7:$P$70,4)) | L34: Umpire | N34: =UPPER(IF(OR(M34="a",M34="as"),L32,IF(OR(M34="b",M34="bs"),L36,)))
A35: 29 | B35: =IF($D35="","",VLOOKUP($D35,'Girls Si Main Draw Prep'!$A$7:$P$70,15)) | C35: =IF($D35="","",VLOOKUP($D35,'Girls Si Main Draw Prep'!$A$7:$P$70,16)) | E35: =UPPER(IF($D35="","",VLOOKUP($D35,'Girls Si Main Draw Prep'!$A$7:$P$70,2))) | F35: =IF($D35="","",VLOOKUP($D35,'Girls Si Main Draw Prep'!$A$7:$P$70,3)) | H35: =IF($D35="","",VLOOKUP($D35,'Girls Si Main Draw Prep'!$A$7:$P$70,4)) | J35: =UPPER(IF(OR(I36="a",I36="as"),E35,IF(OR(I36="b",I36="bs"),E36,)))
A36: 30 | B36: =IF($D36="","",VLOOKUP($D36,'Girls Si Main Draw Prep'!$A$7:$P$70,15)) | C36: =IF($D36="","",VLOOKUP($D36,'Girls Si Main Draw Prep'!$A$7:$P$70,16)) | E36: =UPPER(IF($D36="","",VLOOKUP($D36,'Girls Si Main Draw Prep'!$A$7:$P$70,2))) | F36: =IF($D36="","",VLOOKUP($D36,'Girls Si Main Draw Prep'!$A$7:$P$70,3)) | H36: =IF($D36="","",VLOOKUP($D36,'Girls Si Main Draw Prep'!$A$7:$P$70,4)) | L36: =UPPER(IF(OR(K36="a",K36="as"),J35,IF(OR(K36="b",K36="bs"),J37,))) | N36: Final | P36: Winner
A37: 31 | B37: =IF($D37="","",VLOOKUP($D37,'Girls Si Main Draw Prep'!$A$7:$P$70,15)) | C37: =IF($D37="","",VLOOKUP($D37,'Girls Si Main Draw Prep'!$A$7:$P$70,16)) | E37: =UPPER(IF($D37="","",VLOOKUP($D37,'Girls Si Main Draw Prep'!$A$7:$P$70,2))) | F37: =IF($D37="","",VLOOKUP($D37,'Girls Si Main Draw Prep'!$A$7:$P$70,3)) | H37: =IF($D37="","",VLOOKUP($D37,'Girls Si Main Draw Prep'!$A$7:$P$70,4)) | J37: =UPPER(IF(OR(I38="a",I38="as"),E37,IF(OR(I38="b",I38="bs"),E38,))) | N37: =UPPER(IF(OR(O23="a",O23="as"),P14,IF(OR(O23="b",O23="bs"),P30,)))
A38: 32 | B38: =IF($D38="","",VLOOKUP($D38,'Girls Si Main Draw Prep'!$A$7:$P$70,15)) | C38: =IF($D38="","",VLOOKUP($D38,'Girls Si Main Draw Prep'!$A$7:$P$70,16)) | E38: =UPPER(IF($D38="","",VLOOKUP($D38,'Girls Si Main Draw Prep'!$A$7:$P$70,2))) | F38: =IF($D38="","",VLOOKUP($D38,'Girls Si Main Draw Prep'!$A$7:$P$70,3)) | H38: =IF($D38="","",VLOOKUP($D38,'Girls Si Main Draw Prep'!$A$7:$P$70,4)) | N38: Umpire | P38: =UPPER(IF(OR(O38="a",O38="as"),N37,IF(OR(O38="b",O38="bs"),N39,)))
A39: 33 | B39: =IF($D39="","",VLOOKUP($D39,'Girls Si Main Draw Prep'!$A$7:$P$70,15)) | C39: =IF($D39="","",VLOOKUP($D39,'Girls Si Main Draw Prep'!$A$7:$P$70,16)) | E39: =UPPER(IF($D39="","",VLOOKUP($D39,'Girls Si Main Draw Prep'!$A$7:$P$70,2))) | F39: =IF($D39="","",VLOOKUP($D39,'Girls Si Main Draw Prep'!$A$7:$P$70,3)) | H39: =IF($D39="","",VLOOKUP($D39,'Girls Si Main Draw Prep'!$A$7:$P$70,4)) | J39: =UPPER(IF(OR(I40="a",I40="as"),E39,IF(OR(I40="b",I40="bs"),E40,))) | N39: =UPPER(IF(OR(O55="a",O55="as"),P46,IF(OR(O55="b",O55="bs"),P62,)))
A40: 34 | B40: =IF($D40="","",VLOOKUP($D40,'Girls Si Main Draw Prep'!$A$7:$P$70,15)) | C40: =IF($D40="","",VLOOKUP($D40,'Girls Si Main Draw Prep'!$A$7:$P$70,16)) | E40: =UPPER(IF($D40="","",VLOOKUP($D40,'Girls Si Main Draw Prep'!$A$7:$P$70,2))) | F40: =IF($D40="","",VLOOKUP($D40,'Girls Si Main Draw Prep'!$A$7:$P$70,3)) | H40: =IF($D40="","",VLOOKUP($D40,'Girls Si Main Draw Prep'!$A$7:$P$70,4)) | L40: =UPPER(IF(OR(K40="a",K40="as"),J39,IF(OR(K40="b",K40="bs"),J41,)))
A41: 35 | B41: =IF($D41="","",VLOOKUP($D41,'Girls Si Main Draw Prep'!$A$7:$P$70,15)) | C41: =IF($D41="","",VLOOKUP($D41,'Girls Si Main Draw Prep'!$A$7:$P$70,16)) | E41: =UPPER(IF($D41="","",VLOOKUP($D41,'Girls Si Main Draw Prep'!$A$7:$P$70,2))) | F41: =IF($D41="","",VLOOKUP($D41,'Girls Si Main Draw Prep'!$A$7:$P$70,3)) | H41: =IF($D41="","",VLOOKUP($D41,'Girls Si Main Draw Prep'!$A$7:$P$70,4)) | J41: =UPPER(IF(OR(I42="a",I42="as"),E41,IF(OR(I42="b",I42="bs"),E42,)))
A42: 36 | B42: =IF($D42="","",VLOOKUP($D42,'Girls Si Main Draw Prep'!$A$7:$P$70,15)) | C42: =IF($D42="","",VLOOKUP($D42,'Girls Si Main Draw Prep'!$A$7:$P$70,16)) | E42: =UPPER(IF($D42="","",VLOOKUP($D42,'Girls Si Main Draw Prep'!$A$7:$P$70,2))) | F42: =IF($D42="","",VLOOKUP($D42,'Girls Si Main Draw Prep'!$A$7:$P$70,3)) | H42: =IF($D42="","",VLOOKUP($D42,'Girls Si Main Draw Prep'!$A$7:$P$70,4)) | L42: Umpire | N42: =UPPER(IF(OR(M42="a",M42="as"),L40,IF(OR(M42="b",M42="bs"),L44,)))
A43: 37 | B43: =IF($D43="","",VLOOKUP($D43,'Girls Si Main Draw Prep'!$A$7:$P$70,15)) | C43: =IF($D43="","",VLOOKUP($D43,'Girls Si Main Draw Prep'!$A$7:$P$70,16)) | E43: =UPPER(IF($D43="","",VLOOKUP($D43,'Girls Si Main Draw Prep'!$A$7:$P$70,2))) | F43: =IF($D43="","",VLOOKUP($D43,'Girls Si Main Draw Prep'!$A$7:$P$70,3)) | H43: =IF($D43="","",VLOOKUP($D43,'Girls Si Main Draw Prep'!$A$7:$P$70,4)) | J43: =UPPER(IF(OR(I44="a",I44="as"),E43,IF(OR(I44="b",I44="bs"),E44,)))
A44: 38 | B44: =IF($D44="","",VLOOKUP($D44,'Girls Si Main Draw Prep'!$A$7:$P$70,15)) | C44: =IF($D44="","",VLOOKUP($D44,'Girls Si Main Draw Prep'!$A$7:$P$70,16)) | E44: =UPPER(IF($D44="","",VLOOKUP($D44,'Girls Si Main Draw Prep'!$A$7:$P$70,2))) | F44: =IF($D44="","",VLOOKUP($D44,'Girls Si Main Draw Prep'!$A$7:$P$70,3)) | H44: =IF($D44="","",VLOOKUP($D44,'Girls Si Main Draw Prep'!$A$7:$P$70,4)) | L44: =UPPER(IF(OR(K44="a",K44="as"),J43,IF(OR(K44="b",K44="bs"),J45,)))
A45: 39 | B45: =IF($D45="","",VLOOKUP($D45,'Girls Si Main Draw Prep'!$A$7:$P$70,15)) | C45: =IF($D45="","",VLOOKUP($D45,'Girls Si Main Draw Prep'!$A$7:$P$70,16)) | E45: =UPPER(IF($D45="","",VLOOKUP($D45,'Girls Si Main Draw Prep'!$A$7:$P$70,2))) | F45: =IF($D45="","",VLOOKUP($D45,'Girls Si Main Draw Prep'!$A$7:$P$70,3)) | H45: =IF($D45="","",VLOOKUP($D45,'Girls Si Main Draw Prep'!$A$7:$P$70,4)) | J45: =UPPER(IF(OR(I46="a",I46="as"),E45,IF(OR(I46="b",I46="bs"),E46,)))
A46: 40 | B46: =IF($D46="","",VLOOKUP($D46,'Girls Si Main Draw Prep'!$A$7:$P$70,15)) | C46: =IF($D46="","",VLOOKUP($D46,'Girls Si Main Draw Prep'!$A$7:$P$70,16)) | E46: =UPPER(IF($D46="","",VLOOKUP($D46,'Girls Si Main Draw Prep'!$A$7:$P$70,2))) | F46: =IF($D46="","",VLOOKUP($D46,'Girls Si Main Draw Prep'!$A$7:$P$70,3)) | H46: =IF($D46="","",VLOOKUP($D46,'Girls Si Main Draw Prep'!$A$7:$P$70,4)) | N46: Umpire | P46: =UPPER(IF(OR(O46="a",O46="as"),N42,IF(OR(O46="b",O46="bs"),N50,)))
A47: 41 | B47: =IF($D47="","",VLOOKUP($D47,'Girls Si Main Draw Prep'!$A$7:$P$70,15)) | C47: =IF($D47="","",VLOOKUP($D47,'Girls Si Main Draw Prep'!$A$7:$P$70,16)) | E47: =UPPER(IF($D47="","",VLOOKUP($D47,'Girls Si Main Draw Prep'!$A$7:$P$70,2))) | F47: =IF($D47="","",VLOOKUP($D47,'Girls Si Main Draw Prep'!$A$7:$P$70,3)) | H47: =IF($D47="","",VLOOKUP($D47,'Girls Si Main Draw Prep'!$A$7:$P$70,4)) | J47: =UPPER(IF(OR(I48="a",I48="as"),E47,IF(OR(I48="b",I48="bs"),E48,)))
A48: 42 | B48: =IF($D48="","",VLOOKUP($D48,'Girls Si Main Draw Prep'!$A$7:$P$70,15)) | C48: =IF($D48="","",VLOOKUP($D48,'Girls Si Main Draw Prep'!$A$7:$P$70,16)) | E48: =UPPER(IF($D48="","",VLOOKUP($D48,'Girls Si Main Draw Prep'!$A$7:$P$70,2))) | F48: =IF($D48="","",VLOOKUP($D48,'Girls Si Main Draw Prep'!$A$7:$P$70,3)) | H48: =IF($D48="","",VLOOKUP($D48,'Girls Si Main Draw Prep'!$A$7:$P$70,4)) | L48: =UPPER(IF(OR(K48="a",K48="as"),J47,IF(OR(K48="b",K48="bs"),J49,)))
A49: 43 | B49: =IF($D49="","",VLOOKUP($D49,'Girls Si Main Draw Prep'!$A$7:$P$70,15)) | C49: =IF($D49="","",VLOOKUP($D49,'Girls Si Main Draw Prep'!$A$7:$P$70,16)) | E49: =UPPER(IF($D49="","",VLOOKUP($D49,'Girls Si Main Draw Prep'!$A$7:$P$70,2))) | F49: =IF($D49="","",VLOOKUP($D49,'Girls Si Main Draw Prep'!$A$7:$P$70,3)) | H49: =IF($D49="","",VLOOKUP($D49,'Girls Si Main Draw Prep'!$A$7:$P$70,4)) | J49: =UPPER(IF(OR(I50="a",I50="as"),E49,IF(OR(I50="b",I50="bs"),E50,)))
A50: 44 | B50: =IF($D50="","",VLOOKUP($D50,'Girls Si Main Draw Prep'!$A$7:$P$70,15)) | C50: =IF($D50="","",VLOOKUP($D50,'Girls Si Main Draw Prep'!$A$7:$P$70,16)) | E50: =UPPER(IF($D50="","",VLOOKUP($D50,'Girls Si Main Draw Prep'!$A$7:$P$70,2))) | F50: =IF($D50="","",VLOOKUP($D50,'Girls Si Main Draw Prep'!$A$7:$P$70,3)) | H50: =IF($D50="","",VLOOKUP($D50,'Girls Si Main Draw Prep'!$A$7:$P$70,4)) | L50: Umpire | N50: =UPPER(IF(OR(M50="a",M50="as"),L48,IF(OR(M50="b",M50="bs"),L52,)))
A51: 45 | B51: =IF($D51="","",VLOOKUP($D51,'Girls Si Main Draw Prep'!$A$7:$P$70,15)) | C51: =IF($D51="","",VLOOKUP($D51,'Girls Si Main Draw Prep'!$A$7:$P$70,16)) | E51: =UPPER(IF($D51="","",VLOOKUP($D51,'Girls Si Main Draw Prep'!$A$7:$P$70,2))) | F51: =IF($D51="","",VLOOKUP($D51,'Girls Si Main Draw Prep'!$A$7:$P$70,3)) | H51: =IF($D51="","",VLOOKUP($D51,'Girls Si Main Draw Prep'!$A$7:$P$70,4)) | J51: =UPPER(IF(OR(I52="a",I52="as"),E51,IF(OR(I52="b",I52="bs"),E52,)))
A52: 46 | B52: =IF($D52="","",VLOOKUP($D52,'Girls Si Main Draw Prep'!$A$7:$P$70,15)) | C52: =IF($D52="","",VLOOKUP($D52,'Girls Si Main Draw Prep'!$A$7:$P$70,16)) | E52: =UPPER(IF($D52="","",VLOOKUP($D52,'Girls Si Main Draw Prep'!$A$7:$P$70,2))) | F52: =IF($D52="","",VLOOKUP($D52,'Girls Si Main Draw Prep'!$A$7:$P$70,3)) | H52: =IF($D52="","",VLOOKUP($D52,'Girls Si Main Draw Prep'!$A$7:$P$70,4)) | L52: =UPPER(IF(OR(K52="a",K52="as"),J51,IF(OR(K52="b",K52="bs"),J53,)))
A53: 47 | B53: =IF($D53="","",VLOOKUP($D53,'Girls Si Main Draw Prep'!$A$7:$P$70,15)) | C53: =IF($D53="","",VLOOKUP($D53,'Girls Si Main Draw Prep'!$A$7:$P$70,16)) | E53: =UPPER(IF($D53="","",VLOOKUP($D53,'Girls Si Main Draw Prep'!$A$7:$P$70,2))) | F53: =IF($D53="","",VLOOKUP($D53,'Girls Si Main Draw Prep'!$A$7:$P$70,3)) | H53: =IF($D53="","",VLOOKUP($D53,'Girls Si Main Draw Prep'!$A$7:$P$70,4)) | J53: =UPPER(IF(OR(I54="a",I54="as"),E53,IF(OR(I54="b",I54="bs"),E54,)))
A54: 48 | B54: =IF($D54="","",VLOOKUP($D54,'Girls Si Main Draw Prep'!$A$7:$P$70,15)) | C54: =IF($D54="","",VLOOKUP($D54,'Girls Si Main Draw Prep'!$A$7:$P$70,16)) | E54: =UPPER(IF($D54="","",VLOOKUP($D54,'Girls Si Main Draw Prep'!$A$7:$P$70,2))) | F54: =IF($D54="","",VLOOKUP($D54,'Girls Si Main Draw Prep'!$A$7:$P$70,3)) | H54: =IF($D54="","",VLOOKUP($D54,'Girls Si Main Draw Prep'!$A$7:$P$70,4)) | N54: Finalist 2: | P54: =UPPER(IF(OR(O55="a",O55="as"),P46,IF(OR(O55="b",O55="bs"),P62,)))
A55: 49 | B55: =IF($D55="","",VLOOKUP($D55,'Girls Si Main Draw Prep'!$A$7:$P$70,15)) | C55: =IF($D55="","",VLOOKUP($D55,'Girls Si Main Draw Prep'!$A$7:$P$70,16)) | E55: =UPPER(IF($D55="","",VLOOKUP($D55,'Girls Si Main Draw Prep'!$A$7:$P$70,2))) | F55: =IF($D55="","",VLOOKUP($D55,'Girls Si Main Draw Prep'!$A$7:$P$70,3)) | H55: =IF($D55="","",VLOOKUP($D55,'Girls Si Main Draw Prep'!$A$7:$P$70,4)) | J55: =UPPER(IF(OR(I56="a",I56="as"),E55,IF(OR(I56="b",I56="bs"),E56,))) | N55: Umpire
A56: 50 | B56: =IF($D56="","",VLOOKUP($D56,'Girls Si Main Draw Prep'!$A$7:$P$70,15)) | C56: =IF($D56="","",VLOOKUP($D56,'Girls Si Main Draw Prep'!$A$7:$P$70,16)) | E56: =UPPER(IF($D56="","",VLOOKUP($D56,'Girls Si Main Draw Prep'!$A$7:$P$70,2))) | F56: =IF($D56="","",VLOOKUP($D56,'Girls Si Main Draw Prep'!$A$7:$P$70,3)) | H56: =IF($D56="","",VLOOKUP($D56,'Girls Si Main Draw Prep'!$A$7:$P$70,4)) | L56: =UPPER(IF(OR(K56="a",K56="as"),J55,IF(OR(K56="b",K56="bs"),J57,)))
A57: 51 | B57: =IF($D57="","",VLOOKUP($D57,'Girls Si Main Draw Prep'!$A$7:$P$70,15)) | C57: =IF($D57="","",VLOOKUP($D57,'Girls Si Main Draw Prep'!$A$7:$P$70,16)) | E57: =UPPER(IF($D57="","",VLOOKUP($D57,'Girls Si Main Draw Prep'!$A$7:$P$70,2))) | F57: =IF($D57="","",VLOOKUP($D57,'Girls Si Main Draw Prep'!$A$7:$P$70,3)) | H57: =IF($D57="","",VLOOKUP($D57,'Girls Si Main Draw Prep'!$A$7:$P$70,4)) | J57: =UPPER(IF(OR(I58="a",I58="as"),E57,IF(OR(I58="b",I58="bs"),E58,)))
A58: 52 | B58: =IF($D58="","",VLOOKUP($D58,'Girls Si Main Draw Prep'!$A$7:$P$70,15)) | C58: =IF($D58="","",VLOOKUP($D58,'Girls Si Main Draw Prep'!$A$7:$P$70,16)) | E58: =UPPER(IF($D58="","",VLOOKUP($D58,'Girls Si Main Draw Prep'!$A$7:$P$70,2))) | F58: =IF($D58="","",VLOOKUP($D58,'Girls Si Main Draw Prep'!$A$7:$P$70,3)) | H58: =IF($D58="","",VLOOKUP($D58,'Girls Si Main Draw Prep'!$A$7:$P$70,4)) | L58: Umpire | N58: =UPPER(IF(OR(M58="a",M58="as"),L56,IF(OR(M58="b",M58="bs"),L60,)))
A59: 53 | B59: =IF($D59="","",VLOOKUP($D59,'Girls Si Main Draw Prep'!$A$7:$P$70,15)) | C59: =IF($D59="","",VLOOKUP($D59,'Girls Si Main Draw Prep'!$A$7:$P$70,16)) | E59: =UPPER(IF($D59="","",VLOOKUP($D59,'Girls Si Main Draw Prep'!$A$7:$P$70,2))) | F59: =IF($D59="","",VLOOKUP($D59,'Girls Si Main Draw Prep'!$A$7:$P$70,3)) | H59: =IF($D59="","",VLOOKUP($D59,'Girls Si Main Draw Prep'!$A$7:$P$70,4)) | J59: =UPPER(IF(OR(I60="a",I60="as"),E59,IF(OR(I60="b",I60="bs"),E60,)))
A60: 54 | B60: =IF($D60="","",VLOOKUP($D60,'Girls Si Main Draw Prep'!$A$7:$P$70,15)) | C60: =IF($D60="","",VLOOKUP($D60,'Girls Si Main Draw Prep'!$A$7:$P$70,16)) | E60: =UPPER(IF($D60="","",VLOOKUP($D60,'Girls Si Main Draw Prep'!$A$7:$P$70,2))) | F60: =IF($D60="","",VLOOKUP($D60,'Girls Si Main Draw Prep'!$A$7:$P$70,3)) | H60: =IF($D60="","",VLOOKUP($D60,'Girls Si Main Draw Prep'!$A$7:$P$70,4)) | L60: =UPPER(IF(OR(K60="a",K60="as"),J59,IF(OR(K60="b",K60="bs"),J61,)))
A61: 55 | B61: =IF($D61="","",VLOOKUP($D61,'Girls Si Main Draw Prep'!$A$7:$P$70,15)) | C61: =IF($D61="","",VLOOKUP($D61,'Girls Si Main Draw Prep'!$A$7:$P$70,16)) | E61: =UPPER(IF($D61="","",VLOOKUP($D61,'Girls Si Main Draw Prep'!$A$7:$P$70,2))) | F61: =IF($D61="","",VLOOKUP($D61,'Girls Si Main Draw Prep'!$A$7:$P$70,3)) | H61: =IF($D61="","",VLOOKUP($D61,'Girls Si Main Draw Prep'!$A$7:$P$70,4)) | J61: =UPPER(IF(OR(I62="a",I62="as"),E61,IF(OR(I62="b",I62="bs"),E62,)))
A62: 56 | B62: =IF($D62="","",VLOOKUP($D62,'Girls Si Main Draw Prep'!$A$7:$P$70,15)) | C62: =IF($D62="","",VLOOKUP($D62,'Girls Si Main Draw Prep'!$A$7:$P$70,16)) | E62: =UPPER(IF($D62="","",VLOOKUP($D62,'Girls Si Main Draw Prep'!$A$7:$P$70,2))) | F62: =IF($D62="","",VLOOKUP($D62,'Girls Si Main Draw Prep'!$A$7:$P$70,3)) | H62: =IF($D62="","",VLOOKUP($D62,'Girls Si Main Draw Prep'!$A$7:$P$70,4)) | N62: Umpire | P62: =UPPER(IF(OR(O62="a",O62="as"),N58,IF(OR(O62="b",O62="bs"),N66,)))
A63: 57 | B63: =IF($D63="","",VLOOKUP($D63,'Girls Si Main Draw Prep'!$A$7:$P$70,15)) | C63: =IF($D63="","",VLOOKUP($D63,'Girls Si Main Draw Prep'!$A$7:$P$70,16)) | E63: =UPPER(IF($D63="","",VLOOKUP($D63,'Girls Si Main Draw Prep'!$A$7:$P$70,2))) | F63: =IF($D63="","",VLOOKUP($D63,'Girls Si Main Draw Prep'!$A$7:$P$70,3)) | H63: =IF($D63="","",VLOOKUP($D63,'Girls Si Main Draw Prep'!$A$7:$P$70,4)) | J63: =UPPER(IF(OR(I64="a",I64="as"),E63,IF(OR(I64="b",I64="bs"),E64,)))
A64: 58 | B64: =IF($D64="","",VLOOKUP($D64,'Girls Si Main Draw Prep'!$A$7:$P$70,15)) | C64: =IF($D64="","",VLOOKUP($D64,'Girls Si Main Draw Prep'!$A$7:$P$70,16)) | E64: =UPPER(IF($D64="","",VLOOKUP($D64,'Girls Si Main Draw Prep'!$A$7:$P$70,2))) | F64: =IF($D64="","",VLOOKUP($D64,'Girls Si Main Draw Prep'!$A$7:$P$70,3)) | H64: =IF($D64="","",VLOOKUP($D64,'Girls Si Main Draw Prep'!$A$7:$P$70,4)) | L64: =UPPER(IF(OR(K64="a",K64="as"),J63,IF(OR(K64="b",K64="bs"),J65,)))
A65: 59 | B65: =IF($D65="","",VLOOKUP($D65,'Girls Si Main Draw Prep'!$A$7:$P$70,15)) | C65: =IF($D65="","",VLOOKUP($D65,'Girls Si Main Draw Prep'!$A$7:$P$70,16)) | E65: =UPPER(IF($D65="","",VLOOKUP($D65,'Girls Si Main Draw Prep'!$A$7:$P$70,2))) | F65: =IF($D65="","",VLOOKUP($D65,'Girls Si Main Draw Prep'!$A$7:$P$70,3)) | H65: =IF($D65="","",VLOOKUP($D65,'Girls Si Main Draw Prep'!$A$7:$P$70,4)) | J65: =UPPER(IF(OR(I66="a",I66="as"),E65,IF(OR(I66="b",I66="bs"),E66,)))
A66: 60 | B66: =IF($D66="","",VLOOKUP($D66,'Girls Si Main Draw Prep'!$A$7:$P$70,15)) | C66: =IF($D66="","",VLOOKUP($D66,'Girls Si Main Draw Prep'!$A$7:$P$70,16)) | E66: =UPPER(IF($D66="","",VLOOKUP($D66,'Girls Si Main Draw Prep'!$A$7:$P$70,2))) | F66: =IF($D66="","",VLOOKUP($D66,'Girls Si Main Draw Prep'!$A$7:$P$70,3)) | H66: =IF($D66="","",VLOOKUP($D66,'Girls Si Main Draw Prep'!$A$7:$P$70,4)) | L66: Umpire | N66: =UPPER(IF(OR(M66="a",M66="as"),L64,IF(OR(M66="b",M66="bs"),L68,)))
A67: 61 | B67: =IF($D67="","",VLOOKUP($D67,'Girls Si Main Draw Prep'!$A$7:$P$70,15)) | C67: =IF($D67="","",VLOOKUP($D67,'Girls Si Main Draw Prep'!$A$7:$P$70,16)) | E67: =UPPER(IF($D67="","",VLOOKUP($D67,'Girls Si Main Draw Prep'!$A$7:$P$70,2))) | F67: =IF($D67="","",VLOOKUP($D67,'Girls Si Main Draw Prep'!$A$7:$P$70,3)) | H67: =IF($D67="","",VLOOKUP($D67,'Girls Si Main Draw Prep'!$A$7:$P$70,4)) | J67: =UPPER(IF(OR(I68="a",I68="as"),E67,IF(OR(I68="b",I68="bs"),E68,)))
A68: 62 | B68: =IF($D68="","",VLOOKUP($D68,'Girls Si Main Draw Prep'!$A$7:$P$70,15)) | C68: =IF($D68="","",VLOOKUP($D68,'Girls Si Main Draw Prep'!$A$7:$P$70,16)) | E68: =UPPER(IF($D68="","",VLOOKUP($D68,'Girls Si Main Draw Prep'!$A$7:$P$70,2))) | F68: =IF($D68="","",VLOOKUP($D68,'Girls Si Main Draw Prep'!$A$7:$P$70,3)) | H68: =IF($D68="","",VLOOKUP($D68,'Girls Si Main Draw Prep'!$A$7:$P$70,4)) | L68: =UPPER(IF(OR(K68="a",K68="as"),J67,IF(OR(K68="b",K68="bs"),J69,)))
A69: 63 | B69: =IF($D69="","",VLOOKUP($D69,'Girls Si Main Draw Prep'!$A$7:$P$70,15)) | C69: =IF($D69="","",VLOOKUP($D69,'Girls Si Main Draw Prep'!$A$7:$P$70,16)) | E69: =UPPER(IF($D69="","",VLOOKUP($D69,'Girls Si Main Draw Prep'!$A$7:$P$70,2))) | F69: =IF($D69="","",VLOOKUP($D69,'Girls Si Main Draw Prep'!$A$7:$P$70,3)) | H69: =IF($D69="","",VLOOKUP($D69,'Girls Si Main Draw Prep'!$A$7:$P$70,4)) | J69: =UPPER(IF(OR(I70="a",I70="as"),E69,IF(OR(I70="b",I70="bs"),E70,)))
A70: 64 | B70: =IF($D70="","",VLOOKUP($D70,'Girls Si Main Draw Prep'!$A$7:$P$70,15)) | C70: =IF($D70="","",VLOOKUP($D70,'Girls Si Main Draw Prep'!$A$7:$P$70,16)) | E70: =UPPER(IF($D70="","",VLOOKUP($D70,'Girls Si Main Draw Prep'!$A$7:$P$70,2))) | F70: =IF($D70="","",VLOOKUP($D70,'Girls Si Main Draw Prep'!$A$7:$P$70,3)) | H70: =IF($D70="","",VLOOKUP($D70,'Girls Si Main Draw Prep'!$A$7:$P$70,4))
A72: Acc. Ranking | D72: # | E72: Seeded players | F72: # | G72: Seeded players | I72: # | J72: Lucky Losers | L72: Replacing | N72: Draw date/time:
A73: Rkg Date | D73: 1 | E73: =IF(D73>$Q$80,,UPPER(VLOOKUP(D73,'Girls Si Main Draw Prep'!$A$7:$R$134,2))) -> 0 | F73: 9 | G73: =IF(F73>$Q$80,,UPPER(VLOOKUP(F73,'Girls Si Main Draw Prep'!$A$7:$R$134,2))) -> 0 | I73: 1 | N73: Last Accepted player
A74: Top DA | D74: 2 | E74: =IF(D74>$Q$80,,UPPER(VLOOKUP(D74,'Girls Si Main Draw Prep'!$A$7:$R$134,2))) -> 0 | F74: 10 | G74: =IF(F74>$Q$80,,UPPER(VLOOKUP(F74,'Girls Si Main Draw Prep'!$A$7:$R$134,2))) -> 0 | I74: 2
A75: Last DA | D75: 3 | E75: =IF(D75>$Q$80,,UPPER(VLOOKUP(D75,'Girls Si Main Draw Prep'!$A$7:$R$134,2))) -> 0 | F75: 11 | G75: =IF(F75>$Q$80,,UPPER(VLOOKUP(F75,'Girls Si Main Draw Prep'!$A$7:$R$134,2))) -> 0 | I75: 3 | N75: Player representatives
D76: 4 | E76: =IF(D76>$Q$80,,UPPER(VLOOKUP(D76,'Girls Si Main Draw Prep'!$A$7:$R$134,2))) -> 0 | F76: 12 | G76: =IF(F76>$Q$80,,UPPER(VLOOKUP(F76,'Girls Si Main Draw Prep'!$A$7:$R$134,2))) -> 0 | I76: 4
A77: Seed ranking | D77: 5 | E77: =IF(D77>$Q$80,,UPPER(VLOOKUP(D77,'Girls Si Main Draw Prep'!$A$7:$R$134,2))) -> 0 | F77: 13 | G77: =IF(F77>$Q$80,,UPPER(VLOOKUP(F77,'Girls Si Main Draw Prep'!$A$7:$R$134,2))) -> 0 | I77: 5
A78: Rkg Date | D78: 6 | E78: =IF(D78>$Q$80,,UPPER(VLOOKUP(D78,'Girls Si Main Draw Prep'!$A$7:$R$134,2))) -> 0 | F78: 14 | G78: =IF(F78>$Q$80,,UPPER(VLOOKUP(F78,'Girls Si Main Draw Prep'!$A$7:$R$134,2))) -> 0 | I78: 6 | N78: ITF Referee's signature
A79: Top seed | D79: 7 | E79: =IF(D79>$Q$80,,UPPER(VLOOKUP(D79,'Girls Si Main Draw Prep'!$A$7:$R$134,2))) -> 0 | F79: 15 | G79: =IF(F79>$Q$80,,UPPER(VLOOKUP(F79,'Girls Si Main Draw Prep'!$A$7:$R$134,2))) -> 0 | I79: 7
A80: Last seed | D80: 8 | E80: =IF(D80>$Q$80,,UPPER(VLOOKUP(D80,'Girls Si Main Draw Prep'!$A$7:$R$134,2))) -> 0 | F80: 16 | G80: =IF(F80>$Q$80,,UPPER(VLOOKUP(F80,'Girls Si Main Draw Prep'!$A$7:$R$134,2))) -> 0 | I80: 8 | N80: =Q4 -> 0 | Q80: =MIN(16,'Girls Si Main Draw Prep'!R5) -> 0

Sheet Girls Si Main 96&128
A1: ='Week SetUp'!$A$6 -> 0 | J1: GIRLS SINGLES
A2: ='Week SetUp'!$A$8 -> ITF Junior Circuit | J2: MAIN DRAW (96&128)
A3: Week of | F3: City, Country | J3: Group | L3: Tourn. ID | Q3: ITF Referee
A4: ='Week SetUp'!$A$10 -> 0 | F4: ='Week SetUp'!$C$10 -> 0 | J4: ='Week SetUp'!$D$10 -> 0 | L4: ='Week SetUp'!$A$12 -> 0 | Q4: ='Week SetUp'!$E$10 -> 0
B5: St. | C5: Rank | D5: Seed | E5: Family Name | F5: First name | H5: Nationality | J5: 2nd Round | L5: 3rd Round | N5: 4th Round | P5: Quarterfinalists
A7: 1 | B7: =IF($D7="","",VLOOKUP($D7,'Girls Si Main Draw Prep'!$A$7:$P$134,15)) | C7: =IF($D7="","",VLOOKUP($D7,'Girls Si Main Draw Prep'!$A$7:$P$134,16)) | E7: =UPPER(IF($D7="","",VLOOKUP($D7,'Girls Si Main Draw Prep'!$A$7:$P$134,2))) | F7: =IF($D7="","",VLOOKUP($D7,'Girls Si Main Draw Prep'!$A$7:$P$134,3)) | H7: =IF($D7="","",VLOOKUP($D7,'Girls Si Main Draw Prep'!$A$7:$P$134,4)) | J7: =UPPER(IF(OR(I8="a",I8="as"),E7,IF(OR(I8="b",I8="bs"),E8,))) | Q7: Page 1(3) | T7: =#REF! -> #REF!
A8: 2 | B8: =IF($D8="","",VLOOKUP($D8,'Girls Si Main Draw Prep'!$A$7:$P$134,15)) | C8: =IF($D8="","",VLOOKUP($D8,'Girls Si Main Draw Prep'!$A$7:$P$134,16)) | E8: =UPPER(IF($D8="","",VLOOKUP($D8,'Girls Si Main Draw Prep'!$A$7:$P$134,2))) | F8: =IF($D8="","",VLOOKUP($D8,'Girls Si Main Draw Prep'!$A$7:$P$134,3)) | H8: =IF($D8="","",VLOOKUP($D8,'Girls Si Main Draw Prep'!$A$7:$P$134,4)) | L8: =UPPER(IF(OR(K8="a",K8="as"),J7,IF(OR(K8="b",K8="bs"),J9,))) | T8: =#REF! -> #REF!
A9: 3 | B9: =IF($D9="","",VLOOKUP($D9,'Girls Si Main Draw Prep'!$A$7:$P$134,15)) | C9: =IF($D9="","",VLOOKUP($D9,'Girls Si Main Draw Prep'!$A$7:$P$134,16)) | E9: =UPPER(IF($D9="","",VLOOKUP($D9,'Girls Si Main Draw Prep'!$A$7:$P$134,2))) | F9: =IF($D9="","",VLOOKUP($D9,'Girls Si Main Draw Prep'!$A$7:$P$134,3)) | H9: =IF($D9="","",VLOOKUP($D9,'Girls Si Main Draw Prep'!$A$7:$P$134,4)) | J9: =UPPER(IF(OR(I10="a",I10="as"),E9,IF(OR(I10="b",I10="bs"),E10,))) | T9: =#REF! -> #REF!
A10: 4 | B10: =IF($D10="","",VLOOKUP($D10,'Girls Si Main Draw Prep'!$A$7:$P$134,15)) | C10: =IF($D10="","",VLOOKUP($D10,'Girls Si Main Draw Prep'!$A$7:$P$134,16)) | E10: =UPPER(IF($D10="","",VLOOKUP($D10,'Girls Si Main Draw Prep'!$A$7:$P$134,2))) | F10: =IF($D10="","",VLOOKUP($D10,'Girls Si Main Draw Prep'!$A$7:$P$134,3)) | H10: =IF($D10="","",VLOOKUP($D10,'Girls Si Main Draw Prep'!$A$7:$P$134,4)) | L10: Umpire | N10: =UPPER(IF(OR(M10="a",M10="as"),L8,IF(OR(M10="b",M10="bs"),L12,))) | T10: =#REF! -> #REF!
A11: 5 | B11: =IF($D11="","",VLOOKUP($D11,'Girls Si Main Draw Prep'!$A$7:$P$134,15)) | C11: =IF($D11="","",VLOOKUP($D11,'Girls Si Main Draw Prep'!$A$7:$P$134,16)) | E11: =UPPER(IF($D11="","",VLOOKUP($D11,'Girls Si Main Draw Prep'!$A$7:$P$134,2))) | F11: =IF($D11="","",VLOOKUP($D11,'Girls Si Main Draw Prep'!$A$7:$P$134,3)) | H11: =IF($D11="","",VLOOKUP($D11,'Girls Si Main Draw Prep'!$A$7:$P$134,4)) | J11: =UPPER(IF(OR(I12="a",I12="as"),E11,IF(OR(I12="b",I12="bs"),E12,))) | T11: =#REF! -> #REF!
A12: 6 | B12: =IF($D12="","",VLOOKUP($D12,'Girls Si Main Draw Prep'!$A$7:$P$134,15)) | C12: =IF($D12="","",VLOOKUP($D12,'Girls Si Main Draw Prep'!$A$7:$P$134,16)) | E12: =UPPER(IF($D12="","",VLOOKUP($D12,'Girls Si Main Draw Prep'!$A$7:$P$134,2))) | F12: =IF($D12="","",VLOOKUP($D12,'Girls Si Main Draw Prep'!$A$7:$P$134,3)) | H12: =IF($D12="","",VLOOKUP($D12,'Girls Si Main Draw Prep'!$A$7:$P$134,4)) | L12: =UPPER(IF(OR(K12="a",K12="as"),J11,IF(OR(K12="b",K12="bs"),J13,))) | T12: =#REF! -> #REF!
A13: 7 | B13: =IF($D13="","",VLOOKUP($D13,'Girls Si Main Draw Prep'!$A$7:$P$134,15)) | C13: =IF($D13="","",VLOOKUP($D13,'Girls Si Main Draw Prep'!$A$7:$P$134,16)) | E13: =UPPER(IF($D13="","",VLOOKUP($D13,'Girls Si Main Draw Prep'!$A$7:$P$134,2))) | F13: =IF($D13="","",VLOOKUP($D13,'Girls Si Main Draw Prep'!$A$7:$P$134,3)) | H13: =IF($D13="","",VLOOKUP($D13,'Girls Si Main Draw Prep'!$A$7:$P$134,4)) | J13: =UPPER(IF(OR(I14="a",I14="as"),E13,IF(OR(I14="b",I14="bs"),E14,))) | T13: =#REF! -> #REF!
A14: 8 | B14: =IF($D14="","",VLOOKUP($D14,'Girls Si Main Draw Prep'!$A$7:$P$134,15)) | C14: =IF($D14="","",VLOOKUP($D14,'Girls Si Main Draw Prep'!$A$7:$P$134,16)) | E14: =UPPER(IF($D14="","",VLOOKUP($D14,'Girls Si Main Draw Prep'!$A$7:$P$134,2))) | F14: =IF($D14="","",VLOOKUP($D14,'Girls Si Main Draw Prep'!$A$7:$P$134,3)) | H14: =IF($D14="","",VLOOKUP($D14,'Girls Si Main Draw Prep'!$A$7:$P$134,4)) | N14: Umpire | P14: =UPPER(IF(OR(O14="a",O14="as"),N10,IF(OR(O14="b",O14="bs"),N18,))) | T14: =#REF! -> #REF!
A15: 9 | B15: =IF($D15="","",VLOOKUP($D15,'Girls Si Main Draw Prep'!$A$7:$P$134,15)) | C15: =IF($D15="","",VLOOKUP($D15,'Girls Si Main Draw Prep'!$A$7:$P$134,16)) | E15: =UPPER(IF($D15="","",VLOOKUP($D15,'Girls Si Main Draw Prep'!$A$7:$P$134,2))) | F15: =IF($D15="","",VLOOKUP($D15,'Girls Si Main Draw Prep'!$A$7:$P$134,3)) | H15: =IF($D15="","",VLOOKUP($D15,'Girls Si Main Draw Prep'!$A$7:$P$134,4)) | J15: =UPPER(IF(OR(I16="a",I16="as"),E15,IF(OR(I16="b",I16="bs"),E16,))) | T15: =#REF! -> #REF!
A16: 10 | B16: =IF($D16="","",VLOOKUP($D16,'Girls Si Main Draw Prep'!$A$7:$P$134,15)) | C16: =IF($D16="","",VLOOKUP($D16,'Girls Si Main Draw Prep'!$A$7:$P$134,16)) | E16: =UPPER(IF($D16="","",VLOOKUP($D16,'Girls Si Main Draw Prep'!$A$7:$P$134,2))) | F16: =IF($D16="","",VLOOKUP($D16,'Girls Si Main Draw Prep'!$A$7:$P$134,3)) | H16: =IF($D16="","",VLOOKUP($D16,'Girls Si Main Draw Prep'!$A$7:$P$134,4)) | L16: =UPPER(IF(OR(K16="a",K16="as"),J15,IF(OR(K16="b",K16="bs"),J17,))) | T16: =#REF! -> #REF!
A17: 11 | B17: =IF($D17="","",VLOOKUP($D17,'Girls Si Main Draw Prep'!$A$7:$P$134,15)) | C17: =IF($D17="","",VLOOKUP($D17,'Girls Si Main Draw Prep'!$A$7:$P$134,16)) | E17: =UPPER(IF($D17="","",VLOOKUP($D17,'Girls Si Main Draw Prep'!$A$7:$P$134,2))) | F17: =IF($D17="","",VLOOKUP($D17,'Girls Si Main Draw Prep'!$A$7:$P$134,3)) | H17: =IF($D17="","",VLOOKUP($D17,'Girls Si Main Draw Prep'!$A$7:$P$134,4)) | J17: =UPPER(IF(OR(I18="a",I18="as"),E17,IF(OR(I18="b",I18="bs"),E18,)))
A18: 12 | B18: =IF($D18="","",VLOOKUP($D18,'Girls Si Main Draw Prep'!$A$7:$P$134,15)) | C18: =IF($D18="","",VLOOKUP($D18,'Girls Si Main Draw Prep'!$A$7:$P$134,16)) | E18: =UPPER(IF($D18="","",VLOOKUP($D18,'Girls Si Main Draw Prep'!$A$7:$P$134,2))) | F18: =IF($D18="","",VLOOKUP($D18,'Girls Si Main Draw Prep'!$A$7:$P$134,3)) | H18: =IF($D18="","",VLOOKUP($D18,'Girls Si Main Draw Prep'!$A$7:$P$134,4)) | L18: Umpire | N18: =UPPER(IF(OR(M18="a",M18="as"),L16,IF(OR(M18="b",M18="bs"),L20,)))
A19: 13 | B19: =IF($D19="","",VLOOKUP($D19,'Girls Si Main Draw Prep'!$A$7:$P$134,15)) | C19: =IF($D19="","",VLOOKUP($D19,'Girls Si Main Draw Prep'!$A$7:$P$134,16)) | E19: =UPPER(IF($D19="","",VLOOKUP($D19,'Girls Si Main Draw Prep'!$A$7:$P$134,2))) | F19: =IF($D19="","",VLOOKUP($D19,'Girls Si Main Draw Prep'!$A$7:$P$134,3)) | H19: =IF($D19="","",VLOOKUP($D19,'Girls Si Main Draw Prep'!$A$7:$P$134,4)) | J19: =UPPER(IF(OR(I20="a",I20="as"),E19,IF(OR(I20="b",I20="bs"),E20,)))
A20: 14 | B20: =IF($D20="","",VLOOKUP($D20,'Girls Si Main Draw Prep'!$A$7:$P$134,15)) | C20: =IF($D20="","",VLOOKUP($D20,'Girls Si Main Draw Prep'!$A$7:$P$134,16)) | E20: =UPPER(IF($D20="","",VLOOKUP($D20,'Girls Si Main Draw Prep'!$A$7:$P$134,2))) | F20: =IF($D20="","",VLOOKUP($D20,'Girls Si Main Draw Prep'!$A$7:$P$134,3)) | H20: =IF($D20="","",VLOOKUP($D20,'Girls Si Main Draw Prep'!$A$7:$P$134,4)) | L20: =UPPER(IF(OR(K20="a",K20="as"),J19,IF(OR(K20="b",K20="bs"),J21,)))
A21: 15 | B21: =IF($D21="","",VLOOKUP($D21,'Girls Si Main Draw Prep'!$A$7:$P$134,15)) | C21: =IF($D21="","",VLOOKUP($D21,'Girls Si Main Draw Prep'!$A$7:$P$134,16)) | E21: =UPPER(IF($D21="","",VLOOKUP($D21,'Girls Si Main Draw Prep'!$A$7:$P$134,2))) | F21: =IF($D21="","",VLOOKUP($D21,'Girls Si Main Draw Prep'!$A$7:$P$134,3)) | H21: =IF($D21="","",VLOOKUP($D21,'Girls Si Main Draw Prep'!$A$7:$P$134,4)) | J21: =UPPER(IF(OR(I22="a",I22="as"),E21,IF(OR(I22="b",I22="bs"),E22,)))
A22: 16 | B22: =IF($D22="","",VLOOKUP($D22,'Girls Si Main Draw Prep'!$A$7:$P$134,15)) | C22: =IF($D22="","",VLOOKUP($D22,'Girls Si Main Draw Prep'!$A$7:$P$134,16)) | E22: =UPPER(IF($D22="","",VLOOKUP($D22,'Girls Si Main Draw Prep'!$A$7:$P$134,2))) | F22: =IF($D22="","",VLOOKUP($D22,'Girls Si Main Draw Prep'!$A$7:$P$134,3)) | H22: =IF($D22="","",VLOOKUP($D22,'Girls Si Main Draw Prep'!$A$7:$P$134,4))
A23: 17 | B23: =IF($D23="","",VLOOKUP($D23,'Girls Si Main Draw Prep'!$A$7:$P$134,15)) | C23: =IF($D23="","",VLOOKUP($D23,'Girls Si Main Draw Prep'!$A$7:$P$134,16)) | E23: =UPPER(IF($D23="","",VLOOKUP($D23,'Girls Si Main Draw Prep'!$A$7:$P$134,2))) | F23: =IF($D23="","",VLOOKUP($D23,'Girls Si Main Draw Prep'!$A$7:$P$134,3)) | H23: =IF($D23="","",VLOOKUP($D23,'Girls Si Main Draw Prep'!$A$7:$P$134,4)) | J23: =UPPER(IF(OR(I24="a",I24="as"),E23,IF(OR(I24="b",I24="bs"),E24,)))
A24: 18 | B24: =IF($D24="","",VLOOKUP($D24,'Girls Si Main Draw Prep'!$A$7:$P$134,15)) | C24: =IF($D24="","",VLOOKUP($D24,'Girls Si Main Draw Prep'!$A$7:$P$134,16)) | E24: =UPPER(IF($D24="","",VLOOKUP($D24,'Girls Si Main Draw Prep'!$A$7:$P$134,2))) | F24: =IF($D24="","",VLOOKUP($D24,'Girls Si Main Draw Prep'!$A$7:$P$134,3)) | H24: =IF($D24="","",VLOOKUP($D24,'Girls Si Main Draw Prep'!$A$7:$P$134,4)) | L24: =UPPER(IF(OR(K24="a",K24="as"),J23,IF(OR(K24="b",K24="bs"),J25,)))
A25: 19 | B25: =IF($D25="","",VLOOKUP($D25,'Girls Si Main Draw Prep'!$A$7:$P$134,15)) | C25: =IF($D25="","",VLOOKUP($D25,'Girls Si Main Draw Prep'!$A$7:$P$134,16)) | E25: =UPPER(IF($D25="","",VLOOKUP($D25,'Girls Si Main Draw Prep'!$A$7:$P$134,2))) | F25: =IF($D25="","",VLOOKUP($D25,'Girls Si Main Draw Prep'!$A$7:$P$134,3)) | H25: =IF($D25="","",VLOOKUP($D25,'Girls Si Main Draw Prep'!$A$7:$P$134,4)) | J25: =UPPER(IF(OR(I26="a",I26="as"),E25,IF(OR(I26="b",I26="bs"),E26,)))
A26: 20 | B26: =IF($D26="","",VLOOKUP($D26,'Girls Si Main Draw Prep'!$A$7:$P$134,15)) | C26: =IF($D26="","",VLOOKUP($D26,'Girls Si Main Draw Prep'!$A$7:$P$134,16)) | E26: =UPPER(IF($D26="","",VLOOKUP($D26,'Girls Si Main Draw Prep'!$A$7:$P$134,2))) | F26: =IF($D26="","",VLOOKUP($D26,'Girls Si Main Draw Prep'!$A$7:$P$134,3)) | H26: =IF($D26="","",VLOOKUP($D26,'Girls Si Main Draw Prep'!$A$7:$P$134,4)) | L26: Umpire | N26: =UPPER(IF(OR(M26="a",M26="as"),L24,IF(OR(M26="b",M26="bs"),L28,)))
A27: 21 | B27: =IF($D27="","",VLOOKUP($D27,'Girls Si Main Draw Prep'!$A$7:$P$134,15)) | C27: =IF($D27="","",VLOOKUP($D27,'Girls Si Main Draw Prep'!$A$7:$P$134,16)) | E27: =UPPER(IF($D27="","",VLOOKUP($D27,'Girls Si Main Draw Prep'!$A$7:$P$134,2))) | F27: =IF($D27="","",VLOOKUP($D27,'Girls Si Main Draw Prep'!$A$7:$P$134,3)) | H27: =IF($D27="","",VLOOKUP($D27,'Girls Si Main Draw Prep'!$A$7:$P$134,4)) | J27: =UPPER(IF(OR(I28="a",I28="as"),E27,IF(OR(I28="b",I28="bs"),E28,)))
A28: 22 | B28: =IF($D28="","",VLOOKUP($D28,'Girls Si Main Draw Prep'!$A$7:$P$134,15)) | C28: =IF($D28="","",VLOOKUP($D28,'Girls Si Main Draw Prep'!$A$7:$P$134,16)) | E28: =UPPER(IF($D28="","",VLOOKUP($D28,'Girls Si Main Draw Prep'!$A$7:$P$134,2))) | F28: =IF($D28="","",VLOOKUP($D28,'Girls Si Main Draw Prep'!$A$7:$P$134,3)) | H28: =IF($D28="","",VLOOKUP($D28,'Girls Si Main Draw Prep'!$A$7:$P$134,4)) | L28: =UPPER(IF(OR(K28="a",K28="as"),J27,IF(OR(K28="b",K28="bs"),J29,)))
A29: 23 | B29: =IF($D29="","",VLOOKUP($D29,'Girls Si Main Draw Prep'!$A$7:$P$134,15)) | C29: =IF($D29="","",VLOOKUP($D29,'Girls Si Main Draw Prep'!$A$7:$P$134,16)) | E29: =UPPER(IF($D29="","",VLOOKUP($D29,'Girls Si Main Draw Prep'!$A$7:$P$134,2))) | F29: =IF($D29="","",VLOOKUP($D29,'Girls Si Main Draw Prep'!$A$7:$P$134,3)) | H29: =IF($D29="","",VLOOKUP($D29,'Girls Si Main Draw Prep'!$A$7:$P$134,4)) | J29: =UPPER(IF(OR(I30="a",I30="as"),E29,IF(OR(I30="b",I30="bs"),E30,)))
A30: 24 | B30: =IF($D30="","",VLOOKUP($D30,'Girls Si Main Draw Prep'!$A$7:$P$134,15)) | C30: =IF($D30="","",VLOOKUP($D30,'Girls Si Main Draw Prep'!$A$7:$P$134,16)) | E30: =UPPER(IF($D30="","",VLOOKUP($D30,'Girls Si Main Draw Prep'!$A$7:$P$134,2))) | F30: =IF($D30="","",VLOOKUP($D30,'Girls Si Main Draw Prep'!$A$7:$P$134,3)) | H30: =IF($D30="","",VLOOKUP($D30,'Girls Si Main Draw Prep'!$A$7:$P$134,4)) | N30: Umpire | P30: =UPPER(IF(OR(O30="a",O30="as"),N26,IF(OR(O30="b",O30="bs"),N34,)))
A31: 25 | B31: =IF($D31="","",VLOOKUP($D31,'Girls Si Main Draw Prep'!$A$7:$P$134,15)) | C31: =IF($D31="","",VLOOKUP($D31,'Girls Si Main Draw Prep'!$A$7:$P$134,16)) | E31: =UPPER(IF($D31="","",VLOOKUP($D31,'Girls Si Main Draw Prep'!$A$7:$P$134,2))) | F31: =IF($D31="","",VLOOKUP($D31,'Girls Si Main Draw Prep'!$A$7:$P$134,3)) | H31: =IF($D31="","",VLOOKUP($D31,'Girls Si Main Draw Prep'!$A$7:$P$134,4)) | J31: =UPPER(IF(OR(I32="a",I32="as"),E31,IF(OR(I32="b",I32="bs"),E32,)))
A32: 26 | B32: =IF($D32="","",VLOOKUP($D32,'Girls Si Main Draw Prep'!$A$7:$P$134,15)) | C32: =IF($D32="","",VLOOKUP($D32,'Girls Si Main Draw Prep'!$A$7:$P$134,16)) | E32: =UPPER(IF($D32="","",VLOOKUP($D32,'Girls Si Main Draw Prep'!$A$7:$P$134,2))) | F32: =IF($D32="","",VLOOKUP($D32,'Girls Si Main Draw Prep'!$A$7:$P$134,3)) | H32: =IF($D32="","",VLOOKUP($D32,'Girls Si Main Draw Prep'!$A$7:$P$134,4)) | L32: =UPPER(IF(OR(K32="a",K32="as"),J31,IF(OR(K32="b",K32="bs"),J33,)))
A33: 27 | B33: =IF($D33="","",VLOOKUP($D33,'Girls Si Main Draw Prep'!$A$7:$P$134,15)) | C33: =IF($D33="","",VLOOKUP($D33,'Girls Si Main Draw Prep'!$A$7:$P$134,16)) | E33: =UPPER(IF($D33="","",VLOOKUP($D33,'Girls Si Main Draw Prep'!$A$7:$P$134,2))) | F33: =IF($D33="","",VLOOKUP($D33,'Girls Si Main Draw Prep'!$A$7:$P$134,3)) | H33: =IF($D33="","",VLOOKUP($D33,'Girls Si Main Draw Prep'!$A$7:$P$134,4)) | J33: =UPPER(IF(OR(I34="a",I34="as"),E33,IF(OR(I34="b",I34="bs"),E34,)))
A34: 28 | B34: =IF($D34="","",VLOOKUP($D34,'Girls Si Main Draw Prep'!$A$7:$P$134,15)) | C34: =IF($D34="","",VLOOKUP($D34,'Girls Si Main Draw Prep'!$A$7:$P$134,16)) | E34: =UPPER(IF($D34="","",VLOOKUP($D34,'Girls Si Main Draw Prep'!$A$7:$P$134,2))) | F34: =IF($D34="","",VLOOKUP($D34,'Girls Si Main Draw Prep'!$A$7:$P$134,3)) | H34: =IF($D34="","",VLOOKUP($D34,'Girls Si Main Draw Prep'!$A$7:$P$134,4)) | L34: Umpire | N34: =UPPER(IF(OR(M34="a",M34="as"),L32,IF(OR(M34="b",M34="bs"),L36,)))
A35: 29 | B35: =IF($D35="","",VLOOKUP($D35,'Girls Si Main Draw Prep'!$A$7:$P$134,15)) | C35: =IF($D35="","",VLOOKUP($D35,'Girls Si Main Draw Prep'!$A$7:$P$134,16)) | E35: =UPPER(IF($D35="","",VLOOKUP($D35,'Girls Si Main Draw Prep'!$A$7:$P$134,2))) | F35: =IF($D35="","",VLOOKUP($D35,'Girls Si Main Draw Prep'!$A$7:$P$134,3)) | H35: =IF($D35="","",VLOOKUP($D35,'Girls Si Main Draw Prep'!$A$7:$P$134,4)) | J35: =UPPER(IF(OR(I36="a",I36="as"),E35,IF(OR(I36="b",I36="bs"),E36,)))
A36: 30 | B36: =IF($D36="","",VLOOKUP($D36,'Girls Si Main Draw Prep'!$A$7:$P$134,15)) | C36: =IF($D36="","",VLOOKUP($D36,'Girls Si Main Draw Prep'!$A$7:$P$134,16)) | E36: =UPPER(IF($D36="","",VLOOKUP($D36,'Girls Si Main Draw Prep'!$A$7:$P$134,2))) | F36: =IF($D36="","",VLOOKUP($D36,'Girls Si Main Draw Prep'!$A$7:$P$134,3)) | H36: =IF($D36="","",VLOOKUP($D36,'Girls Si Main Draw Prep'!$A$7:$P$134,4)) | L36: =UPPER(IF(OR(K36="a",K36="as"),J35,IF(OR(K36="b",K36="bs"),J37,)))
A37: 31 | B37: =IF($D37="","",VLOOKUP($D37,'Girls Si Main Draw Prep'!$A$7:$P$134,15)) | C37: =IF($D37="","",VLOOKUP($D37,'Girls Si Main Draw Prep'!$A$7:$P$134,16)) | E37: =UPPER(IF($D37="","",VLOOKUP($D37,'Girls Si Main Draw Prep'!$A$7:$P$134,2))) | F37: =IF($D37="","",VLOOKUP($D37,'Girls Si Main Draw Prep'!$A$7:$P$134,3)) | H37: =IF($D37="","",VLOOKUP($D37,'Girls Si Main Draw Prep'!$A$7:$P$134,4)) | J37: =UPPER(IF(OR(I38="a",I38="as"),E37,IF(OR(I38="b",I38="bs"),E38,)))
A38: 32 | B38: =IF($D38="","",VLOOKUP($D38,'Girls Si Main Draw Prep'!$A$7:$P$134,15)) | C38: =IF($D38="","",VLOOKUP($D38,'Girls Si Main Draw Prep'!$A$7:$P$134,16)) | E38: =UPPER(IF($D38="","",VLOOKUP($D38,'Girls Si Main Draw Prep'!$A$7:$P$134,2))) | F38: =IF($D38="","",VLOOKUP($D38,'Girls Si Main Draw Prep'!$A$7:$P$134,3)) | H38: =IF($D38="","",VLOOKUP($D38,'Girls Si Main Draw Prep'!$A$7:$P$134,4))
A39: 33 | B39: =IF($D39="","",VLOOKUP($D39,'Girls Si Main Draw Prep'!$A$7:$P$134,15)) | C39: =IF($D39="","",VLOOKUP($D39,'Girls Si Main Draw Prep'!$A$7:$P$134,16)) | E39: =UPPER(IF($D39="","",VLOOKUP($D39,'Girls Si Main Draw Prep'!$A$7:$P$134,2))) | F39: =IF($D39="","",VLOOKUP($D39,'Girls Si Main Draw Prep'!$A$7:$P$134,3)) | H39: =IF($D39="","",VLOOKUP($D39,'Girls Si Main Draw Prep'!$A$7:$P$134,4)) | J39: =UPPER(IF(OR(I40="a",I40="as"),E39,IF(OR(I40="b",I40="bs"),E40,)))
A40: 34 | B40: =IF($D40="","",VLOOKUP($D40,'Girls Si Main Draw Prep'!$A$7:$P$134,15)) | C40: =IF($D40="","",VLOOKUP($D40,'Girls Si Main Draw Prep'!$A$7:$P$134,16)) | E40: =UPPER(IF($D40="","",VLOOKUP($D40,'Girls Si Main Draw Prep'!$A$7:$P$134,2))) | F40: =IF($D40="","",VLOOKUP($D40,'Girls Si Main Draw Prep'!$A$7:$P$134,3)) | H40: =IF($D40="","",VLOOKUP($D40,'Girls Si Main Draw Prep'!$A$7:$P$134,4)) | L40: =UPPER(IF(OR(K40="a",K40="as"),J39,IF(OR(K40="b",K40="bs"),J41,)))
A41: 35 | B41: =IF($D41="","",VLOOKUP($D41,'Girls Si Main Draw Prep'!$A$7:$P$134,15)) | C41: =IF($D41="","",VLOOKUP($D41,'Girls Si Main Draw Prep'!$A$7:$P$134,16)) | E41: =UPPER(IF($D41="","",VLOOKUP($D41,'Girls Si Main Draw Prep'!$A$7:$P$134,2))) | F41: =IF($D41="","",VLOOKUP($D41,'Girls Si Main Draw Prep'!$A$7:$P$134,3)) | H41: =IF($D41="","",VLOOKUP($D41,'Girls Si Main Draw Prep'!$A$7:$P$134,4)) | J41: =UPPER(IF(OR(I42="a",I42="as"),E41,IF(OR(I42="b",I42="bs"),E42,)))
A42: 36 | B42: =IF($D42="","",VLOOKUP($D42,'Girls Si Main Draw Prep'!$A$7:$P$134,15)) | C42: =IF($D42="","",VLOOKUP($D42,'Girls Si Main Draw Prep'!$A$7:$P$134,16)) | E42: =UPPER(IF($D42="","",VLOOKUP($D42,'Girls Si Main Draw Prep'!$A$7:$P$134,2))) | F42: =IF($D42="","",VLOOKUP($D42,'Girls Si Main Draw Prep'!$A$7:$P$134,3)) | H42: =IF($D42="","",VLOOKUP($D42,'Girls Si Main Draw Prep'!$A$7:$P$134,4)) | L42: Umpire | N42: =UPPER(IF(OR(M42="a",M42="as"),L40,IF(OR(M42="b",M42="bs"),L44,)))
A43: 37 | B43: =IF($D43="","",VLOOKUP($D43,'Girls Si Main Draw Prep'!$A$7:$P$134,15)) | C43: =IF($D43="","",VLOOKUP($D43,'Girls Si Main Draw Prep'!$A$7:$P$134,16)) | E43: =UPPER(IF($D43="","",VLOOKUP($D43,'Girls Si Main Draw Prep'!$A$7:$P$134,2))) | F43: =IF($D43="","",VLOOKUP($D43,'Girls Si Main Draw Prep'!$A$7:$P$134,3)) | H43: =IF($D43="","",VLOOKUP($D43,'Girls Si Main Draw Prep'!$A$7:$P$134,4)) | J43: =UPPER(IF(OR(I44="a",I44="as"),E43,IF(OR(I44="b",I44="bs"),E44,)))
A44: 38 | B44: =IF($D44="","",VLOOKUP($D44,'Girls Si Main Draw Prep'!$A$7:$P$134,15)) | C44: =IF($D44="","",VLOOKUP($D44,'Girls Si Main Draw Prep'!$A$7:$P$134,16)) | E44: =UPPER(IF($D44="","",VLOOKUP($D44,'Girls Si Main Draw Prep'!$A$7:$P$134,2))) | F44: =IF($D44="","",VLOOKUP($D44,'Girls Si Main Draw Prep'!$A$7:$P$134,3)) | H44: =IF($D44="","",VLOOKUP($D44,'Girls Si Main Draw Prep'!$A$7:$P$134,4)) | L44: =UPPER(IF(OR(K44="a",K44="as"),J43,IF(OR(K44="b",K44="bs"),J45,)))
A45: 39 | B45: =IF($D45="","",VLOOKUP($D45,'Girls Si Main Draw Prep'!$A$7:$P$134,15)) | C45: =IF($D45="","",VLOOKUP($D45,'Girls Si Main Draw Prep'!$A$7:$P$134,16)) | E45: =UPPER(IF($D45="","",VLOOKUP($D45,'Girls Si Main Draw Prep'!$A$7:$P$134,2))) | F45: =IF($D45="","",VLOOKUP($D45,'Girls Si Main Draw Prep'!$A$7:$P$134,3)) | H45: =IF($D45="","",VLOOKUP($D45,'Girls Si Main Draw Prep'!$A$7:$P$134,4)) | J45: =UPPER(IF(OR(I46="a",I46="as"),E45,IF(OR(I46="b",I46="bs"),E46,)))
A46: 40 | B46: =IF($D46="","",VLOOKUP($D46,'Girls Si Main Draw Prep'!$A$7:$P$134,15)) | C46: =IF($D46="","",VLOOKUP($D46,'Girls Si Main Draw Prep'!$A$7:$P$134,16)) | E46: =UPPER(IF($D46="","",VLOOKUP($D46,'Girls Si Main Draw Prep'!$A$7:$P$134,2))) | F46: =IF($D46="","",VLOOKUP($D46,'Girls Si Main Draw Prep'!$A$7:$P$134,3)) | H46: =IF($D46="","",VLOOKUP($D46,'Girls Si Main Draw Prep'!$A$7:$P$134,4)) | N46: Umpire | P46: =UPPER(IF(OR(O46="a",O46="as"),N42,IF(OR(O46="b",O46="bs"),N50,)))
A47: 41 | B47: =IF($D47="","",VLOOKUP($D47,'Girls Si Main Draw Prep'!$A$7:$P$134,15)) | C47: =IF($D47="","",VLOOKUP($D47,'Girls Si Main Draw Prep'!$A$7:$P$134,16)) | E47: =UPPER(IF($D47="","",VLOOKUP($D47,'Girls Si Main Draw Prep'!$A$7:$P$134,2))) | F47: =IF($D47="","",VLOOKUP($D47,'Girls Si Main Draw Prep'!$A$7:$P$134,3)) | H47: =IF($D47="","",VLOOKUP($D47,'Girls Si Main Draw Prep'!$A$7:$P$134,4)) | J47: =UPPER(IF(OR(I48="a",I48="as"),E47,IF(OR(I48="b",I48="bs"),E48,)))
A48: 42 | B48: =IF($D48="","",VLOOKUP($D48,'Girls Si Main Draw Prep'!$A$7:$P$134,15)) | C48: =IF($D48="","",VLOOKUP($D48,'Girls Si Main Draw Prep'!$A$7:$P$134,16)) | E48: =UPPER(IF($D48="","",VLOOKUP($D48,'Girls Si Main Draw Prep'!$A$7:$P$134,2))) | F48: =IF($D48="","",VLOOKUP($D48,'Girls Si Main Draw Prep'!$A$7:$P$134,3)) | H48: =IF($D48="","",VLOOKUP($D48,'Girls Si Main Draw Prep'!$A$7:$P$134,4)) | L48: =UPPER(IF(OR(K48="a",K48="as"),J47,IF(OR(K48="b",K48="bs"),J49,)))
A49: 43 | B49: =IF($D49="","",VLOOKUP($D49,'Girls Si Main Draw Prep'!$A$7:$P$134,15)) | C49: =IF($D49="","",VLOOKUP($D49,'Girls Si Main Draw Prep'!$A$7:$P$134,16)) | E49: =UPPER(IF($D49="","",VLOOKUP($D49,'Girls Si Main Draw Prep'!$A$7:$P$134,2))) | F49: =IF($D49="","",VLOOKUP($D49,'Girls Si Main Draw Prep'!$A$7:$P$134,3)) | H49: =IF($D49="","",VLOOKUP($D49,'Girls Si Main Draw Prep'!$A$7:$P$134,4)) | J49: =UPPER(IF(OR(I50="a",I50="as"),E49,IF(OR(I50="b",I50="bs"),E50,)))
A50: 44 | B50: =IF($D50="","",VLOOKUP($D50,'Girls Si Main Draw Prep'!$A$7:$P$134,15)) | C50: =IF($D50="","",VLOOKUP($D50,'Girls Si Main Draw Prep'!$A$7:$P$134,16)) | E50: =UPPER(IF($D50="","",VLOOKUP($D50,'Girls Si Main Draw Prep'!$A$7:$P$134,2))) | F50: =IF($D50="","",VLOOKUP($D50,'Girls Si Main Draw Prep'!$A$7:$P$134,3)) | H50: =IF($D50="","",VLOOKUP($D50,'Girls Si Main Draw Prep'!$A$7:$P$134,4)) | L50: Umpire | N50: =UPPER(IF(OR(M50="a",M50="as"),L48,IF(OR(M50="b",M50="bs"),L52,)))
A51: 45 | B51: =IF($D51="","",VLOOKUP($D51,'Girls Si Main Draw Prep'!$A$7:$P$134,15)) | C51: =IF($D51="","",VLOOKUP($D51,'Girls Si Main Draw Prep'!$A$7:$P$134,16)) | E51: =UPPER(IF($D51="","",VLOOKUP($D51,'Girls Si Main Draw Prep'!$A$7:$P$134,2))) | F51: =IF($D51="","",VLOOKUP($D51,'Girls Si Main Draw Prep'!$A$7:$P$134,3)) | H51: =IF($D51="","",VLOOKUP($D51,'Girls Si Main Draw Prep'!$A$7:$P$134,4)) | J51: =UPPER(IF(OR(I52="a",I52="as"),E51,IF(OR(I52="b",I52="bs"),E52,)))
A52: 46 | B52: =IF($D52="","",VLOOKUP($D52,'Girls Si Main Draw Prep'!$A$7:$P$134,15)) | C52: =IF($D52="","",VLOOKUP($D52,'Girls Si Main Draw Prep'!$A$7:$P$134,16)) | E52: =UPPER(IF($D52="","",VLOOKUP($D52,'Girls Si Main Draw Prep'!$A$7:$P$134,2))) | F52: =IF($D52="","",VLOOKUP($D52,'Girls Si Main Draw Prep'!$A$7:$P$134,3)) | H52: =IF($D52="","",VLOOKUP($D52,'Girls Si Main Draw Prep'!$A$7:$P$134,4)) | L52: =UPPER(IF(OR(K52="a",K52="as"),J51,IF(OR(K52="b",K52="bs"),J53,)))
A53: 47 | B53: =IF($D53="","",VLOOKUP($D53,'Girls Si Main Draw Prep'!$A$7:$P$134,15)) | C53: =IF($D53="","",VLOOKUP($D53,'Girls Si Main Draw Prep'!$A$7:$P$134,16)) | E53: =UPPER(IF($D53="","",VLOOKUP($D53,'Girls Si Main Draw Prep'!$A$7:$P$134,2))) | F53: =IF($D53="","",VLOOKUP($D53,'Girls Si Main Draw Prep'!$A$7:$P$134,3)) | H53: =IF($D53="","",VLOOKUP($D53,'Girls Si Main Draw Prep'!$A$7:$P$134,4)) | J53: =UPPER(IF(OR(I54="a",I54="as"),E53,IF(OR(I54="b",I54="bs"),E54,)))
A54: 48 | B54: =IF($D54="","",VLOOKUP($D54,'Girls Si Main Draw Prep'!$A$7:$P$134,15)) | C54: =IF($D54="","",VLOOKUP($D54,'Girls Si Main Draw Prep'!$A$7:$P$134,16)) | E54: =UPPER(IF($D54="","",VLOOKUP($D54,'Girls Si Main Draw Prep'!$A$7:$P$134,2))) | F54: =IF($D54="","",VLOOKUP($D54,'Girls Si Main Draw Prep'!$A$7:$P$134,3)) | H54: =IF($D54="","",VLOOKUP($D54,'Girls Si Main Draw Prep'!$A$7:$P$134,4))
A55: 49 | B55: =IF($D55="","",VLOOKUP($D55,'Girls Si Main Draw Prep'!$A$7:$P$134,15)) | C55: =IF($D55="","",VLOOKUP($D55,'Girls Si Main Draw Prep'!$A$7:$P$134,16)) | E55: =UPPER(IF($D55="","",VLOOKUP($D55,'Girls Si Main Draw Prep'!$A$7:$P$134,2))) | F55: =IF($D55="","",VLOOKUP($D55,'Girls Si Main Draw Prep'!$A$7:$P$134,3)) | H55: =IF($D55="","",VLOOKUP($D55,'Girls Si Main Draw Prep'!$A$7:$P$134,4)) | J55: =UPPER(IF(OR(I56="a",I56="as"),E55,IF(OR(I56="b",I56="bs"),E56,)))
A56: 50 | B56: =IF($D56="","",VLOOKUP($D56,'Girls Si Main Draw Prep'!$A$7:$P$134,15)) | C56: =IF($D56="","",VLOOKUP($D56,'Girls Si Main Draw Prep'!$A$7:$P$134,16)) | E56: =UPPER(IF($D56="","",VLOOKUP($D56,'Girls Si Main Draw Prep'!$A$7:$P$134,2))) | F56: =IF($D56="","",VLOOKUP($D56,'Girls Si Main Draw Prep'!$A$7:$P$134,3)) | H56: =IF($D56="","",VLOOKUP($D56,'Girls Si Main Draw Prep'!$A$7:$P$134,4)) | L56: =UPPER(IF(OR(K56="a",K56="as"),J55,IF(OR(K56="b",K56="bs"),J57,)))
A57: 51 | B57: =IF($D57="","",VLOOKUP($D57,'Girls Si Main Draw Prep'!$A$7:$P$134,15)) | C57: =IF($D57="","",VLOOKUP($D57,'Girls Si Main Draw Prep'!$A$7:$P$134,16)) | E57: =UPPER(IF($D57="","",VLOOKUP($D57,'Girls Si Main Draw Prep'!$A$7:$P$134,2))) | F57: =IF($D57="","",VLOOKUP($D57,'Girls Si Main Draw Prep'!$A$7:$P$134,3)) | H57: =IF($D57="","",VLOOKUP($D57,'Girls Si Main Draw Prep'!$A$7:$P$134,4)) | J57: =UPPER(IF(OR(I58="a",I58="as"),E57,IF(OR(I58="b",I58="bs"),E58,)))
A58: 52 | B58: =IF($D58="","",VLOOKUP($D58,'Girls Si Main Draw Prep'!$A$7:$P$134,15)) | C58: =IF($D58="","",VLOOKUP($D58,'Girls Si Main Draw Prep'!$A$7:$P$134,16)) | E58: =UPPER(IF($D58="","",VLOOKUP($D58,'Girls Si Main Draw Prep'!$A$7:$P$134,2))) | F58: =IF($D58="","",VLOOKUP($D58,'Girls Si Main Draw Prep'!$A$7:$P$134,3)) | H58: =IF($D58="","",VLOOKUP($D58,'Girls Si Main Draw Prep'!$A$7:$P$134,4)) | L58: Umpire | N58: =UPPER(IF(OR(M58="a",M58="as"),L56,IF(OR(M58="b",M58="bs"),L60,)))
A59: 53 | B59: =IF($D59="","",VLOOKUP($D59,'Girls Si Main Draw Prep'!$A$7:$P$134,15)) | C59: =IF($D59="","",VLOOKUP($D59,'Girls Si Main Draw Prep'!$A$7:$P$134,16)) | E59: =UPPER(IF($D59="","",VLOOKUP($D59,'Girls Si Main Draw Prep'!$A$7:$P$134,2))) | F59: =IF($D59="","",VLOOKUP($D59,'Girls Si Main Draw Prep'!$A$7:$P$134,3)) | H59: =IF($D59="","",VLOOKUP($D59,'Girls Si Main Draw Prep'!$A$7:$P$134,4)) | J59: =UPPER(IF(OR(I60="a",I60="as"),E59,IF(OR(I60="b",I60="bs"),E60,)))
A60: 54 | B60: =IF($D60="","",VLOOKUP($D60,'Girls Si Main Draw Prep'!$A$7:$P$134,15)) | C60: =IF($D60="","",VLOOKUP($D60,'Girls Si Main Draw Prep'!$A$7:$P$134,16)) | E60: =UPPER(IF($D60="","",VLOOKUP($D60,'Girls Si Main Draw Prep'!$A$7:$P$134,2))) | F60: =IF($D60="","",VLOOKUP($D60,'Girls Si Main Draw Prep'!$A$7:$P$134,3)) | H60: =IF($D60="","",VLOOKUP($D60,'Girls Si Main Draw Prep'!$A$7:$P$134,4)) | L60: =UPPER(IF(OR(K60="a",K60="as"),J59,IF(OR(K60="b",K60="bs"),J61,)))
A61: 55 | B61: =IF($D61="","",VLOOKUP($D61,'Girls Si Main Draw Prep'!$A$7:$P$134,15)) | C61: =IF($D61="","",VLOOKUP($D61,'Girls Si Main Draw Prep'!$A$7:$P$134,16)) | E61: =UPPER(IF($D61="","",VLOOKUP($D61,'Girls Si Main Draw Prep'!$A$7:$P$134,2))) | F61: =IF($D61="","",VLOOKUP($D61,'Girls Si Main Draw Prep'!$A$7:$P$134,3)) | H61: =IF($D61="","",VLOOKUP($D61,'Girls Si Main Draw Prep'!$A$7:$P$134,4)) | J61: =UPPER(IF(OR(I62="a",I62="as"),E61,IF(OR(I62="b",I62="bs"),E62,)))
A62: 56 | B62: =IF($D62="","",VLOOKUP($D62,'Girls Si Main Draw Prep'!$A$7:$P$134,15)) | C62: =IF($D62="","",VLOOKUP($D62,'Girls Si Main Draw Prep'!$A$7:$P$134,16)) | E62: =UPPER(IF($D62="","",VLOOKUP($D62,'Girls Si Main Draw Prep'!$A$7:$P$134,2))) | F62: =IF($D62="","",VLOOKUP($D62,'Girls Si Main Draw Prep'!$A$7:$P$134,3)) | H62: =IF($D62="","",VLOOKUP($D62,'Girls Si Main Draw Prep'!$A$7:$P$134,4)) | N62: Umpire | P62: =UPPER(IF(OR(O62="a",O62="as"),N58,IF(OR(O62="b",O62="bs"),N66,)))
A63: 57 | B63: =IF($D63="","",VLOOKUP($D63,'Girls Si Main Draw Prep'!$A$7:$P$134,15)) | C63: =IF($D63="","",VLOOKUP($D63,'Girls Si Main Draw Prep'!$A$7:$P$134,16)) | E63: =UPPER(IF($D63="","",VLOOKUP($D63,'Girls Si Main Draw Prep'!$A$7:$P$134,2))) | F63: =IF($D63="","",VLOOKUP($D63,'Girls Si Main Draw Prep'!$A$7:$P$134,3)) | H63: =IF($D63="","",VLOOKUP($D63,'Girls Si Main Draw Prep'!$A$7:$P$134,4)) | J63: =UPPER(IF(OR(I64="a",I64="as"),E63,IF(OR(I64="b",I64="bs"),E64,)))
A64: 58 | B64: =IF($D64="","",VLOOKUP($D64,'Girls Si Main Draw Prep'!$A$7:$P$134,15)) | C64: =IF($D64="","",VLOOKUP($D64,'Girls Si Main Draw Prep'!$A$7:$P$134,16)) | E64: =UPPER(IF($D64="","",VLOOKUP($D64,'Girls Si Main Draw Prep'!$A$7:$P$134,2))) | F64: =IF($D64="","",VLOOKUP($D64,'Girls Si Main Draw Prep'!$A$7:$P$134,3)) | H64: =IF($D64="","",VLOOKUP($D64,'Girls Si Main Draw Prep'!$A$7:$P$134,4)) | L64: =UPPER(IF(OR(K64="a",K64="as"),J63,IF(OR(K64="b",K64="bs"),J65,)))
A65: 59 | B65: =IF($D65="","",VLOOKUP($D65,'Girls Si Main Draw Prep'!$A$7:$P$134,15)) | C65: =IF($D65="","",VLOOKUP($D65,'Girls Si Main Draw Prep'!$A$7:$P$134,16)) | E65: =UPPER(IF($D65="","",VLOOKUP($D65,'Girls Si Main Draw Prep'!$A$7:$P$134,2))) | F65: =IF($D65="","",VLOOKUP($D65,'Girls Si Main Draw Prep'!$A$7:$P$134,3)) | H65: =IF($D65="","",VLOOKUP($D65,'Girls Si Main Draw Prep'!$A$7:$P$134,4)) | J65: =UPPER(IF(OR(I66="a",I66="as"),E65,IF(OR(I66="b",I66="bs"),E66,)))
A66: 60 | B66: =IF($D66="","",VLOOKUP($D66,'Girls Si Main Draw Prep'!$A$7:$P$134,15)) | C66: =IF($D66="","",VLOOKUP($D66,'Girls Si Main Draw Prep'!$A$7:$P$134,16)) | E66: =UPPER(IF($D66="","",VLOOKUP($D66,'Girls Si Main Draw Prep'!$A$7:$P$134,2))) | F66: =IF($D66="","",VLOOKUP($D66,'Girls Si Main Draw Prep'!$A$7:$P$134,3)) | H66: =IF($D66="","",VLOOKUP($D66,'Girls Si Main Draw Prep'!$A$7:$P$134,4)) | L66: Umpire | N66: =UPPER(IF(OR(M66="a",M66="as"),L64,IF(OR(M66="b",M66="bs"),L68,)))
A67: 61 | B67: =IF($D67="","",VLOOKUP($D67,'Girls Si Main Draw Prep'!$A$7:$P$134,15)) | C67: =IF($D67="","",VLOOKUP($D67,'Girls Si Main Draw Prep'!$A$7:$P$134,16)) | E67: =UPPER(IF($D67="","",VLOOKUP($D67,'Girls Si Main Draw Prep'!$A$7:$P$134,2))) | F67: =IF($D67="","",VLOOKUP($D67,'Girls Si Main Draw Prep'!$A$7:$P$134,3)) | H67: =IF($D67="","",VLOOKUP($D67,'Girls Si Main Draw Prep'!$A$7:$P$134,4)) | J67: =UPPER(IF(OR(I68="a",I68="as"),E67,IF(OR(I68="b",I68="bs"),E68,)))
A68: 62 | B68: =IF($D68="","",VLOOKUP($D68,'Girls Si Main Draw Prep'!$A$7:$P$134,15)) | C68: =IF($D68="","",VLOOKUP($D68,'Girls Si Main Draw Prep'!$A$7:$P$134,16)) | E68: =UPPER(IF($D68="","",VLOOKUP($D68,'Girls Si Main Draw Prep'!$A$7:$P$134,2))) | F68: =IF($D68="","",VLOOKUP($D68,'Girls Si Main Draw Prep'!$A$7:$P$134,3)) | H68: =IF($D68="","",VLOOKUP($D68,'Girls Si Main Draw Prep'!$A$7:$P$134,4)) | L68: =UPPER(IF(OR(K68="a",K68="as"),J67,IF(OR(K68="b",K68="bs"),J69,)))
A69: 63 | B69: =IF($D69="","",VLOOKUP($D69,'Girls Si Main Draw Prep'!$A$7:$P$134,15)) | C69: =IF($D69="","",VLOOKUP($D69,'Girls Si Main Draw Prep'!$A$7:$P$134,16)) | E69: =UPPER(IF($D69="","",VLOOKUP($D69,'Girls Si Main Draw Prep'!$A$7:$P$134,2))) | F69: =IF($D69="","",VLOOKUP($D69,'Girls Si Main Draw Prep'!$A$7:$P$134,3)) | H69: =IF($D69="","",VLOOKUP($D69,'Girls Si Main Draw Prep'!$A$7:$P$134,4)) | J69: =UPPER(IF(OR(I70="a",I70="as"),E69,IF(OR(I70="b",I70="bs"),E70,)))
A70: 64 | B70: =IF($D70="","",VLOOKUP($D70,'Girls Si Main Draw Prep'!$A$7:$P$134,15)) | C70: =IF($D70="","",VLOOKUP($D70,'Girls Si Main Draw Prep'!$A$7:$P$134,16)) | E70: =UPPER(IF($D70="","",VLOOKUP($D70,'Girls Si Main Draw Prep'!$A$7:$P$134,2))) | F70: =IF($D70="","",VLOOKUP($D70,'Girls Si Main Draw Prep'!$A$7:$P$134,3)) | H70: =IF($D70="","",VLOOKUP($D70,'Girls Si Main Draw Prep'!$A$7:$P$134,4))
A72: Acc. Ranking | D72: # | E72: Seeded players | F72: # | G72: Seeded players | I72: # | J72: Lucky Losers | L72: Replacing | N72: Draw date/time:
A73: Rkg Date | D73: 1 | E73: =IF(D73>$Q$80,,UPPER(VLOOKUP(D73,'Girls Si Main Draw Prep'!$A$7:$R$134,2))) -> 0 | F73: 9 | G73: =IF(F73>$Q$80,,UPPER(VLOOKUP(F73,'Girls Si Main Draw Prep'!$A$7:$R$134,2))) -> 0 | I73: 1 | N73: Last Accepted player
A74: Top DA | D74: 2 | E74: =IF(D74>$Q$80,,UPPER(VLOOKUP(D74,'Girls Si Main Draw Prep'!$A$7:$R$134,2))) -> 0 | F74: 10 | G74: =IF(F74>$Q$80,,UPPER(VLOOKUP(F74,'Girls Si Main Draw Prep'!$A$7:$R$134,2))) -> 0 | I74: 2
A75: Last DA | D75: 3 | E75: =IF(D75>$Q$80,,UPPER(VLOOKUP(D75,'Girls Si Main Draw Prep'!$A$7:$R$134,2))) -> 0 | F75: 11 | G75: =IF(F75>$Q$80,,UPPER(VLOOKUP(F75,'Girls Si Main Draw Prep'!$A$7:$R$134,2))) -> 0 | I75: 3 | N75: Player representatives
